BEGIN:VCALENDAR
VERSION:2.0
PRODID:-//Toastmasters District 52 - ECPv6.15.20//NONSGML v1.0//EN
CALSCALE:GREGORIAN
METHOD:PUBLISH
X-ORIGINAL-URL:https://www.district52.org
X-WR-CALDESC:Events for Toastmasters District 52
REFRESH-INTERVAL;VALUE=DURATION:PT1H
X-Robots-Tag:noindex
X-PUBLISHED-TTL:PT1H
BEGIN:VTIMEZONE
TZID:America/Los_Angeles
BEGIN:DAYLIGHT
TZOFFSETFROM:-0800
TZOFFSETTO:-0700
TZNAME:PDT
DTSTART:20250309T100000
END:DAYLIGHT
BEGIN:STANDARD
TZOFFSETFROM:-0700
TZOFFSETTO:-0800
TZNAME:PST
DTSTART:20251102T090000
END:STANDARD
BEGIN:DAYLIGHT
TZOFFSETFROM:-0800
TZOFFSETTO:-0700
TZNAME:PDT
DTSTART:20260308T100000
END:DAYLIGHT
BEGIN:STANDARD
TZOFFSETFROM:-0700
TZOFFSETTO:-0800
TZNAME:PST
DTSTART:20261101T090000
END:STANDARD
BEGIN:DAYLIGHT
TZOFFSETFROM:-0800
TZOFFSETTO:-0700
TZNAME:PDT
DTSTART:20270314T100000
END:DAYLIGHT
BEGIN:STANDARD
TZOFFSETFROM:-0700
TZOFFSETTO:-0800
TZNAME:PST
DTSTART:20271107T090000
END:STANDARD
END:VTIMEZONE
BEGIN:VEVENT
DTSTART;TZID=America/Los_Angeles:20260121T183000
DTEND;TZID=America/Los_Angeles:20260121T203000
DTSTAMP:20260423T112612
CREATED:20260105T090205Z
LAST-MODIFIED:20260105T090205Z
UID:15419-1769020200-1769027400@www.district52.org
SUMMARY:District 52 January Workshop
DESCRIPTION:Please click here to register for the workshop.
URL:https://www.district52.org/event/district-52-january-workshop/
LOCATION:ZOOM
ATTACH;FMTTYPE=image/png:https://www.district52.org/wp-content/uploads/2026/01/January-Workshop-2026.png
ORGANIZER;CN="Gene Graves":MAILTO:geneg@wctoastmasters.com
END:VEVENT
BEGIN:VEVENT
DTSTART;TZID=America/Los_Angeles:20260124T090000
DTEND;TZID=America/Los_Angeles:20260124T130000
DTSTAMP:20260423T112612
CREATED:20260105T085244Z
LAST-MODIFIED:20260105T085637Z
UID:15411-1769245200-1769259600@www.district52.org
SUMMARY:District 52 Toastmasters Leadership Institute
DESCRIPTION:Click here or on the announcement below to register for the TLI.
URL:https://www.district52.org/event/district-52-toastmasters-leadership-institute/
LOCATION:ZOOM
CATEGORIES:Club Officer Training,Conference,Membership Building,Officer Training,Training,Virtual,Virtual Meeting,Virtual Training,Workshop,Zoom
ATTACH;FMTTYPE=image/png:https://www.district52.org/wp-content/uploads/2026/01/TLI-Banner.png
ORGANIZER;CN="Gene Graves":MAILTO:geneg@wctoastmasters.com
END:VEVENT
BEGIN:VEVENT
DTSTART;TZID=America/Los_Angeles:20260126T183000
DTEND;TZID=America/Los_Angeles:20260126T203000
DTSTAMP:20260423T112612
CREATED:20251223T081504Z
LAST-MODIFIED:20251229T200205Z
UID:15382-1769452200-1769459400@www.district52.org
SUMMARY:Ten Years to Overnight Success
DESCRIPTION:
URL:https://www.district52.org/event/ten-years-to-overnight-success/
LOCATION:West Valley Animal Shelter\, 20655 Plummer St\, Chatsworth\, 91311\, United States
CATEGORIES:Club,Community Club
END:VEVENT
BEGIN:VEVENT
DTSTART;TZID=America/Los_Angeles:20260127T190000
DTEND;TZID=America/Los_Angeles:20260127T203000
DTSTAMP:20260423T112612
CREATED:20260108T075624Z
LAST-MODIFIED:20260108T075625Z
UID:15454-1769540400-1769545800@www.district52.org
SUMMARY:Toastmasters Speechcraft
DESCRIPTION:
URL:https://www.district52.org/event/toastmasters-speechcraft/
LOCATION:St Mel Catholic Church\, 20870 Ventura Blvd\, Woodland Hills\, CA\, United States
CATEGORIES:District Event,Meetings,Workshop
ATTACH;FMTTYPE=image/png:https://www.district52.org/wp-content/uploads/2026/01/Speechcraft-flyer.png
END:VEVENT
BEGIN:VEVENT
DTSTART;TZID=America/Los_Angeles:20260128T174500
DTEND;TZID=America/Los_Angeles:20260128T193000
DTSTAMP:20260423T112612
CREATED:20260123T062101Z
LAST-MODIFIED:20260123T062102Z
UID:15514-1769622300-1769628600@www.district52.org
SUMMARY:Valencia Toastmasters Open House
DESCRIPTION: “Live Mix & Mingle.” Professional growth & Area B22 expertise starts here!\nWelcome to Valencia Toastmasters Club‘s\nOPEN HOUSE! FOOD TOO!!\nShow up at (5:45 early bird) 6:00 pm for our TOASTMASTERS LIVE PODCAST*. Themed “what do you want achieve in Toastmasters in 2026?”\nCome join us for an evening of fun and learning at 25124 Springfield Ct\, Ste 170 on Wednesday January 28\, 2026 at 5:45 (early bird) 6:00 PM (Pacific Time).\nThe “Live Mic” Experience:\nWe are running a hosted\, LIVE podcast station throughout the event!\n• Early Arrival & Mingling: Arrive early or step out during the “social” portions of our meeting to jump on the mic with Area B22 Director Bill.\n• The Challenge: Give a 2-3 minute response to: “What do you want to achieve in Toastmasters – 2026?”\n• The Tech: Meet the experts from FutureTech Connections who provide advanced production support to all our Area B22 clubs (60 Minute\, Santa Clarita\, and Neuro Orators).\nEvent Highlights:\n• Dynamic Meeting: Experience a world-class Toastmasters session.\n• Networking: Meet Area Director William Guthrie and leaders from across the region.\n• Drop-in Podcasting: Record your segment at your convenience during our mingle times.\nStop by and see why Area B22 is the region’s leader in modern communication!\nShow up at (5:45 early bird) 6:00 pm for our TOASTMASTERS LIVE PODCAST*.\nThemed “what do you want achieve in Toastmasters in 2026?”\n\n\n25124 Springfield Ct\, Ste 170\nSanta Clarita\, CA\nJanuary 28\, 2026
URL:https://www.district52.org/event/valencia-toastmasters-open-house-2/
LOCATION:Santa Clarita\, 25124 Springfield Ct\, Ste 170\, Santa Clarita\, CA\, United States
CATEGORIES:Open House
ORGANIZER;CN="Bill Guthrie":MAILTO:vpm@valenciatoatmasters.org
END:VEVENT
BEGIN:VEVENT
DTSTART;TZID=America/Los_Angeles:20260129T120000
DTEND;TZID=America/Los_Angeles:20260129T133000
DTSTAMP:20260423T112612
CREATED:20260126T044122Z
LAST-MODIFIED:20260126T044123Z
UID:15523-1769688000-1769693400@www.district52.org
SUMMARY:Club Officer Training - All Positions
DESCRIPTION:Victoria Maltsev will lead this training session to help to prepare you to execute the responsibilities of your club officer position.\nPlease click this link to register for the training.
URL:https://www.district52.org/event/club-officer-training-all-positions-4/
LOCATION:ZOOM
CATEGORIES:Club Officer Training,Officer Training,Training,Virtual,Virtual Meeting,Virtual Training,Zoom
ATTACH;FMTTYPE=image/png:https://www.district52.org/wp-content/uploads/2022/08/Copy-of-NEW-BANNER-SIZE-1.png
END:VEVENT
END:VCALENDAR