BEGIN:VCALENDAR
VERSION:2.0
PRODID:-//Toastmasters District 52 - ECPv6.15.20//NONSGML v1.0//EN
CALSCALE:GREGORIAN
METHOD:PUBLISH
X-WR-CALNAME:Toastmasters District 52
X-ORIGINAL-URL:https://www.district52.org
X-WR-CALDESC:Events for Toastmasters District 52
REFRESH-INTERVAL;VALUE=DURATION:PT1H
X-Robots-Tag:noindex
X-PUBLISHED-TTL:PT1H
BEGIN:VTIMEZONE
TZID:America/Los_Angeles
BEGIN:DAYLIGHT
TZOFFSETFROM:-0800
TZOFFSETTO:-0700
TZNAME:PDT
DTSTART:20240310T100000
END:DAYLIGHT
BEGIN:STANDARD
TZOFFSETFROM:-0700
TZOFFSETTO:-0800
TZNAME:PST
DTSTART:20241103T090000
END:STANDARD
BEGIN:DAYLIGHT
TZOFFSETFROM:-0800
TZOFFSETTO:-0700
TZNAME:PDT
DTSTART:20250309T100000
END:DAYLIGHT
BEGIN:STANDARD
TZOFFSETFROM:-0700
TZOFFSETTO:-0800
TZNAME:PST
DTSTART:20251102T090000
END:STANDARD
BEGIN:DAYLIGHT
TZOFFSETFROM:-0800
TZOFFSETTO:-0700
TZNAME:PDT
DTSTART:20260308T100000
END:DAYLIGHT
BEGIN:STANDARD
TZOFFSETFROM:-0700
TZOFFSETTO:-0800
TZNAME:PST
DTSTART:20261101T090000
END:STANDARD
END:VTIMEZONE
BEGIN:VEVENT
DTSTART;TZID=America/Los_Angeles:20250607T190000
DTEND;TZID=America/Los_Angeles:20250607T220000
DTSTAMP:20260423T210651
CREATED:20250524T065557Z
LAST-MODIFIED:20250524T074150Z
UID:14857-1749322800-1749333600@www.district52.org
SUMMARY:🔥 Discover\, Learn\, and Be Inspired at Our #SeriouslyFun Toastmasters Open House – Saturday\, June 7th! 🔥
DESCRIPTION:We’re especially excited to invite you to our next #SeriouslyFun Toastmasters meeting — our Open House\, happening Saturday\, June 7th at 7:00 PM PT / 10:00PM ET Hybrid Meeting. \nThis isn’t just another meeting — it’s a showcase of some of Toastmasters’ brightest voices and most inspiring minds\, and we want YOU to be there. Whether you’re a long-time Toastmaster\, a newly “hatched” DTM\, or simply Toastmaster-curious\, this event promises growth\, insight\, and connection. \nHere’s a peek at what’s in store:\n\n\n\n Keynote Speaker: Roberta Perry\, DTM\n–  Featured in the May 2025 issue of Toastmaster Magazine\n→ Watch her feature\n→ Read the article\nTitle: Advanced Tips for “Selling” Transferable Skills\nRoberta’s powerful message reminds us that we often overlook the valuable transferable skills developed in Toastmasters leadership roles.  \nSpeaking from Strategic Relationships\, Level 1\, she’ll share:\n\nA list of recognized and two “new” skills you might be missing.\nThree interactive ways clubs and individuals can identify and apply these skills outside the club — in life\, business\, and beyond.\nAnd yes… she wants YOUR ideas in the chat!\n\n\n Fursey Gotauco – Finalist\, 2024 World Championship of Public Speaking\n→ Watch “Who’s in the Chair?”\nTitle: The Me In We\n“The most beautiful place in the world is the intersection where you and your audience meet.”\nFursey will guide us along the path to finding that magical intersection. If you’re looking to elevate your storytelling and connection with audiences\, this talk is your roadmap. \n\n\n\n Maurice DiMino\, DTM\, Accredited Speaker\, TEDx Speaker\n→ Watch his Accredited Speaker Journey\n→ Watch his TEDx Talk: “What’s Your Story?”\nTitle: How to Become a Professional Speaker (in 5 to 7 Minutes)!\nMaurice brings energy\, wisdom\, and practical steps for turning your Toastmasters experience into a professional speaking platform. If you’re curious how to take your speaking to the next level\, Maurice will show you the way—with fun and insight! \n\nThese three powerhouse speakers will share their journeys\, tools\, and tips for how advanced Toastmasters can thrive in a supportive\, challenging\, and seriously fun advanced club.\n Who Should Attend?\n\nAdvanced Toastmasters seeking inspiration\nToastmasters looking for an Advanced Club\nAnyone eager to sharpen leadership\, evaluation\, and communication skills\n\n\n\n\n HYBRID MEETING\nIn-Person Location:\nGranada Hills Chamber-Commerce\n17723 Chatsworth St\, Granada Hills\, CA 91344\n Zoom Info\n Zoom ID: 872 3166 3756\n Passcode: WnDTM\n Join the Zoom Meeting\n\n\n\nIf you believe that surrounding yourself with Toastmasters giants could elevate your growth and sharpen your skills\, this is your invitation to join us. Let’s grow together in an inspiring space designed for learning\, stretching\, and thriving.
URL:https://www.district52.org/event/%f0%9f%94%a5-discover-learn-and-be-inspired-at-our-seriouslyfun-toastmasters-open-house-saturday-june-7th-%f0%9f%94%a5/
LOCATION:Granada Hills Chamber-Commerce\, 17723 Chatsworth St\, Granada Hills\, CA\, 91344\, United States
ORGANIZER;CN="Maurice DiMino%2C DTM%2C AS":MAILTO:maurice@mauricedimino.com
END:VEVENT
BEGIN:VEVENT
DTSTART;TZID=America/Los_Angeles:20250614T090000
DTEND;TZID=America/Los_Angeles:20250614T130000
DTSTAMP:20260423T210651
CREATED:20250602T191814Z
LAST-MODIFIED:20250603T032738Z
UID:14875-1749891600-1749906000@www.district52.org
SUMMARY:Toastmasters Leadership Institute (TLI)
DESCRIPTION:We invite you to join us at the District 52 Toastmasters Leadership Institute (TLI) on:\n Saturday\, June 14\, 2025\n 9:00 AM – 1:00 PM Pacific Time\n Online via Zoom\n Register Here\n Why Club Officer Training Matters:\n\n\n Helps your club earn Distinguished status\n\n\n Gives you the tools and confidence to excel in your officer role\n\n\n Learn best practices\, avoid common mistakes\, and build leadership skills\n\n\n Connect with other officers and exchange ideas that work\n\n\n What to Expect:\n Club Officer Training\nHands-on\, role-specific sessions designed to help you succeed in your leadership position. Whether you’re President\, VP Education\, Secretary\, or any other officer\, there’s a session tailored for you.\n Keynote Speaker: Jesse Oakley III\, DTM \nPast International Director and Past District 33 Director\nJesse will deliver an energizing and inspiring message to kick off the event—don’t miss it!\n Featured Workshops:\n\n\n“The New Distinguished Club Program”\nWith Past International Director Roberta Perry\, DTM \n\n“Pathways Made Simple”\nWith Dawn Jenkins\, DTM\, District 52 Pathways Team Leader\n\n Reminder:\nAttending TLI COT fulfills the first round of required officer training (June–August) for the 2025–2026 Toastmasters year. Clubs must have at least 4 officers trained to be eligible for the Distinguished Club Program credit.\nDon’t miss this opportunity to get trained\, get inspired\, and start the year strong!\nWarm regards\,\n\nJohn Murray\, DTMDistrict 52 Program Quality Director\nDistrict Director-electDistrict 52 Toastmaster of the Year2022 – 2023\n\nRegistration Link
URL:https://www.district52.org/event/toastmasters-leadership-institute-tli-2/
LOCATION:CA
END:VEVENT
BEGIN:VEVENT
DTSTART;TZID=America/Los_Angeles:20250624T190000
DTEND;TZID=America/Los_Angeles:20250624T203000
DTSTAMP:20260423T210651
CREATED:20250615T191017Z
LAST-MODIFIED:20250615T191018Z
UID:14902-1750791600-1750797000@www.district52.org
SUMMARY:D52 Club Officer Training - All Positions
DESCRIPTION:Marianne Toghia\, DTM\, will lead this training session to help prepare you to execute the responsibilities of your club officer position. \nPlease click this link to register for the training.
URL:https://www.district52.org/event/d52-club-officer-training-all-positions/
LOCATION:ZOOM
ATTACH;FMTTYPE=image/png:https://www.district52.org/wp-content/uploads/2024/10/D52-Training.png
END:VEVENT
END:VCALENDAR