BEGIN:VCALENDAR
VERSION:2.0
PRODID:-//Toastmasters District 52 - ECPv6.15.20//NONSGML v1.0//EN
CALSCALE:GREGORIAN
METHOD:PUBLISH
X-WR-CALNAME:Toastmasters District 52
X-ORIGINAL-URL:https://www.district52.org
X-WR-CALDESC:Events for Toastmasters District 52
REFRESH-INTERVAL;VALUE=DURATION:PT1H
X-Robots-Tag:noindex
X-PUBLISHED-TTL:PT1H
BEGIN:VTIMEZONE
TZID:America/Los_Angeles
BEGIN:DAYLIGHT
TZOFFSETFROM:-0800
TZOFFSETTO:-0700
TZNAME:PDT
DTSTART:20240310T100000
END:DAYLIGHT
BEGIN:STANDARD
TZOFFSETFROM:-0700
TZOFFSETTO:-0800
TZNAME:PST
DTSTART:20241103T090000
END:STANDARD
BEGIN:DAYLIGHT
TZOFFSETFROM:-0800
TZOFFSETTO:-0700
TZNAME:PDT
DTSTART:20250309T100000
END:DAYLIGHT
BEGIN:STANDARD
TZOFFSETFROM:-0700
TZOFFSETTO:-0800
TZNAME:PST
DTSTART:20251102T090000
END:STANDARD
BEGIN:DAYLIGHT
TZOFFSETFROM:-0800
TZOFFSETTO:-0700
TZNAME:PDT
DTSTART:20260308T100000
END:DAYLIGHT
BEGIN:STANDARD
TZOFFSETFROM:-0700
TZOFFSETTO:-0800
TZNAME:PST
DTSTART:20261101T090000
END:STANDARD
END:VTIMEZONE
BEGIN:VEVENT
DTSTART;TZID=America/Los_Angeles:20250503T190000
DTEND;TZID=America/Los_Angeles:20250503T203000
DTSTAMP:20260423T223355
CREATED:20250423T042731Z
LAST-MODIFIED:20250423T153658Z
UID:14773-1746298800-1746304200@www.district52.org
SUMMARY:🎯 CALLING ALL TOASTMASTERS! 🎯
DESCRIPTION: THE EVALUATION CLINIC \n Saturday\, May 3rd\n 7:00 PM PT / 10:00 PM ET\n Online via Zoom (ID: 872 3166 3756 | Passcode: WnDTM)\n Join Zoom Meeting \nThis specialty meeting is your chance to witness and participate in a next-level evaluation experience.  Here’s how it works:\n We’ll feature a Guest Speaker delivering a full speech. (We’re especially inviting any 2024 International Speech Contest participants to be our Guest Speaker—message us if you’re interested!)\n Then\, a team of Evaluators will each deliver their take on the speech.\n Are YOU competing in this year’s Evaluation Contest?  Apply now to be one of our Evaluators!\n And here’s the twist…\nWe’ve assembled THREE Master Evaluators who will evaluate the Evaluators:\n Fursey Gotuaco – TEDx Coach\, World Champion Finalist\, Gallup Strengths Coach\n Carl Walsh – Leadership Strategist\, Co-Founder of Alpha Dog Group\n Maurice DiMino – TEDx Speaker\, Accredited Toastmasters Speaker\, 3\,000+ Presentations\n Whether you’re delivering feedback\, receiving it\, or observing — you’ll leave this meeting a stronger\, smarter evaluator.\nThis is the kind of meeting that only happens at #SeriouslyFun Toastmasters.\n Mark your calendars.  Invite your club.  Come ready to learn.\n To participate as a Speaker or Evaluator – please apply by sending your information to Hidi Lee\, President\, #SeriouslyFun Toastmasters\, hidi@hidilee.com\nThank you again\,\nMaurice\nVPPR – #SeriouslyFun Toastmasters
URL:https://www.district52.org/event/%f0%9f%8e%af-calling-all-toastmasters-%f0%9f%8e%af/
LOCATION:ZOOM
ORGANIZER;CN="Maurice DiMino%2C DTM%2C AS":MAILTO:maurice@mauricedimino.com
END:VEVENT
BEGIN:VEVENT
DTSTART;TZID=America/Los_Angeles:20250515T183000
DTEND;TZID=America/Los_Angeles:20250515T200000
DTSTAMP:20260423T223355
CREATED:20250414T054057Z
LAST-MODIFIED:20250414T054057Z
UID:14763-1747333800-1747339200@www.district52.org
SUMMARY:2025 District Council Business Meeting
DESCRIPTION:District Council Business Meeting\nThursday\, May 15 at 6:30 PM via Zoom.\nYour attendance is essential\, as we’ll be voting on several key items that will shape the future of our District.\nPlease click to register for the District Council Business Meeting\nPlease note the following important voting guidelines: \n\nProxies are not allowed.\nOnly Club Presidents and Vice Presidents of Education (VPEs) are eligible to vote on behalf of their clubs.\nDEC members (Area Director\, Division Director etc) are eligible to vote \nEach District Council member may carry a maximum of 3 votes – one for themselves and up to two if they hold multiple eligible positions (e.g. Club President\, VPE\, District Leader).\n\nOnly registered voting members will receive the credentials to vote.  Your presence and participation are crucial for quorum and for your club’s voice to be heard. \nThank you for your continued leadership and commitment to Toastmasters’ mission.  If you have any questions or require clarification\, don’t hesitate to reach out. \nThanks \n\n\nRuchin Gupta\, DTM | District 52 |  District Director (2024-2025)
URL:https://www.district52.org/event/2025-district-council-business-meeting/
LOCATION:ZOOM
CATEGORIES:District Event
ATTACH;FMTTYPE=image/png:https://www.district52.org/wp-content/uploads/2022/04/Business-Meeting-Packet.png
ORGANIZER;CN="Ruchin Gupta":MAILTO:ruchingupta23@gmail.com
END:VEVENT
BEGIN:VEVENT
DTSTART;TZID=America/Los_Angeles:20250517T083000
DTEND;TZID=America/Los_Angeles:20250517T170000
DTSTAMP:20260423T223355
CREATED:20250324T091107Z
LAST-MODIFIED:20250509T031213Z
UID:14678-1747470600-1747501200@www.district52.org
SUMMARY:District 52 Spring Conference and Speech Contests
DESCRIPTION:
URL:https://www.district52.org/event/2025-spring-conference/
LOCATION:Glendale Community College\, 1500 N Verdugo Rd.\, Glendale\, CA\, 91208
CATEGORIES:Conference,Contest
ORGANIZER;CN="Ruchin Gupta":MAILTO:ruchingupta23@gmail.com
END:VEVENT
BEGIN:VEVENT
DTSTART;TZID=America/Los_Angeles:20250520T183000
DTEND;TZID=America/Los_Angeles:20250520T203000
DTSTAMP:20260423T223355
CREATED:20240711T044447Z
LAST-MODIFIED:20250516T060957Z
UID:13605-1747765800-1747773000@www.district52.org
SUMMARY:District 52 Monthly Workshop
DESCRIPTION:Registration at this link \nOr open Zoom and use Meeting Number 871 6223 8722
URL:https://www.district52.org/event/district-52-monthly-workshop-2-2025-05-20/
LOCATION:ZOOM
CATEGORIES:District Event,Pathways,Training,Virtual,Virtual Meeting,Virtual Training,Workshop,Zoom
ATTACH;FMTTYPE=image/png:https://www.district52.org/wp-content/uploads/2020/08/Dawn-pathways.png
END:VEVENT
END:VCALENDAR