BEGIN:VCALENDAR
VERSION:2.0
PRODID:-//Toastmasters District 52 - ECPv6.15.20//NONSGML v1.0//EN
CALSCALE:GREGORIAN
METHOD:PUBLISH
X-WR-CALNAME:Toastmasters District 52
X-ORIGINAL-URL:https://www.district52.org
X-WR-CALDESC:Events for Toastmasters District 52
REFRESH-INTERVAL;VALUE=DURATION:PT1H
X-Robots-Tag:noindex
X-PUBLISHED-TTL:PT1H
BEGIN:VTIMEZONE
TZID:America/Los_Angeles
BEGIN:DAYLIGHT
TZOFFSETFROM:-0800
TZOFFSETTO:-0700
TZNAME:PDT
DTSTART:20240310T100000
END:DAYLIGHT
BEGIN:STANDARD
TZOFFSETFROM:-0700
TZOFFSETTO:-0800
TZNAME:PST
DTSTART:20241103T090000
END:STANDARD
BEGIN:DAYLIGHT
TZOFFSETFROM:-0800
TZOFFSETTO:-0700
TZNAME:PDT
DTSTART:20250309T100000
END:DAYLIGHT
BEGIN:STANDARD
TZOFFSETFROM:-0700
TZOFFSETTO:-0800
TZNAME:PST
DTSTART:20251102T090000
END:STANDARD
BEGIN:DAYLIGHT
TZOFFSETFROM:-0800
TZOFFSETTO:-0700
TZNAME:PDT
DTSTART:20260308T100000
END:DAYLIGHT
BEGIN:STANDARD
TZOFFSETFROM:-0700
TZOFFSETTO:-0800
TZNAME:PST
DTSTART:20261101T090000
END:STANDARD
END:VTIMEZONE
BEGIN:VEVENT
DTSTART;TZID=America/Los_Angeles:20250309T140000
DTEND;TZID=America/Los_Angeles:20250309T180000
DTSTAMP:20260424T014115
CREATED:20250129T080023Z
LAST-MODIFIED:20250129T080140Z
UID:14440-1741528800-1741543200@www.district52.org
SUMMARY:District 52 Division A International and Evaluation Area Speech Contests
DESCRIPTION:Division A Area Speech Contest
URL:https://www.district52.org/event/district-52-division-a-international-and-evaluation-area-speech-contests/
LOCATION:St Mel Catholic Church\, 20870 Ventura Blvd\, Woodland Hills\, CA\, United States
ATTACH;FMTTYPE=image/png:https://www.district52.org/wp-content/uploads/2025/01/DivA-Area.png
END:VEVENT
BEGIN:VEVENT
DTSTART;TZID=America/Los_Angeles:20250316T140000
DTEND;TZID=America/Los_Angeles:20250316T180000
DTSTAMP:20260424T014115
CREATED:20250129T081122Z
LAST-MODIFIED:20250129T081123Z
UID:14444-1742133600-1742148000@www.district52.org
SUMMARY:District 52 Division F International and Evaluation Area Speech Contests
DESCRIPTION:Division F Area Speech Contest
URL:https://www.district52.org/event/district-52-division-f-international-and-evaluation-area-speech-contests/
LOCATION:St Mel Catholic Church\, 20870 Ventura Blvd\, Woodland Hills\, CA\, United States
CATEGORIES:Contest,Speech Contest
ATTACH;FMTTYPE=image/png:https://www.district52.org/wp-content/uploads/2025/01/DivF-Area.png
END:VEVENT
BEGIN:VEVENT
DTSTART;TZID=America/Los_Angeles:20250318T183000
DTEND;TZID=America/Los_Angeles:20250318T203000
DTSTAMP:20260424T014115
CREATED:20240711T044447Z
LAST-MODIFIED:20250312T215412Z
UID:13603-1742322600-1742329800@www.district52.org
SUMMARY:District 52 Monthly Workshop
DESCRIPTION:Special monthly topic from 8:00 pm – 9:00 pm\n\nIt’s speech contest session!\nLawrence Quesada\, DTM\, Past District Director\, will describe all you need to know about contest roles.\n  \nPathways Training conducted by Pathways Team Leader Dawn Jenkins from 6:30 pm – 8:00 pm\nCalling all new Presidents\, VP Education and Club Secretaries! \nYou are Pathways Base Camp Managers now! \nIt’s time to lead your club in Pathways!\n\nRegistration at this link \nOr open Zoom and use Meeting Number 871 6223 8722
URL:https://www.district52.org/event/district-52-monthly-workshop-2-2025-03-18/
LOCATION:ZOOM
CATEGORIES:District Event,Pathways,Training,Virtual,Virtual Meeting,Virtual Training,Workshop,Zoom
ATTACH;FMTTYPE=image/jpeg:https://www.district52.org/wp-content/uploads/2025/03/District-52-Workshop-March_18_2025-rv.jpg
END:VEVENT
BEGIN:VEVENT
DTSTART;TZID=America/Los_Angeles:20250329T080000
DTEND;TZID=America/Los_Angeles:20250329T123000
DTSTAMP:20260424T014115
CREATED:20241227T192807Z
LAST-MODIFIED:20250307T085100Z
UID:14298-1743235200-1743251400@www.district52.org
SUMMARY:Division C Area Speech Contests
DESCRIPTION:                         In person only
URL:https://www.district52.org/event/division-c-area-speech-contests/
LOCATION:St Mel Catholic Church\, 20870 Ventura Blvd\, Woodland Hills\, CA\, United States
CATEGORIES:Contest,District Event,Speech Contest
ATTACH;FMTTYPE=image/jpeg:https://www.district52.org/wp-content/uploads/2024/12/dic-area-a.jpg
END:VEVENT
BEGIN:VEVENT
DTSTART;TZID=America/Los_Angeles:20250329T100000
DTEND;TZID=America/Los_Angeles:20250329T140000
DTSTAMP:20260424T014115
CREATED:20250211T065824Z
LAST-MODIFIED:20250211T072444Z
UID:14534-1743242400-1743256800@www.district52.org
SUMMARY:District 52 Division D - Area International and Evaluation Contests
DESCRIPTION:
URL:https://www.district52.org/event/district-52-division-d-area-international-and-evaluation-contests/
LOCATION:Studios Coworking Space\, 418 Bamboo Ln A\, Los Angeles\, CA\, 90012\, United States
CATEGORIES:Contest
ATTACH;FMTTYPE=image/png:https://www.district52.org/wp-content/uploads/2025/02/DivD-banner.png
ORGANIZER;CN="John Murray%2C DTM%2C PQD":MAILTO:murray_re@yahoo.com
END:VEVENT
BEGIN:VEVENT
DTSTART;TZID=America/Los_Angeles:20250329T100000
DTEND;TZID=America/Los_Angeles:20250329T140000
DTSTAMP:20260424T014115
CREATED:20250310T072312Z
LAST-MODIFIED:20250325T022056Z
UID:14591-1743242400-1743256800@www.district52.org
SUMMARY:District 52 Division E - Area International and Evaluation Contests
DESCRIPTION:
URL:https://www.district52.org/event/district-52-division-e-area-international-and-evaluation-contests/
LOCATION:Studios Coworking Space\, 418 Bamboo Ln A\, Los Angeles\, CA\, 90012\, United States
CATEGORIES:Contest
ATTACH;FMTTYPE=image/png:https://www.district52.org/wp-content/uploads/2025/03/Div-E-Area-Contest.png
END:VEVENT
BEGIN:VEVENT
DTSTART;TZID=America/Los_Angeles:20250330T130000
DTEND;TZID=America/Los_Angeles:20250330T190000
DTSTAMP:20260424T014115
CREATED:20250129T073246Z
LAST-MODIFIED:20250323T051222Z
UID:14437-1743339600-1743361200@www.district52.org
SUMMARY:District 52 Division B International and Evaluation Area Speech Contests
DESCRIPTION:Division B Area Speech Contest
URL:https://www.district52.org/event/district-52-division-b-international-and-evaluation-area-speech-contests/
LOCATION:St Mel Catholic Church\, 20870 Ventura Blvd\, Woodland Hills\, CA\, United States
CATEGORIES:Contest,Speech Contest
ATTACH;FMTTYPE=image/png:https://www.district52.org/wp-content/uploads/2025/01/DivB-Area-2.png
END:VEVENT
END:VCALENDAR