BEGIN:VCALENDAR
VERSION:2.0
PRODID:-//Toastmasters District 52 - ECPv6.15.20//NONSGML v1.0//EN
CALSCALE:GREGORIAN
METHOD:PUBLISH
X-ORIGINAL-URL:https://www.district52.org
X-WR-CALDESC:Events for Toastmasters District 52
REFRESH-INTERVAL;VALUE=DURATION:PT1H
X-Robots-Tag:noindex
X-PUBLISHED-TTL:PT1H
BEGIN:VTIMEZONE
TZID:America/Los_Angeles
BEGIN:DAYLIGHT
TZOFFSETFROM:-0800
TZOFFSETTO:-0700
TZNAME:PDT
DTSTART:20230312T100000
END:DAYLIGHT
BEGIN:STANDARD
TZOFFSETFROM:-0700
TZOFFSETTO:-0800
TZNAME:PST
DTSTART:20231105T090000
END:STANDARD
BEGIN:DAYLIGHT
TZOFFSETFROM:-0800
TZOFFSETTO:-0700
TZNAME:PDT
DTSTART:20240310T100000
END:DAYLIGHT
BEGIN:STANDARD
TZOFFSETFROM:-0700
TZOFFSETTO:-0800
TZNAME:PST
DTSTART:20241103T090000
END:STANDARD
BEGIN:DAYLIGHT
TZOFFSETFROM:-0800
TZOFFSETTO:-0700
TZNAME:PDT
DTSTART:20250309T100000
END:DAYLIGHT
BEGIN:STANDARD
TZOFFSETFROM:-0700
TZOFFSETTO:-0800
TZNAME:PST
DTSTART:20251102T090000
END:STANDARD
END:VTIMEZONE
BEGIN:VEVENT
DTSTART;TZID=America/Los_Angeles:20240709T190000
DTEND;TZID=America/Los_Angeles:20240709T203000
DTSTAMP:20260424T141534
CREATED:20240704T210113Z
LAST-MODIFIED:20240704T210502Z
UID:13548-1720551600-1720557000@www.district52.org
SUMMARY:D52 PANEL - Discussions with your leaders - what do the leadership positions require?
DESCRIPTION:Please click on the poster to register for the July Panel.
URL:https://www.district52.org/event/d52-panel-discussions-with-your-leaders-what-do-the-leadership-positions-require/
LOCATION:ZOOM
END:VEVENT
BEGIN:VEVENT
DTSTART;TZID=America/Los_Angeles:20240714T170000
DTEND;TZID=America/Los_Angeles:20240714T170000
DTSTAMP:20260424T141534
CREATED:20240702T070028Z
LAST-MODIFIED:20240729T192908Z
UID:13545-1720976400-1720976400@www.district52.org
SUMMARY:Club Officer Make-up Training (All Officer Roles)
DESCRIPTION:Red Runyon\, DTM\, will lead this training session. Red is a seasoned Toastmaster and a dynamic trainer.  He will share his many years of experience and knowledge in Toastmasters clubs with you.\n\n7/14/2024\, Sunday 5 pm to 7 pm\, PDT\nRegistration link for Sunday session\, click here. \n7/24/2024\, Wednesday  NOON to 2 pm\, PDT\nRegistration link for Wednesday session\, click here. \n8/03/20Saturday 10 am to 12 noon\, PDT\nRegistration link for Wednesday session\, click here. \n 
URL:https://www.district52.org/event/club-officer-make-up-training-all-officer-roles-2/
LOCATION:ZOOM
ATTACH;FMTTYPE=image/png:https://www.district52.org/wp-content/uploads/2022/08/Copy-of-NEW-BANNER-SIZE-1.png
ORGANIZER;CN="John Murray%2C DTM%2C PQD":MAILTO:murray_re@yahoo.com
END:VEVENT
BEGIN:VEVENT
DTSTART;TZID=America/Los_Angeles:20240716T183000
DTEND;TZID=America/Los_Angeles:20240716T203000
DTSTAMP:20260424T141534
CREATED:20240711T044447Z
LAST-MODIFIED:20240819T230036Z
UID:13594-1721154600-1721161800@www.district52.org
SUMMARY:District 52 Monthly Workshop
DESCRIPTION:Special monthly topic from 6:30 pm – 7:00 pm\n\nCreating a Successful Corporate Club!\nRose Abbott\, DTM\, Past District Director\n  \nPathways Training conducted by Pathways Team Leader Dawn Jenkins from 7:00 pm – 8:30 pm\nCalling all new Presidents\, VP Education and Club Secretaries! \nYou are Pathways Base Camp Managers now! \nIt’s time to lead your club in Pathways!\n\nRegistration at this link \nOr open Zoom and use Meeting Number 871 6223 8722
URL:https://www.district52.org/event/district-52-monthly-workshop-2/
LOCATION:ZOOM
CATEGORIES:District Event,Pathways,Training,Virtual,Virtual Meeting,Virtual Training,Workshop,Zoom
ATTACH;FMTTYPE=image/png:https://www.district52.org/wp-content/uploads/2020/08/Dawn-pathways.png
END:VEVENT
BEGIN:VEVENT
DTSTART;TZID=America/Los_Angeles:20240717T190000
DTEND;TZID=America/Los_Angeles:20240717T210000
DTSTAMP:20260424T141534
CREATED:20240704T230024Z
LAST-MODIFIED:20240715T025252Z
UID:13557-1721242800-1721250000@www.district52.org
SUMMARY:Club Officer Make-up Training (All Officer Roles)
DESCRIPTION:7/17/2024 Wednesday 7 pm to 9 pm PDT.\n\n\n\n\n\n\n\nLawrence Quesada\, DTM\, Past District 52 Director\, will lead this training session to help prepare you for your club officer year.\n  \nRegistration Link for the Wednesday\, July 17 session: Click Here.\n  \n\nRegistration Link for the Wednesday\, July 31 session: Click Here.
URL:https://www.district52.org/event/club-officer-make-up-training-all-officer-roles-3/
LOCATION:CA
CATEGORIES:Club Officer Training,Officer Training,Training,Virtual,Virtual Meeting,Zoom
ATTACH;FMTTYPE=image/png:https://www.district52.org/wp-content/uploads/2022/08/Copy-of-NEW-BANNER-SIZE-1.png
END:VEVENT
BEGIN:VEVENT
DTSTART;TZID=America/Los_Angeles:20240718T100000
DTEND;TZID=America/Los_Angeles:20240718T120000
DTSTAMP:20260424T141534
CREATED:20240704T230809Z
LAST-MODIFIED:20240704T234516Z
UID:13559-1721296800-1721304000@www.district52.org
SUMMARY:Club Officer Make-up Training (All Officer Roles)
DESCRIPTION:Rose Abbott\, DTM\, Past District 52 Director\, will lead this training session to help prepare you for your club officer year.\n\n7/18/2024 Thursday 10 AM – 12 pm PDT\nRegistration Link: Click Here.\n\n\n\n7/25/2024 Thursday 10 AM – 12 pm PDT\nRegistration Link: Click Here\n 
URL:https://www.district52.org/event/club-officer-make-up-training-all-officer-roles-4/
LOCATION:ZOOM
CATEGORIES:Club Officer Training,Training,Virtual,Virtual Meeting,Zoom
ATTACH;FMTTYPE=image/png:https://www.district52.org/wp-content/uploads/2022/08/Copy-of-NEW-BANNER-SIZE-1.png
END:VEVENT
BEGIN:VEVENT
DTSTART;TZID=America/Los_Angeles:20240720T100000
DTEND;TZID=America/Los_Angeles:20240720T130000
DTSTAMP:20260424T141534
CREATED:20240707T162704Z
LAST-MODIFIED:20240707T162819Z
UID:13587-1721469600-1721480400@www.district52.org
SUMMARY:Awards & Installation
DESCRIPTION:We will celebrate our successes from the 2023-2024 Toastmasters year. From our members triple crowns and educational awards\, to our Distinguished\, Select Distinguished and President’s Distinguished clubs. Additionally\, we will recognize the District Executive Committee: Area Directors\, Division Directors\, Finance Manager\, Public Relations Manager\, Administration Manager\, Club Growth Director and Program Quality Director. As well as those who achieved special recognition: Step Up Award\, Toastmaster of the Year and more! \nThis is a hybrid event. To register for our Awards & Installation IN PERSON \nTo register on ZOOM
URL:https://www.district52.org/event/awards-installation/
LOCATION:CA
END:VEVENT
BEGIN:VEVENT
DTSTART;TZID=America/Los_Angeles:20240723T190000
DTEND;TZID=America/Los_Angeles:20240723T210000
DTSTAMP:20260424T141534
CREATED:20240704T231847Z
LAST-MODIFIED:20240704T231847Z
UID:13565-1721761200-1721768400@www.district52.org
SUMMARY:Club Officer Make-up Training (All Officer Roles)
DESCRIPTION:7/23/2024 Tuesday 7 pm to 9 pm PDT\n\n\nMarianne Toghia\, DTM\, will lead this training session to help prepare you for your club officer year.\nRegistration Link: Click Here.
URL:https://www.district52.org/event/club-officer-make-up-training-all-officer-roles-6/
LOCATION:ZOOM
CATEGORIES:Club Officer Training,Officer Training,Training,Virtual,Virtual Meeting,Virtual Training,Zoom
ATTACH;FMTTYPE=image/png:https://www.district52.org/wp-content/uploads/2022/08/Copy-of-NEW-BANNER-SIZE-1.png
END:VEVENT
BEGIN:VEVENT
DTSTART;TZID=America/Los_Angeles:20240724T120000
DTEND;TZID=America/Los_Angeles:20240724T140000
DTSTAMP:20260424T141534
CREATED:20240702T070028Z
LAST-MODIFIED:20240729T192908Z
UID:13569-1721822400-1721829600@www.district52.org
SUMMARY:Club Officer Make-up Training (All Officer Roles)
DESCRIPTION:Red Runyon\, DTM\, will lead this training session. Red is a seasoned Toastmaster and a dynamic trainer.  He will share his many years of experience and knowledge in Toastmasters clubs with you.\n\n7/14/2024\, Sunday 5 pm to 7 pm\, PDT\nRegistration link for Sunday session\, click here. \n7/24/2024\, Wednesday  NOON to 2 pm\, PDT\nRegistration link for Wednesday session\, click here. \n8/03/20Saturday 10 am to 12 noon\, PDT\nRegistration link for Wednesday session\, click here. \n 
URL:https://www.district52.org/event/club-officer-make-up-training-all-officer-roles-2-2024-07-24/
LOCATION:ZOOM
ATTACH;FMTTYPE=image/png:https://www.district52.org/wp-content/uploads/2022/08/Copy-of-NEW-BANNER-SIZE-1.png
ORGANIZER;CN="John Murray%2C DTM%2C PQD":MAILTO:murray_re@yahoo.com
END:VEVENT
BEGIN:VEVENT
DTSTART;TZID=America/Los_Angeles:20240725T100000
DTEND;TZID=America/Los_Angeles:20240725T120000
DTSTAMP:20260424T141534
CREATED:20240704T230809Z
LAST-MODIFIED:20240704T230809Z
UID:13571-1721901600-1721908800@www.district52.org
SUMMARY:Club Officer Make-up Training (All Officer Roles)
DESCRIPTION:Rose Abbott\, DTM\, Past District 52 Director\, will lead this training session to help prepare you for your club officer year.\n\n7/18/2024 Thursday 10 AM – 12 pm PDT\nRegistration Link: Click Here.\n\n\n\n7/25/2024 Thursday 10 AM – 12 pm PDT\nRegistration Link: Click Here\n 
URL:https://www.district52.org/event/club-officer-make-up-training-all-officer-roles-4-2024-07-25/
LOCATION:ZOOM
CATEGORIES:Club Officer Training,Training,Virtual,Virtual Meeting,Zoom
ATTACH;FMTTYPE=image/png:https://www.district52.org/wp-content/uploads/2022/08/Copy-of-NEW-BANNER-SIZE-1.png
END:VEVENT
BEGIN:VEVENT
DTSTART;TZID=America/Los_Angeles:20240726T180000
DTEND;TZID=America/Los_Angeles:20240726T200000
DTSTAMP:20260424T141534
CREATED:20240704T231730Z
LAST-MODIFIED:20240704T231730Z
UID:13574-1722016800-1722024000@www.district52.org
SUMMARY:Club Officer Make-up Training (All Officer Roles)
DESCRIPTION:Elia Evans\, DTM\, will lead this training session to help prepare you for your club officer year.\n\n7/20/2024 Saturday 6 pm to 8 pm PDT\nRegistration Link: Click Here.\n  \n7/26/2024 Saturday 6 pm to 8 pm PDT\nRegistration Link: Click Here.\n 
URL:https://www.district52.org/event/club-officer-make-up-training-all-officer-roles-5-2024-07-26/
LOCATION:ZOOM
CATEGORIES:Club Officer Training,Officer Training,Training,Virtual,Virtual Meeting,Virtual Training,Zoom
ATTACH;FMTTYPE=image/png:https://www.district52.org/wp-content/uploads/2022/08/Copy-of-NEW-BANNER-SIZE-1.png
END:VEVENT
BEGIN:VEVENT
DTSTART;TZID=America/Los_Angeles:20240728T170000
DTEND;TZID=America/Los_Angeles:20240728T190000
DTSTAMP:20260424T141534
CREATED:20240717T153812Z
LAST-MODIFIED:20240717T153813Z
UID:13749-1722186000-1722193200@www.district52.org
SUMMARY:Club Officer Make-up Training (All Officer Roles)
DESCRIPTION:Trainer TBD \n  \nRegister at this link
URL:https://www.district52.org/event/club-officer-make-up-training-all-officer-roles-7/
LOCATION:ZOOM
ATTACH;FMTTYPE=image/png:https://www.district52.org/wp-content/uploads/2022/08/Copy-of-NEW-BANNER-SIZE-1.png
END:VEVENT
BEGIN:VEVENT
DTSTART;TZID=America/Los_Angeles:20240731T190000
DTEND;TZID=America/Los_Angeles:20240731T210000
DTSTAMP:20260424T141534
CREATED:20240704T230024Z
LAST-MODIFIED:20240704T230024Z
UID:13661-1722452400-1722459600@www.district52.org
SUMMARY:Club Officer Make-up Training (All Officer Roles)
DESCRIPTION:7/17/2024 Wednesday 7 pm to 9 pm PDT.\n\n\n\n\n\n\n\nLawrence Quesada\, DTM\, Past District 52 Director\, will lead this training session to help prepare you for your club officer year.\n  \nRegistration Link for the Wednesday\, July 17 session: Click Here.\n  \n\nRegistration Link for the Wednesday\, July 31 session: Click Here.
URL:https://www.district52.org/event/club-officer-make-up-training-all-officer-roles-3-2024-07-31/
LOCATION:CA
CATEGORIES:Club Officer Training,Officer Training,Training,Virtual,Virtual Meeting,Zoom
ATTACH;FMTTYPE=image/png:https://www.district52.org/wp-content/uploads/2022/08/Copy-of-NEW-BANNER-SIZE-1.png
END:VEVENT
END:VCALENDAR