BEGIN:VCALENDAR
VERSION:2.0
PRODID:-//Toastmasters District 52 - ECPv6.15.20//NONSGML v1.0//EN
CALSCALE:GREGORIAN
METHOD:PUBLISH
X-ORIGINAL-URL:https://www.district52.org
X-WR-CALDESC:Events for Toastmasters District 52
REFRESH-INTERVAL;VALUE=DURATION:PT1H
X-Robots-Tag:noindex
X-PUBLISHED-TTL:PT1H
BEGIN:VTIMEZONE
TZID:America/Los_Angeles
BEGIN:DAYLIGHT
TZOFFSETFROM:-0800
TZOFFSETTO:-0700
TZNAME:PDT
DTSTART:20230312T100000
END:DAYLIGHT
BEGIN:STANDARD
TZOFFSETFROM:-0700
TZOFFSETTO:-0800
TZNAME:PST
DTSTART:20231105T090000
END:STANDARD
BEGIN:DAYLIGHT
TZOFFSETFROM:-0800
TZOFFSETTO:-0700
TZNAME:PDT
DTSTART:20240310T100000
END:DAYLIGHT
BEGIN:STANDARD
TZOFFSETFROM:-0700
TZOFFSETTO:-0800
TZNAME:PST
DTSTART:20241103T090000
END:STANDARD
BEGIN:DAYLIGHT
TZOFFSETFROM:-0800
TZOFFSETTO:-0700
TZNAME:PDT
DTSTART:20250309T100000
END:DAYLIGHT
BEGIN:STANDARD
TZOFFSETFROM:-0700
TZOFFSETTO:-0800
TZNAME:PST
DTSTART:20251102T090000
END:STANDARD
END:VTIMEZONE
BEGIN:VEVENT
DTSTART;TZID=America/Los_Angeles:20240502T180000
DTEND;TZID=America/Los_Angeles:20240502T190000
DTSTAMP:20260424T191244
CREATED:20230827T034847Z
LAST-MODIFIED:20240317T042409Z
UID:11351-1714672800-1714676400@www.district52.org
SUMMARY:D52 VPPR Monthly Roundtable
DESCRIPTION:Sessions will be facilitated by D52 PR Team.  Register at: https://us06web.zoom.us/meeting/register/tZEsdeuhqDspGtHHhwh5S2Sb_g0oQi4xQ2Xw
URL:https://www.district52.org/event/d52-vppr-monthly-roundtable-2024-05-02/
LOCATION:ZOOM
END:VEVENT
BEGIN:VEVENT
DTSTART;TZID=America/Los_Angeles:20240503T190000
DTEND;TZID=America/Los_Angeles:20240503T200000
DTSTAMP:20260424T191244
CREATED:20240422T200311Z
LAST-MODIFIED:20240423T015507Z
UID:13103-1714762800-1714766400@www.district52.org
SUMMARY:Candidate's Showcase
DESCRIPTION:Candidates showcase for District Officers running for elections for the Toastmasters International District 52 2024-25 Program Year. \nMeet your Candidates: https://elections.district52.org/ \nRegister Here
URL:https://www.district52.org/event/candidates-showcase/
LOCATION:CA
CATEGORIES:Council Meeting,District Event,Election Event
ATTACH;FMTTYPE=image/jpeg:https://www.district52.org/wp-content/uploads/2024/04/e631ad79-2fb7-4a57-a205-5741c54b58ed.jpg
ORGANIZER;CN="Serena McCullough":MAILTO:smcculloughdtm@gmail.com
END:VEVENT
BEGIN:VEVENT
DTSTART;TZID=America/Los_Angeles:20240506T183000
DTEND;TZID=America/Los_Angeles:20240506T200000
DTSTAMP:20260424T191244
CREATED:20231221T040753Z
LAST-MODIFIED:20240414T215724Z
UID:12272-1715020200-1715025600@www.district52.org
SUMMARY:Free Toast Host Training
DESCRIPTION:
URL:https://www.district52.org/event/free-toast-host-training-2024-05-06/
LOCATION:Online Via Zoom
ORGANIZER;CN="Marc Richards%2C DTM%2C Club Website Trainer":MAILTO:clubwebsitetrainer@district52.org
END:VEVENT
BEGIN:VEVENT
DTSTART;TZID=America/Los_Angeles:20240517T190000
DTEND;TZID=America/Los_Angeles:20240517T210000
DTSTAMP:20260424T191244
CREATED:20240425T030104Z
LAST-MODIFIED:20240506T141912Z
UID:13162-1715972400-1715979600@www.district52.org
SUMMARY:District 52 Spring Business Meeting
DESCRIPTION:District 52 will be conducting this year’s District Council Spring Business Meeting\, held online via Zoom\, on Friday\, May 17\, 2024\, 7:00 PM. The purpose of the meeting is to conduct District business and conduct our election. (See attached District Leadership Committee report). \nREGISTER HERE: https://us06web.zoom.us/meeting/register/tZwvcu-srDIjHtF0FFu1uDwFk8FlrQmgjlg2 \n\nMeet your Candidates Here: https://elections.district52.org/ \nBusiness Meeting Page: https://www.district52.org/spring-2024-business-meeting/ \n\n\nOnly the Club President and Vice President Education may vote on behalf of a club. Another member of the club is not able to cast a vote since proxies have been removed. The Club President or Vice President may cast a vote for their role and the other for a maximum of two votes. Note: Regardless of how many clubs a member is the Club President or Vice President\, they may only cast a maximum of two votes. The District Administrative Bylaws\, Article X (d) below state: \n\n\nWhen the voting process is conducted only the Club President and/or Vice President Education of any Member Club may vote on behalf of the club as its representative. Either club officer may carry the club’s two (2) votes or\, each of these club officers may carry one (1) vote\, as determined by the club membership. The representative from any Member Club in good standing is entitled to a maximum of two (2) votes. \n\n\nDistrict Executive Committee members are entitled to one (1) vote and may cast up to two (2) additional votes as a representative of a Member Club\, for a maximum of three (3) votes. District Council members must cast their own votes; no proxies are permitted. \n\n\nYou must register for the District Council Meeting in advance by May 16th at 11:59pm. Your registration and attendance is important to constitute the required quorum for the successful transaction of business at this meeting. \n\n\n 
URL:https://www.district52.org/event/district-52-spring-business-meeting/
LOCATION:CA
CATEGORIES:Council Meeting,District Event,Election Event,Virtual Meeting,Zoom
END:VEVENT
BEGIN:VEVENT
DTSTART;TZID=America/Los_Angeles:20240518T090000
DTEND;TZID=America/Los_Angeles:20240518T170000
DTSTAMP:20260424T191244
CREATED:20240422T200802Z
LAST-MODIFIED:20240425T033136Z
UID:13105-1716022800-1716051600@www.district52.org
SUMMARY:District 52 Annual Conference
DESCRIPTION:District 52’s Annual Hybrid Conference \nLocation: Glendale Community College (1500 N Verdugo Rd\, Glendale\, CA 91208) \nZoom Registration HERE \nPurchase your Onsite and Online attendance Tickets HERE
URL:https://www.district52.org/event/district-52-annual-conference/
LOCATION:Glendale Community College\, 1500 N Verdugo Rd.\, Glendale\, CA\, 91208
ORGANIZER;CN="Ruchin Gupta":MAILTO:ruchingupta23@gmail.com
END:VEVENT
BEGIN:VEVENT
DTSTART;TZID=America/Los_Angeles:20240521T183000
DTEND;TZID=America/Los_Angeles:20240521T203000
DTSTAMP:20260424T191244
CREATED:20240105T010229Z
LAST-MODIFIED:20240414T031213Z
UID:12163-1716316200-1716323400@www.district52.org
SUMMARY:D52 Monthly Workshop
DESCRIPTION:Keep learning\, keep growing! \nAttend District 52’s monthly workshops! \n  \nFor April\, attend the Moments of Truth at 6:30 PM to make sure your club has the best possible meetings for your members and guests. \nStay for Pathways for Beginners at 7:30 PM. Are you new to Toastmasters\, or Pathways? Then this mini workshop will support you in getting the most out of this Toastmasters education system! \nRegistration link: https://bit.ly/46a3nKd
URL:https://www.district52.org/event/d52-monthly-workshop-2-2024-05-21/
LOCATION:ZOOM
CATEGORIES:Pathways,Virtual Training,Workshop
ATTACH;FMTTYPE=image/png:https://www.district52.org/wp-content/uploads/2024/01/2024-04-Workshop-rv4.png
END:VEVENT
BEGIN:VEVENT
DTSTART;TZID=America/Los_Angeles:20240524T183000
DTEND;TZID=America/Los_Angeles:20240524T193000
DTSTAMP:20260424T191244
CREATED:20240519T205134Z
LAST-MODIFIED:20240519T205149Z
UID:13319-1716575400-1716579000@www.district52.org
SUMMARY:Phone for Friends
DESCRIPTION:Phone For Friends \nJoin Here: https://us06web.zoom.us/meeting/register/tZEsf-Corz4uG9TBeNyFrKEsNVftseASNa86
URL:https://www.district52.org/event/phone-for-friends/
LOCATION:CA
END:VEVENT
END:VCALENDAR