BEGIN:VCALENDAR
VERSION:2.0
PRODID:-//Toastmasters District 52 - ECPv6.15.20//NONSGML v1.0//EN
CALSCALE:GREGORIAN
METHOD:PUBLISH
X-ORIGINAL-URL:https://www.district52.org
X-WR-CALDESC:Events for Toastmasters District 52
REFRESH-INTERVAL;VALUE=DURATION:PT1H
X-Robots-Tag:noindex
X-PUBLISHED-TTL:PT1H
BEGIN:VTIMEZONE
TZID:America/Los_Angeles
BEGIN:DAYLIGHT
TZOFFSETFROM:-0800
TZOFFSETTO:-0700
TZNAME:PDT
DTSTART:20220313T100000
END:DAYLIGHT
BEGIN:STANDARD
TZOFFSETFROM:-0700
TZOFFSETTO:-0800
TZNAME:PST
DTSTART:20221106T090000
END:STANDARD
BEGIN:DAYLIGHT
TZOFFSETFROM:-0800
TZOFFSETTO:-0700
TZNAME:PDT
DTSTART:20230312T100000
END:DAYLIGHT
BEGIN:STANDARD
TZOFFSETFROM:-0700
TZOFFSETTO:-0800
TZNAME:PST
DTSTART:20231105T090000
END:STANDARD
BEGIN:DAYLIGHT
TZOFFSETFROM:-0800
TZOFFSETTO:-0700
TZNAME:PDT
DTSTART:20240310T100000
END:DAYLIGHT
BEGIN:STANDARD
TZOFFSETFROM:-0700
TZOFFSETTO:-0800
TZNAME:PST
DTSTART:20241103T090000
END:STANDARD
BEGIN:DAYLIGHT
TZOFFSETFROM:-0800
TZOFFSETTO:-0700
TZNAME:PDT
DTSTART:20250309T100000
END:DAYLIGHT
BEGIN:STANDARD
TZOFFSETFROM:-0700
TZOFFSETTO:-0800
TZNAME:PST
DTSTART:20251102T090000
END:STANDARD
END:VTIMEZONE
BEGIN:VEVENT
DTSTART;TZID=America/Los_Angeles:20231201T080000
DTEND;TZID=America/Los_Angeles:20240210T235900
DTSTAMP:20260425T035619
CREATED:20231221T013750Z
LAST-MODIFIED:20231221T020204Z
UID:12109-1701417600-1707609540@www.district52.org
SUMMARY:2024-2025 District 52 Leadership Nominations
DESCRIPTION:
URL:https://www.district52.org/event/2024-2025-district-52-leadership-nominations/
LOCATION:CA
ORGANIZER;CN="Rose Abbott%2C DTM":MAILTO:divedirector@district52.org
END:VEVENT
BEGIN:VEVENT
DTSTART;TZID=America/Los_Angeles:20240201T180000
DTEND;TZID=America/Los_Angeles:20240201T190000
DTSTAMP:20260425T035619
CREATED:20230827T034847Z
LAST-MODIFIED:20240317T042407Z
UID:11348-1706810400-1706814000@www.district52.org
SUMMARY:D52 VPPR Monthly Roundtable
DESCRIPTION:Sessions will be facilitated by D52 PR Team.  Register at: https://us06web.zoom.us/meeting/register/tZEsdeuhqDspGtHHhwh5S2Sb_g0oQi4xQ2Xw
URL:https://www.district52.org/event/d52-vppr-monthly-roundtable-2024-02-01/
LOCATION:ZOOM
END:VEVENT
BEGIN:VEVENT
DTSTART;TZID=America/Los_Angeles:20240203T124500
DTEND;TZID=America/Los_Angeles:20240203T150000
DTSTAMP:20260425T035619
CREATED:20240129T063831Z
LAST-MODIFIED:20240129T063854Z
UID:12256-1706964300-1706972400@www.district52.org
SUMMARY:Mindful Communicators TM Club Open House and Speech Contest
DESCRIPTION:Please send an email to mindfulcommunicators@gmail.com for Zoom info.
URL:https://www.district52.org/event/mindful-communicators-tm-club-open-house-and-speech-contest/
LOCATION:CA
END:VEVENT
BEGIN:VEVENT
DTSTART;TZID=America/Los_Angeles:20240204T170000
DTEND;TZID=America/Los_Angeles:20240204T190000
DTSTAMP:20260425T035619
CREATED:20240117T020947Z
LAST-MODIFIED:20240117T020947Z
UID:12206-1707066000-1707073200@www.district52.org
SUMMARY:Club Officer Training Round 2
DESCRIPTION:Lance Webster\nSunday 2/4/2024 – 5 PM to 7PM\nhttps://us06web.zoom.us/meeting/register/tZEvcuCrqjssHdyK5LlVttQjLND3E74z5JJu
URL:https://www.district52.org/event/club-officer-training-round-2/
LOCATION:ZOOM
END:VEVENT
BEGIN:VEVENT
DTSTART;TZID=America/Los_Angeles:20240205T183000
DTEND;TZID=America/Los_Angeles:20240205T200000
DTSTAMP:20260425T035619
CREATED:20231221T040753Z
LAST-MODIFIED:20240414T215722Z
UID:12132-1707157800-1707163200@www.district52.org
SUMMARY:Free Toast Host Training
DESCRIPTION:
URL:https://www.district52.org/event/free-toast-host-training/
LOCATION:Online Via Zoom
ORGANIZER;CN="Marc Richards%2C DTM%2C Club Website Trainer":MAILTO:clubwebsitetrainer@district52.org
END:VEVENT
BEGIN:VEVENT
DTSTART;TZID=America/Los_Angeles:20240208T100000
DTEND;TZID=America/Los_Angeles:20240208T120000
DTSTAMP:20260425T035619
CREATED:20240117T021549Z
LAST-MODIFIED:20240117T021549Z
UID:12211-1707386400-1707393600@www.district52.org
SUMMARY:Club Officer Training Round #2
DESCRIPTION:Rose Abbott\n2/8/2024 – 10 AM to 12 PM\nhttps://us06web.zoom.us/meeting/register/tZMocOysrjgpGtClau2_LQuStcA1Zxr_qDhf
URL:https://www.district52.org/event/club-officer-training-round-2-3/
LOCATION:ZOOM
END:VEVENT
BEGIN:VEVENT
DTSTART;TZID=America/Los_Angeles:20240212T180000
DTEND;TZID=America/Los_Angeles:20240212T200000
DTSTAMP:20260425T035619
CREATED:20240204T213804Z
LAST-MODIFIED:20240204T213804Z
UID:12277-1707760800-1707768000@www.district52.org
SUMMARY:Club Officer Training Round #2
DESCRIPTION:Lance Webster\n2/12/2024 –  6 PM to 8 PM\nhttps://us06web.zoom.us/meeting/register/tZEqceGvrzgsH9TMtobUcMzi7gF7YRzDekdd
URL:https://www.district52.org/event/club-officer-training-round-2-2/
LOCATION:CA
END:VEVENT
BEGIN:VEVENT
DTSTART;TZID=America/Los_Angeles:20240218T170000
DTEND;TZID=America/Los_Angeles:20240218T190000
DTSTAMP:20260425T035619
CREATED:20240204T214021Z
LAST-MODIFIED:20240204T214021Z
UID:12279-1708275600-1708282800@www.district52.org
SUMMARY:Club Officer Training Round #2
DESCRIPTION:Lance Webster\n2/18/2024 –  5 PM to 7 PM\nhttps://us06web.zoom.us/meeting/register/tZEtdO2oqD0oGdEJ0TUdGeHsvtQt6vUPndMP
URL:https://www.district52.org/event/club-officer-training-round-2-4/
LOCATION:CA
END:VEVENT
BEGIN:VEVENT
DTSTART;TZID=America/Los_Angeles:20240222T100000
DTEND;TZID=America/Los_Angeles:20240222T120000
DTSTAMP:20260425T035619
CREATED:20240117T022052Z
LAST-MODIFIED:20240119T113638Z
UID:12218-1708596000-1708603200@www.district52.org
SUMMARY:Club Officer Training Round #2
DESCRIPTION:Rose Abbott\n2/22/2024 – 10 AM to 12 PM\nhttps://us06web.zoom.us/meeting/register/tZMlf-yurjotE9fpZ85JyPnbTd6kF09x5DQ2
URL:https://www.district52.org/event/club-officer-training-round-2-6/
LOCATION:ZOOM
END:VEVENT
BEGIN:VEVENT
DTSTART;TZID=America/Los_Angeles:20240226T180000
DTEND;TZID=America/Los_Angeles:20240226T200000
DTSTAMP:20260425T035619
CREATED:20240117T022655Z
LAST-MODIFIED:20240217T033522Z
UID:12222-1708970400-1708977600@www.district52.org
SUMMARY:Club Officer Training Round #2
DESCRIPTION:Lawrence Quesada\n2/26/2024 – 6PM to 8 PM\nhttps://us06web.zoom.us/meeting/register/tZ0pfu6sqD8rGdBAd3HSPf3thbLIHGFmBNel
URL:https://www.district52.org/event/club-officer-training-round-2-8/
LOCATION:ZOOM
END:VEVENT
BEGIN:VEVENT
DTSTART;TZID=America/Los_Angeles:20240227T180000
DTEND;TZID=America/Los_Angeles:20240227T200000
DTSTAMP:20260425T035619
CREATED:20240117T022841Z
LAST-MODIFIED:20240223T104506Z
UID:12224-1709056800-1709064000@www.district52.org
SUMMARY:Club Officer Training Round #2
DESCRIPTION:Lawrence Quesada\n2/27/2024 – 6PM to 8 PM\nhttps://us06web.zoom.us/meeting/register/tZApd–rrjsiHNVVbkwyNjXeuHg3lcFkQkVV
URL:https://www.district52.org/event/club-officer-training-round-2-9/
LOCATION:ZOOM
END:VEVENT
BEGIN:VEVENT
DTSTART;TZID=America/Los_Angeles:20240228T190000
DTEND;TZID=America/Los_Angeles:20240228T210000
DTSTAMP:20260425T035619
CREATED:20240117T023034Z
LAST-MODIFIED:20240223T104517Z
UID:12226-1709146800-1709154000@www.district52.org
SUMMARY:Club Officer Training Round #2
DESCRIPTION:John Murray\n2/28/2024 – 7 PM to 9 PM\nhttps://us06web.zoom.us/meeting/register/tZErfumtqTwiHN3aXzqQo59kT9sZdf4hQFz7
URL:https://www.district52.org/event/club-officer-training-round-2-10/
LOCATION:ZOOM
END:VEVENT
BEGIN:VEVENT
DTSTART;TZID=America/Los_Angeles:20240229T190000
DTEND;TZID=America/Los_Angeles:20240229T210000
DTSTAMP:20260425T035619
CREATED:20240117T023206Z
LAST-MODIFIED:20240223T104519Z
UID:12228-1709233200-1709240400@www.district52.org
SUMMARY:Club Officer Training Round #2
DESCRIPTION:John Murray\n2/29/2024 –  7 PM to 9 PM\nhttps://us06web.zoom.us/meeting/register/tZIpcOqsrTwrHNytyMRIbVoC55bUx1xObLkw
URL:https://www.district52.org/event/club-officer-training-round-2-11/
LOCATION:ZOOM
END:VEVENT
END:VCALENDAR