BEGIN:VCALENDAR
VERSION:2.0
PRODID:-//Toastmasters District 52 - ECPv6.15.20//NONSGML v1.0//EN
CALSCALE:GREGORIAN
METHOD:PUBLISH
X-WR-CALNAME:Toastmasters District 52
X-ORIGINAL-URL:https://www.district52.org
X-WR-CALDESC:Events for Toastmasters District 52
REFRESH-INTERVAL;VALUE=DURATION:PT1H
X-Robots-Tag:noindex
X-PUBLISHED-TTL:PT1H
BEGIN:VTIMEZONE
TZID:America/Los_Angeles
BEGIN:DAYLIGHT
TZOFFSETFROM:-0800
TZOFFSETTO:-0700
TZNAME:PDT
DTSTART:20220313T100000
END:DAYLIGHT
BEGIN:STANDARD
TZOFFSETFROM:-0700
TZOFFSETTO:-0800
TZNAME:PST
DTSTART:20221106T090000
END:STANDARD
BEGIN:DAYLIGHT
TZOFFSETFROM:-0800
TZOFFSETTO:-0700
TZNAME:PDT
DTSTART:20230312T100000
END:DAYLIGHT
BEGIN:STANDARD
TZOFFSETFROM:-0700
TZOFFSETTO:-0800
TZNAME:PST
DTSTART:20231105T090000
END:STANDARD
BEGIN:DAYLIGHT
TZOFFSETFROM:-0800
TZOFFSETTO:-0700
TZNAME:PDT
DTSTART:20240310T100000
END:DAYLIGHT
BEGIN:STANDARD
TZOFFSETFROM:-0700
TZOFFSETTO:-0800
TZNAME:PST
DTSTART:20241103T090000
END:STANDARD
BEGIN:DAYLIGHT
TZOFFSETFROM:-0800
TZOFFSETTO:-0700
TZNAME:PDT
DTSTART:20250309T100000
END:DAYLIGHT
BEGIN:STANDARD
TZOFFSETFROM:-0700
TZOFFSETTO:-0800
TZNAME:PST
DTSTART:20251102T090000
END:STANDARD
END:VTIMEZONE
BEGIN:VEVENT
DTSTART;TZID=America/Los_Angeles:20231201T080000
DTEND;TZID=America/Los_Angeles:20240210T235900
DTSTAMP:20260425T052124
CREATED:20231221T013750Z
LAST-MODIFIED:20231221T020204Z
UID:12109-1701417600-1707609540@www.district52.org
SUMMARY:2024-2025 District 52 Leadership Nominations
DESCRIPTION:
URL:https://www.district52.org/event/2024-2025-district-52-leadership-nominations/
LOCATION:CA
ORGANIZER;CN="Rose Abbott%2C DTM":MAILTO:divedirector@district52.org
END:VEVENT
BEGIN:VEVENT
DTSTART;TZID=America/Los_Angeles:20240104T180000
DTEND;TZID=America/Los_Angeles:20240104T190000
DTSTAMP:20260425T052124
CREATED:20230827T034847Z
LAST-MODIFIED:20240317T042406Z
UID:11347-1704391200-1704394800@www.district52.org
SUMMARY:D52 VPPR Monthly Roundtable
DESCRIPTION:Sessions will be facilitated by D52 PR Team.  Register at: https://us06web.zoom.us/meeting/register/tZEsdeuhqDspGtHHhwh5S2Sb_g0oQi4xQ2Xw
URL:https://www.district52.org/event/d52-vppr-monthly-roundtable-2024-01-04/
LOCATION:ZOOM
END:VEVENT
BEGIN:VEVENT
DTSTART;TZID=America/Los_Angeles:20240107T170000
DTEND;TZID=America/Los_Angeles:20240107T183000
DTSTAMP:20260425T052124
CREATED:20231202T230912Z
LAST-MODIFIED:20240104T192836Z
UID:11977-1704646800-1704652200@www.district52.org
SUMMARY:Club Officer Training with John Murray
DESCRIPTION:Trainer: John Murray
URL:https://www.district52.org/event/11977/
LOCATION:CA
END:VEVENT
BEGIN:VEVENT
DTSTART;TZID=America/Los_Angeles:20240109T190000
DTEND;TZID=America/Los_Angeles:20240109T210000
DTSTAMP:20260425T052124
CREATED:20231204T035257Z
LAST-MODIFIED:20231219T054200Z
UID:12002-1704826800-1704834000@www.district52.org
SUMMARY:Contest Training: Judges & Functionaries
DESCRIPTION:  \nPlease join D52 Chief Judge Albert Lin for a training session on all contest roles.\nYou can register with this link.
URL:https://www.district52.org/event/contest-training-judges-functionaries-2/
LOCATION:ZOOM
CATEGORIES:District Event,Speech Contest,Virtual,Virtual Meeting,Virtual Training,Zoom
END:VEVENT
BEGIN:VEVENT
DTSTART;TZID=America/Los_Angeles:20240118T100000
DTEND;TZID=America/Los_Angeles:20240118T120000
DTSTAMP:20260425T052124
CREATED:20240116T142804Z
LAST-MODIFIED:20240116T142804Z
UID:12193-1705572000-1705579200@www.district52.org
SUMMARY:Club Officer Training with Rose Abbott
DESCRIPTION:Rose Abbott will lead this training session – 10 am-12 pm (2-hour training) to help prepare you for your club officer year.
URL:https://www.district52.org/event/club-officer-training-with-rose-abbott/
LOCATION:CA
END:VEVENT
BEGIN:VEVENT
DTSTART;TZID=America/Los_Angeles:20240123T180000
DTEND;TZID=America/Los_Angeles:20240123T200000
DTSTAMP:20260425T052124
CREATED:20240116T142946Z
LAST-MODIFIED:20240116T142946Z
UID:12195-1706032800-1706040000@www.district52.org
SUMMARY:Club Officer Training with Lance Webster
DESCRIPTION:Lance Webster will lead this training session – 6 pm-8 pm (2-hour training) to help prepare you for your club officer year.
URL:https://www.district52.org/event/club-officer-training-with-lance-webster/
LOCATION:CA
END:VEVENT
BEGIN:VEVENT
DTSTART;TZID=America/Los_Angeles:20240127T100000
DTEND;TZID=America/Los_Angeles:20240127T160000
DTSTAMP:20260425T052124
CREATED:20240116T143335Z
LAST-MODIFIED:20240123T043713Z
UID:12197-1706349600-1706371200@www.district52.org
SUMMARY:Toastmasters Leadership Institute
DESCRIPTION:
URL:https://www.district52.org/event/toastmasters-leadership-institute/
LOCATION:CA
END:VEVENT
BEGIN:VEVENT
DTSTART;TZID=America/Los_Angeles:20240130T190000
DTEND;TZID=America/Los_Angeles:20240130T210000
DTSTAMP:20260425T052124
CREATED:20231219T053140Z
LAST-MODIFIED:20240130T235938Z
UID:12098-1706641200-1706648400@www.district52.org
SUMMARY:CONTEST TRAINING: JUDGES & FUNCTIONARIES
DESCRIPTION:Please join D52 Chief Judge Albert Lin for a training session on all contest roles.\nYou can register with this link.
URL:https://www.district52.org/event/contest-training-judges-functionaries-3/
LOCATION:ZOOM
CATEGORIES:District Event,Speech Contest,Training,Virtual,Virtual Meeting,Virtual Training,Zoom
END:VEVENT
END:VCALENDAR