BEGIN:VCALENDAR
VERSION:2.0
PRODID:-//Toastmasters District 52 - ECPv6.15.20//NONSGML v1.0//EN
CALSCALE:GREGORIAN
METHOD:PUBLISH
X-WR-CALNAME:Toastmasters District 52
X-ORIGINAL-URL:https://www.district52.org
X-WR-CALDESC:Events for Toastmasters District 52
REFRESH-INTERVAL;VALUE=DURATION:PT1H
X-Robots-Tag:noindex
X-PUBLISHED-TTL:PT1H
BEGIN:VTIMEZONE
TZID:America/Los_Angeles
BEGIN:DAYLIGHT
TZOFFSETFROM:-0800
TZOFFSETTO:-0700
TZNAME:PDT
DTSTART:20210314T100000
END:DAYLIGHT
BEGIN:STANDARD
TZOFFSETFROM:-0700
TZOFFSETTO:-0800
TZNAME:PST
DTSTART:20211107T090000
END:STANDARD
BEGIN:DAYLIGHT
TZOFFSETFROM:-0800
TZOFFSETTO:-0700
TZNAME:PDT
DTSTART:20220313T100000
END:DAYLIGHT
BEGIN:STANDARD
TZOFFSETFROM:-0700
TZOFFSETTO:-0800
TZNAME:PST
DTSTART:20221106T090000
END:STANDARD
BEGIN:DAYLIGHT
TZOFFSETFROM:-0800
TZOFFSETTO:-0700
TZNAME:PDT
DTSTART:20230312T100000
END:DAYLIGHT
BEGIN:STANDARD
TZOFFSETFROM:-0700
TZOFFSETTO:-0800
TZNAME:PST
DTSTART:20231105T090000
END:STANDARD
END:VTIMEZONE
BEGIN:VEVENT
DTSTART;TZID=America/Los_Angeles:20220920T180000
DTEND;TZID=America/Los_Angeles:20220920T200000
DTSTAMP:20260425T054519
CREATED:20220907T053741Z
LAST-MODIFIED:20230426T040841Z
UID:9270-1663696800-1663704000@www.district52.org
SUMMARY:District 52 Monthly Workshops
DESCRIPTION:Third Tuesdays of the Month Workshops \n\nPathways\nGrowth Membership\nOpen House\nYouth Leadership/Speech Craft\n\nRegister at https://bit.ly/3QjaZ5s
URL:https://www.district52.org/event/district-52-monthly-workshops/
LOCATION:ZOOM
CATEGORIES:Pathways,Training,Virtual,Virtual Training,Workshop,Zoom
ATTACH;FMTTYPE=image/png:https://www.district52.org/wp-content/uploads/2022/09/May-Monthly-Workshop.png
ORGANIZER;CN="Serena McCullough":MAILTO:smcculloughdtm@gmail.com
END:VEVENT
BEGIN:VEVENT
DTSTART;TZID=America/Los_Angeles:20220913T080000
DTEND;TZID=America/Los_Angeles:20220913T080000
DTSTAMP:20260425T054519
CREATED:20220914T064741Z
LAST-MODIFIED:20220914T065150Z
UID:9363-1663056000-1663056000@www.district52.org
SUMMARY:Membership Renewal
DESCRIPTION:
URL:https://www.district52.org/event/membership-renewal/
ORGANIZER;CN="Rose Abbott%2C DTM":MAILTO:divedirector@district52.org
END:VEVENT
BEGIN:VEVENT
DTSTART;TZID=America/Los_Angeles:20220502T183000
DTEND;TZID=America/Los_Angeles:20220502T200000
DTSTAMP:20260425T054519
CREATED:20211101T215128Z
LAST-MODIFIED:20220727T063911Z
UID:7923-1651516200-1651521600@www.district52.org
SUMMARY:WORKSHOP Free ToastHost Web Training
DESCRIPTION:Did you know that your Club can get a free Toastmasters website? \nMarc Richards will show you how to get one\, and how to manage it. \nAnd for those that already have it\, he will show you how to manage it properly. \nRegistration link:\nhttps://D52.me/FreeWebTraining \nNOTE: Limited seats\, first come first served \nEmail: clubwebsitetrainer@gmail.com for any questions you may have regarding the FTH training.
URL:https://www.district52.org/event/toasthost-web-training/
LOCATION:Online Via Zoom
ATTACH;FMTTYPE=image/png:https://www.district52.org/wp-content/uploads/2021/11/WORKSHOP-Free-Toastmasters-Website.png
END:VEVENT
END:VCALENDAR