BEGIN:VCALENDAR
VERSION:2.0
PRODID:-//Toastmasters District 52 - ECPv6.15.20//NONSGML v1.0//EN
CALSCALE:GREGORIAN
METHOD:PUBLISH
X-WR-CALNAME:Toastmasters District 52
X-ORIGINAL-URL:https://www.district52.org
X-WR-CALDESC:Events for Toastmasters District 52
REFRESH-INTERVAL;VALUE=DURATION:PT1H
X-Robots-Tag:noindex
X-PUBLISHED-TTL:PT1H
BEGIN:VTIMEZONE
TZID:America/Los_Angeles
BEGIN:DAYLIGHT
TZOFFSETFROM:-0800
TZOFFSETTO:-0700
TZNAME:PDT
DTSTART:20210314T100000
END:DAYLIGHT
BEGIN:STANDARD
TZOFFSETFROM:-0700
TZOFFSETTO:-0800
TZNAME:PST
DTSTART:20211107T090000
END:STANDARD
BEGIN:DAYLIGHT
TZOFFSETFROM:-0800
TZOFFSETTO:-0700
TZNAME:PDT
DTSTART:20220313T100000
END:DAYLIGHT
BEGIN:STANDARD
TZOFFSETFROM:-0700
TZOFFSETTO:-0800
TZNAME:PST
DTSTART:20221106T090000
END:STANDARD
BEGIN:DAYLIGHT
TZOFFSETFROM:-0800
TZOFFSETTO:-0700
TZNAME:PDT
DTSTART:20230312T100000
END:DAYLIGHT
BEGIN:STANDARD
TZOFFSETFROM:-0700
TZOFFSETTO:-0800
TZNAME:PST
DTSTART:20231105T090000
END:STANDARD
BEGIN:DAYLIGHT
TZOFFSETFROM:-0800
TZOFFSETTO:-0700
TZNAME:PDT
DTSTART:20240310T100000
END:DAYLIGHT
BEGIN:STANDARD
TZOFFSETFROM:-0700
TZOFFSETTO:-0800
TZNAME:PST
DTSTART:20241103T090000
END:STANDARD
END:VTIMEZONE
BEGIN:VEVENT
DTSTART;TZID=America/Los_Angeles:20230403T183000
DTEND;TZID=America/Los_Angeles:20230403T200000
DTSTAMP:20260425T043843
CREATED:20211101T215128Z
LAST-MODIFIED:20220727T063929Z
UID:8277-1680546600-1680552000@www.district52.org
SUMMARY:WORKSHOP Free ToastHost Web Training
DESCRIPTION:Did you know that your Club can get a free Toastmasters website? \nMarc Richards will show you how to get one\, and how to manage it. \nAnd for those that already have it\, he will show you how to manage it properly. \nRegistration link:\nhttps://D52.me/FreeWebTraining \nNOTE: Limited seats\, first come first served \nEmail: clubwebsitetrainer@gmail.com for any questions you may have regarding the FTH training.
URL:https://www.district52.org/event/toasthost-web-training-2023-04-03/
LOCATION:Online Via Zoom
ATTACH;FMTTYPE=image/png:https://www.district52.org/wp-content/uploads/2021/11/WORKSHOP-Free-Toastmasters-Website.png
END:VEVENT
BEGIN:VEVENT
DTSTART;TZID=America/Los_Angeles:20230321T180000
DTEND;TZID=America/Los_Angeles:20230321T200000
DTSTAMP:20260425T043843
CREATED:20220907T053741Z
LAST-MODIFIED:20230426T040845Z
UID:9279-1679421600-1679428800@www.district52.org
SUMMARY:District 52 Monthly Workshops
DESCRIPTION:Third Tuesdays of the Month Workshops \n\nPathways\nGrowth Membership\nOpen House\nYouth Leadership/Speech Craft\n\nRegister at https://bit.ly/3QjaZ5s
URL:https://www.district52.org/event/district-52-monthly-workshops-2023-03-21/
LOCATION:ZOOM
CATEGORIES:Pathways,Training,Virtual,Virtual Training,Workshop,Zoom
ATTACH;FMTTYPE=image/png:https://www.district52.org/wp-content/uploads/2022/09/May-Monthly-Workshop.png
ORGANIZER;CN="Serena McCullough":MAILTO:smcculloughdtm@gmail.com
END:VEVENT
BEGIN:VEVENT
DTSTART;TZID=America/Los_Angeles:20230306T183000
DTEND;TZID=America/Los_Angeles:20230306T200000
DTSTAMP:20260425T043843
CREATED:20211101T215128Z
LAST-MODIFIED:20220727T063924Z
UID:8276-1678127400-1678132800@www.district52.org
SUMMARY:WORKSHOP Free ToastHost Web Training
DESCRIPTION:Did you know that your Club can get a free Toastmasters website? \nMarc Richards will show you how to get one\, and how to manage it. \nAnd for those that already have it\, he will show you how to manage it properly. \nRegistration link:\nhttps://D52.me/FreeWebTraining \nNOTE: Limited seats\, first come first served \nEmail: clubwebsitetrainer@gmail.com for any questions you may have regarding the FTH training.
URL:https://www.district52.org/event/toasthost-web-training-2023-03-06/
LOCATION:Online Via Zoom
ATTACH;FMTTYPE=image/png:https://www.district52.org/wp-content/uploads/2021/11/WORKSHOP-Free-Toastmasters-Website.png
END:VEVENT
BEGIN:VEVENT
DTSTART;TZID=America/Los_Angeles:20230228T190000
DTEND;TZID=America/Los_Angeles:20230228T210000
DTSTAMP:20260425T043843
CREATED:20230202T053712Z
LAST-MODIFIED:20230219T193902Z
UID:10156-1677610800-1677618000@www.district52.org
SUMMARY:Club Officer Training
DESCRIPTION:Serena McCullough\, DTM\, PQD\,  will be leading the Feb 24\, 2023 Session Starting at 10:00 am\nRegistration Link: Click Here\n\nRose Abbott\, DTM\, District 52 Director\, will lead the Feb 27\, 2023 Session Starting at 10:00 am\nRegistration Link: Click Here\n  \nLance Webster\, DTM\, Past District 52 Director\, will lead the Feb 28\, 2023 Session Starting at 7:00 pm\nRegistration Link: Click Here\n 
URL:https://www.district52.org/event/club-officer-training-8-2023-02-28/
LOCATION:ZOOM
CATEGORIES:Club Officer Training,District Event,Training,Virtual,Virtual Training,Zoom
ORGANIZER;CN="Serena McCullough":MAILTO:smcculloughdtm@gmail.com
END:VEVENT
BEGIN:VEVENT
DTSTART;TZID=America/Los_Angeles:20230228T190000
DTEND;TZID=America/Los_Angeles:20230228T200000
DTSTAMP:20260425T043843
CREATED:20221124T231837Z
LAST-MODIFIED:20221124T231837Z
UID:9940-1677610800-1677614400@www.district52.org
SUMMARY:Future District Leadership Information Sessions
DESCRIPTION:Tuesdays at 7pm \nJoin Zoom Meeting \nhttps://us02web.zoom.us/j/87524455760 \nMeeting ID: 875 2445 5760
URL:https://www.district52.org/event/future-district-leadership-information-sessions-2023-02-28/
LOCATION:ZOOM
END:VEVENT
BEGIN:VEVENT
DTSTART;TZID=America/Los_Angeles:20230227T100000
DTEND;TZID=America/Los_Angeles:20230227T120000
DTSTAMP:20260425T043843
CREATED:20230202T053712Z
LAST-MODIFIED:20230202T053712Z
UID:10286-1677492000-1677499200@www.district52.org
SUMMARY:Club Officer Training
DESCRIPTION:Serena McCullough\, DTM\, PQD\,  will be leading the Feb 24\, 2023 Session Starting at 10:00 am\nRegistration Link: Click Here\n\nRose Abbott\, DTM\, District 52 Director\, will lead the Feb 27\, 2023 Session Starting at 10:00 am\nRegistration Link: Click Here\n  \nLance Webster\, DTM\, Past District 52 Director\, will lead the Feb 28\, 2023 Session Starting at 7:00 pm\nRegistration Link: Click Here\n 
URL:https://www.district52.org/event/club-officer-training-8-2023-02-27/
LOCATION:ZOOM
CATEGORIES:Club Officer Training,District Event,Training,Virtual,Virtual Training,Zoom
ORGANIZER;CN="Serena McCullough":MAILTO:smcculloughdtm@gmail.com
END:VEVENT
BEGIN:VEVENT
DTSTART;TZID=America/Los_Angeles:20230225T100000
DTEND;TZID=America/Los_Angeles:20230225T120000
DTSTAMP:20260425T043843
CREATED:20230203T221938Z
LAST-MODIFIED:20230206T051628Z
UID:10192-1677319200-1677326400@www.district52.org
SUMMARY:Club Officer Training
DESCRIPTION:Newly added session!\n  \nRed Runyon\, DTM\, will lead the Feb 11\, 2023\, club officer training.\nClick Here To Register For This Fantastic Session With Red!\n  \nJeff Herman\, DTM\, will lead the Feb 25\, 2023\, club officer training.\nClick Here to Register For A Memorable Training With Jeff!
URL:https://www.district52.org/event/club-officer-training-9-2023-02-25/
LOCATION:ZOOM
ATTACH;FMTTYPE=image/png:https://www.district52.org/wp-content/uploads/2023/02/new-COT.png
ORGANIZER;CN="Serena McCullough":MAILTO:smcculloughdtm@gmail.com
END:VEVENT
BEGIN:VEVENT
DTSTART;TZID=America/Los_Angeles:20230224T100000
DTEND;TZID=America/Los_Angeles:20230224T120000
DTSTAMP:20260425T043843
CREATED:20230202T053712Z
LAST-MODIFIED:20230219T193902Z
UID:10272-1677232800-1677240000@www.district52.org
SUMMARY:Club Officer Training
DESCRIPTION:Serena McCullough\, DTM\, PQD\,  will be leading the Feb 24\, 2023 Session Starting at 10:00 am\nRegistration Link: Click Here\n\nRose Abbott\, DTM\, District 52 Director\, will lead the Feb 27\, 2023 Session Starting at 10:00 am\nRegistration Link: Click Here\n  \nLance Webster\, DTM\, Past District 52 Director\, will lead the Feb 28\, 2023 Session Starting at 7:00 pm\nRegistration Link: Click Here\n 
URL:https://www.district52.org/event/club-officer-training-8-2023-02-24/
LOCATION:ZOOM
CATEGORIES:Club Officer Training,District Event,Training,Virtual,Virtual Training,Zoom
ORGANIZER;CN="Serena McCullough":MAILTO:smcculloughdtm@gmail.com
END:VEVENT
BEGIN:VEVENT
DTSTART;TZID=America/Los_Angeles:20230221T190000
DTEND;TZID=America/Los_Angeles:20230221T200000
DTSTAMP:20260425T043843
CREATED:20221124T231837Z
LAST-MODIFIED:20221124T231837Z
UID:9939-1677006000-1677009600@www.district52.org
SUMMARY:Future District Leadership Information Sessions
DESCRIPTION:Tuesdays at 7pm \nJoin Zoom Meeting \nhttps://us02web.zoom.us/j/87524455760 \nMeeting ID: 875 2445 5760
URL:https://www.district52.org/event/future-district-leadership-information-sessions-2023-02-21/
LOCATION:ZOOM
END:VEVENT
BEGIN:VEVENT
DTSTART;TZID=America/Los_Angeles:20230214T190000
DTEND;TZID=America/Los_Angeles:20230214T200000
DTSTAMP:20260425T043843
CREATED:20221124T231837Z
LAST-MODIFIED:20221124T231837Z
UID:9938-1676401200-1676404800@www.district52.org
SUMMARY:Future District Leadership Information Sessions
DESCRIPTION:Tuesdays at 7pm \nJoin Zoom Meeting \nhttps://us02web.zoom.us/j/87524455760 \nMeeting ID: 875 2445 5760
URL:https://www.district52.org/event/future-district-leadership-information-sessions-2023-02-14/
LOCATION:ZOOM
END:VEVENT
BEGIN:VEVENT
DTSTART;TZID=America/Los_Angeles:20230211T100000
DTEND;TZID=America/Los_Angeles:20230211T120000
DTSTAMP:20260425T043843
CREATED:20230203T221938Z
LAST-MODIFIED:20230206T051627Z
UID:10167-1676109600-1676116800@www.district52.org
SUMMARY:Club Officer Training
DESCRIPTION:Newly added session!\n  \nRed Runyon\, DTM\, will lead the Feb 11\, 2023\, club officer training.\nClick Here To Register For This Fantastic Session With Red!\n  \nJeff Herman\, DTM\, will lead the Feb 25\, 2023\, club officer training.\nClick Here to Register For A Memorable Training With Jeff!
URL:https://www.district52.org/event/club-officer-training-9/
LOCATION:ZOOM
ATTACH;FMTTYPE=image/png:https://www.district52.org/wp-content/uploads/2023/02/new-COT.png
ORGANIZER;CN="Serena McCullough":MAILTO:smcculloughdtm@gmail.com
END:VEVENT
BEGIN:VEVENT
DTSTART;TZID=America/Los_Angeles:20230207T190000
DTEND;TZID=America/Los_Angeles:20230207T200000
DTSTAMP:20260425T043843
CREATED:20221124T231837Z
LAST-MODIFIED:20221124T231837Z
UID:9937-1675796400-1675800000@www.district52.org
SUMMARY:Future District Leadership Information Sessions
DESCRIPTION:Tuesdays at 7pm \nJoin Zoom Meeting \nhttps://us02web.zoom.us/j/87524455760 \nMeeting ID: 875 2445 5760
URL:https://www.district52.org/event/future-district-leadership-information-sessions-2023-02-07/
LOCATION:ZOOM
END:VEVENT
BEGIN:VEVENT
DTSTART;TZID=America/Los_Angeles:20230206T190000
DTEND;TZID=America/Los_Angeles:20230206T210000
DTSTAMP:20260425T043843
CREATED:20230202T053712Z
LAST-MODIFIED:20230219T193859Z
UID:10151-1675710000-1675717200@www.district52.org
SUMMARY:Club Officer Training
DESCRIPTION:Serena McCullough\, DTM\, PQD\,  will be leading the Feb 24\, 2023 Session Starting at 10:00 am\nRegistration Link: Click Here\n\nRose Abbott\, DTM\, District 52 Director\, will lead the Feb 27\, 2023 Session Starting at 10:00 am\nRegistration Link: Click Here\n  \nLance Webster\, DTM\, Past District 52 Director\, will lead the Feb 28\, 2023 Session Starting at 7:00 pm\nRegistration Link: Click Here\n 
URL:https://www.district52.org/event/club-officer-training-8/
LOCATION:ZOOM
CATEGORIES:Club Officer Training,District Event,Training,Virtual,Virtual Training,Zoom
ORGANIZER;CN="Serena McCullough":MAILTO:smcculloughdtm@gmail.com
END:VEVENT
BEGIN:VEVENT
DTSTART;TZID=America/Los_Angeles:20230206T183000
DTEND;TZID=America/Los_Angeles:20230206T200000
DTSTAMP:20260425T043843
CREATED:20211101T215128Z
LAST-MODIFIED:20220727T063923Z
UID:8275-1675708200-1675713600@www.district52.org
SUMMARY:WORKSHOP Free ToastHost Web Training
DESCRIPTION:Did you know that your Club can get a free Toastmasters website? \nMarc Richards will show you how to get one\, and how to manage it. \nAnd for those that already have it\, he will show you how to manage it properly. \nRegistration link:\nhttps://D52.me/FreeWebTraining \nNOTE: Limited seats\, first come first served \nEmail: clubwebsitetrainer@gmail.com for any questions you may have regarding the FTH training.
URL:https://www.district52.org/event/toasthost-web-training-2023-02-06/
LOCATION:Online Via Zoom
ATTACH;FMTTYPE=image/png:https://www.district52.org/wp-content/uploads/2021/11/WORKSHOP-Free-Toastmasters-Website.png
END:VEVENT
BEGIN:VEVENT
DTSTART;TZID=America/Los_Angeles:20230131T190000
DTEND;TZID=America/Los_Angeles:20230131T200000
DTSTAMP:20260425T043843
CREATED:20221124T231837Z
LAST-MODIFIED:20221124T231837Z
UID:9936-1675191600-1675195200@www.district52.org
SUMMARY:Future District Leadership Information Sessions
DESCRIPTION:Tuesdays at 7pm \nJoin Zoom Meeting \nhttps://us02web.zoom.us/j/87524455760 \nMeeting ID: 875 2445 5760
URL:https://www.district52.org/event/future-district-leadership-information-sessions-2023-01-31/
LOCATION:ZOOM
END:VEVENT
BEGIN:VEVENT
DTSTART;TZID=America/Los_Angeles:20230124T190000
DTEND;TZID=America/Los_Angeles:20230124T200000
DTSTAMP:20260425T043843
CREATED:20221124T231837Z
LAST-MODIFIED:20221124T231837Z
UID:9935-1674586800-1674590400@www.district52.org
SUMMARY:Future District Leadership Information Sessions
DESCRIPTION:Tuesdays at 7pm \nJoin Zoom Meeting \nhttps://us02web.zoom.us/j/87524455760 \nMeeting ID: 875 2445 5760
URL:https://www.district52.org/event/future-district-leadership-information-sessions-2023-01-24/
LOCATION:ZOOM
END:VEVENT
BEGIN:VEVENT
DTSTART;TZID=America/Los_Angeles:20230117T190000
DTEND;TZID=America/Los_Angeles:20230117T200000
DTSTAMP:20260425T043843
CREATED:20221124T231837Z
LAST-MODIFIED:20221124T231837Z
UID:9934-1673982000-1673985600@www.district52.org
SUMMARY:Future District Leadership Information Sessions
DESCRIPTION:Tuesdays at 7pm \nJoin Zoom Meeting \nhttps://us02web.zoom.us/j/87524455760 \nMeeting ID: 875 2445 5760
URL:https://www.district52.org/event/future-district-leadership-information-sessions-2023-01-17/
LOCATION:ZOOM
END:VEVENT
BEGIN:VEVENT
DTSTART;TZID=America/Los_Angeles:20230117T180000
DTEND;TZID=America/Los_Angeles:20230117T200000
DTSTAMP:20260425T043843
CREATED:20220907T053741Z
LAST-MODIFIED:20230426T040845Z
UID:9277-1673978400-1673985600@www.district52.org
SUMMARY:District 52 Monthly Workshops
DESCRIPTION:Third Tuesdays of the Month Workshops \n\nPathways\nGrowth Membership\nOpen House\nYouth Leadership/Speech Craft\n\nRegister at https://bit.ly/3QjaZ5s
URL:https://www.district52.org/event/district-52-monthly-workshops-2023-01-17/
LOCATION:ZOOM
CATEGORIES:Pathways,Training,Virtual,Virtual Training,Workshop,Zoom
ATTACH;FMTTYPE=image/png:https://www.district52.org/wp-content/uploads/2022/09/May-Monthly-Workshop.png
ORGANIZER;CN="Serena McCullough":MAILTO:smcculloughdtm@gmail.com
END:VEVENT
BEGIN:VEVENT
DTSTART;TZID=America/Los_Angeles:20230110T190000
DTEND;TZID=America/Los_Angeles:20230110T200000
DTSTAMP:20260425T043843
CREATED:20221124T231837Z
LAST-MODIFIED:20221124T231837Z
UID:9933-1673377200-1673380800@www.district52.org
SUMMARY:Future District Leadership Information Sessions
DESCRIPTION:Tuesdays at 7pm \nJoin Zoom Meeting \nhttps://us02web.zoom.us/j/87524455760 \nMeeting ID: 875 2445 5760
URL:https://www.district52.org/event/future-district-leadership-information-sessions-2023-01-10/
LOCATION:ZOOM
END:VEVENT
BEGIN:VEVENT
DTSTART;TZID=America/Los_Angeles:20230103T190000
DTEND;TZID=America/Los_Angeles:20230103T200000
DTSTAMP:20260425T043843
CREATED:20221124T231837Z
LAST-MODIFIED:20221124T231837Z
UID:9932-1672772400-1672776000@www.district52.org
SUMMARY:Future District Leadership Information Sessions
DESCRIPTION:Tuesdays at 7pm \nJoin Zoom Meeting \nhttps://us02web.zoom.us/j/87524455760 \nMeeting ID: 875 2445 5760
URL:https://www.district52.org/event/future-district-leadership-information-sessions-2023-01-03/
LOCATION:ZOOM
END:VEVENT
BEGIN:VEVENT
DTSTART;TZID=America/Los_Angeles:20230102T183000
DTEND;TZID=America/Los_Angeles:20230102T200000
DTSTAMP:20260425T043843
CREATED:20211101T215128Z
LAST-MODIFIED:20220727T063921Z
UID:8274-1672684200-1672689600@www.district52.org
SUMMARY:WORKSHOP Free ToastHost Web Training
DESCRIPTION:Did you know that your Club can get a free Toastmasters website? \nMarc Richards will show you how to get one\, and how to manage it. \nAnd for those that already have it\, he will show you how to manage it properly. \nRegistration link:\nhttps://D52.me/FreeWebTraining \nNOTE: Limited seats\, first come first served \nEmail: clubwebsitetrainer@gmail.com for any questions you may have regarding the FTH training.
URL:https://www.district52.org/event/toasthost-web-training-2023-01-02/
LOCATION:Online Via Zoom
ATTACH;FMTTYPE=image/png:https://www.district52.org/wp-content/uploads/2021/11/WORKSHOP-Free-Toastmasters-Website.png
END:VEVENT
BEGIN:VEVENT
DTSTART;TZID=America/Los_Angeles:20221227T190000
DTEND;TZID=America/Los_Angeles:20221227T200000
DTSTAMP:20260425T043843
CREATED:20221124T231837Z
LAST-MODIFIED:20221124T231837Z
UID:9931-1672167600-1672171200@www.district52.org
SUMMARY:Future District Leadership Information Sessions
DESCRIPTION:Tuesdays at 7pm \nJoin Zoom Meeting \nhttps://us02web.zoom.us/j/87524455760 \nMeeting ID: 875 2445 5760
URL:https://www.district52.org/event/future-district-leadership-information-sessions-2022-12-27/
LOCATION:ZOOM
END:VEVENT
BEGIN:VEVENT
DTSTART;TZID=America/Los_Angeles:20221220T190000
DTEND;TZID=America/Los_Angeles:20221220T200000
DTSTAMP:20260425T043843
CREATED:20221124T231837Z
LAST-MODIFIED:20221124T231837Z
UID:9930-1671562800-1671566400@www.district52.org
SUMMARY:Future District Leadership Information Sessions
DESCRIPTION:Tuesdays at 7pm \nJoin Zoom Meeting \nhttps://us02web.zoom.us/j/87524455760 \nMeeting ID: 875 2445 5760
URL:https://www.district52.org/event/future-district-leadership-information-sessions-2022-12-20/
LOCATION:ZOOM
END:VEVENT
BEGIN:VEVENT
DTSTART;TZID=America/Los_Angeles:20221220T180000
DTEND;TZID=America/Los_Angeles:20221220T200000
DTSTAMP:20260425T043843
CREATED:20220907T053741Z
LAST-MODIFIED:20230426T040844Z
UID:10306-1671559200-1671566400@www.district52.org
SUMMARY:District 52 Monthly Workshops
DESCRIPTION:Third Tuesdays of the Month Workshops \n\nPathways\nGrowth Membership\nOpen House\nYouth Leadership/Speech Craft\n\nRegister at https://bit.ly/3QjaZ5s
URL:https://www.district52.org/event/district-52-monthly-workshops-2022-12-20/
LOCATION:ZOOM
CATEGORIES:Pathways,Training,Virtual,Virtual Training,Workshop,Zoom
ATTACH;FMTTYPE=image/png:https://www.district52.org/wp-content/uploads/2022/09/May-Monthly-Workshop.png
ORGANIZER;CN="Serena McCullough":MAILTO:smcculloughdtm@gmail.com
END:VEVENT
BEGIN:VEVENT
DTSTART;TZID=America/Los_Angeles:20221213T190000
DTEND;TZID=America/Los_Angeles:20221213T200000
DTSTAMP:20260425T043843
CREATED:20221124T231837Z
LAST-MODIFIED:20221202T222604Z
UID:9790-1670958000-1670961600@www.district52.org
SUMMARY:Future District Leadership Information Sessions
DESCRIPTION:Tuesdays at 7pm \nJoin Zoom Meeting \nhttps://us02web.zoom.us/j/87524455760 \nMeeting ID: 875 2445 5760
URL:https://www.district52.org/event/future-district-leadership-information-sessions/
LOCATION:ZOOM
END:VEVENT
BEGIN:VEVENT
DTSTART;TZID=America/Los_Angeles:20221207T190000
DTEND;TZID=America/Los_Angeles:20221207T210000
DTSTAMP:20260425T043843
CREATED:20221029T234011Z
LAST-MODIFIED:20221124T085200Z
UID:9566-1670439600-1670446800@www.district52.org
SUMMARY:Club Officer Training
DESCRIPTION:Club Officer Training Schedule for November and December 2022\n\n11/12 (Saturday) @ 10am – 12pm PDT\nLink: https://bit.ly/3eS8Ksz \n11/14 (Monday) @ 7pm – 9pm PDT\nLink: https://bit.ly/3z15dPr \n12/3 (Saturday) @ 10am – 12pm PDT\nLink: https://bit.ly/3CTJzhh \n12/7 (Wednesday) @ 7 – 9pm  PDT\nLink: https://bit.ly/3gq5hSz \n 
URL:https://www.district52.org/event/club-officers-training-2-2022-12-07/
LOCATION:ZOOM
ATTACH;FMTTYPE=image/png:https://www.district52.org/wp-content/uploads/2022/08/Copy-of-NEW-BANNER-SIZE-1.png
ORGANIZER;CN="Serena McCullough":MAILTO:smcculloughdtm@gmail.com
END:VEVENT
BEGIN:VEVENT
DTSTART;TZID=America/Los_Angeles:20221205T183000
DTEND;TZID=America/Los_Angeles:20221205T200000
DTSTAMP:20260425T043843
CREATED:20211101T215128Z
LAST-MODIFIED:20220727T063920Z
UID:8273-1670265000-1670270400@www.district52.org
SUMMARY:WORKSHOP Free ToastHost Web Training
DESCRIPTION:Did you know that your Club can get a free Toastmasters website? \nMarc Richards will show you how to get one\, and how to manage it. \nAnd for those that already have it\, he will show you how to manage it properly. \nRegistration link:\nhttps://D52.me/FreeWebTraining \nNOTE: Limited seats\, first come first served \nEmail: clubwebsitetrainer@gmail.com for any questions you may have regarding the FTH training.
URL:https://www.district52.org/event/toasthost-web-training-2022-12-05/
LOCATION:Online Via Zoom
ATTACH;FMTTYPE=image/png:https://www.district52.org/wp-content/uploads/2021/11/WORKSHOP-Free-Toastmasters-Website.png
END:VEVENT
BEGIN:VEVENT
DTSTART;TZID=America/Los_Angeles:20221203T100000
DTEND;TZID=America/Los_Angeles:20221203T120000
DTSTAMP:20260425T043843
CREATED:20221029T234011Z
LAST-MODIFIED:20221124T085200Z
UID:9565-1670061600-1670068800@www.district52.org
SUMMARY:Club Officer Training
DESCRIPTION:Club Officer Training Schedule for November and December 2022\n\n11/12 (Saturday) @ 10am – 12pm PDT\nLink: https://bit.ly/3eS8Ksz \n11/14 (Monday) @ 7pm – 9pm PDT\nLink: https://bit.ly/3z15dPr \n12/3 (Saturday) @ 10am – 12pm PDT\nLink: https://bit.ly/3CTJzhh \n12/7 (Wednesday) @ 7 – 9pm  PDT\nLink: https://bit.ly/3gq5hSz \n 
URL:https://www.district52.org/event/club-officers-training-2-2022-12-03/
LOCATION:ZOOM
ATTACH;FMTTYPE=image/png:https://www.district52.org/wp-content/uploads/2022/08/Copy-of-NEW-BANNER-SIZE-1.png
ORGANIZER;CN="Serena McCullough":MAILTO:smcculloughdtm@gmail.com
END:VEVENT
BEGIN:VEVENT
DTSTART;TZID=America/Los_Angeles:20221115T180000
DTEND;TZID=America/Los_Angeles:20221115T200000
DTSTAMP:20260425T043843
CREATED:20220907T053741Z
LAST-MODIFIED:20230426T040843Z
UID:9275-1668535200-1668542400@www.district52.org
SUMMARY:District 52 Monthly Workshops
DESCRIPTION:Third Tuesdays of the Month Workshops \n\nPathways\nGrowth Membership\nOpen House\nYouth Leadership/Speech Craft\n\nRegister at https://bit.ly/3QjaZ5s
URL:https://www.district52.org/event/district-52-monthly-workshops-2022-11-15/
LOCATION:ZOOM
CATEGORIES:Pathways,Training,Virtual,Virtual Training,Workshop,Zoom
ATTACH;FMTTYPE=image/png:https://www.district52.org/wp-content/uploads/2022/09/May-Monthly-Workshop.png
ORGANIZER;CN="Serena McCullough":MAILTO:smcculloughdtm@gmail.com
END:VEVENT
BEGIN:VEVENT
DTSTART;TZID=America/Los_Angeles:20221114T190000
DTEND;TZID=America/Los_Angeles:20221114T210000
DTSTAMP:20260425T043843
CREATED:20221029T234011Z
LAST-MODIFIED:20221124T085159Z
UID:9564-1668452400-1668459600@www.district52.org
SUMMARY:Club Officer Training
DESCRIPTION:Club Officer Training Schedule for November and December 2022\n\n11/12 (Saturday) @ 10am – 12pm PDT\nLink: https://bit.ly/3eS8Ksz \n11/14 (Monday) @ 7pm – 9pm PDT\nLink: https://bit.ly/3z15dPr \n12/3 (Saturday) @ 10am – 12pm PDT\nLink: https://bit.ly/3CTJzhh \n12/7 (Wednesday) @ 7 – 9pm  PDT\nLink: https://bit.ly/3gq5hSz \n 
URL:https://www.district52.org/event/club-officers-training-2-2022-11-14/
LOCATION:ZOOM
ATTACH;FMTTYPE=image/png:https://www.district52.org/wp-content/uploads/2022/08/Copy-of-NEW-BANNER-SIZE-1.png
ORGANIZER;CN="Serena McCullough":MAILTO:smcculloughdtm@gmail.com
END:VEVENT
END:VCALENDAR