BEGIN:VCALENDAR
VERSION:2.0
PRODID:-//Toastmasters District 52 - ECPv6.15.20//NONSGML v1.0//EN
CALSCALE:GREGORIAN
METHOD:PUBLISH
X-WR-CALNAME:Toastmasters District 52
X-ORIGINAL-URL:https://www.district52.org
X-WR-CALDESC:Events for Toastmasters District 52
REFRESH-INTERVAL;VALUE=DURATION:PT1H
X-Robots-Tag:noindex
X-PUBLISHED-TTL:PT1H
BEGIN:VTIMEZONE
TZID:America/Los_Angeles
BEGIN:DAYLIGHT
TZOFFSETFROM:-0800
TZOFFSETTO:-0700
TZNAME:PDT
DTSTART:20220313T100000
END:DAYLIGHT
BEGIN:STANDARD
TZOFFSETFROM:-0700
TZOFFSETTO:-0800
TZNAME:PST
DTSTART:20221106T090000
END:STANDARD
BEGIN:DAYLIGHT
TZOFFSETFROM:-0800
TZOFFSETTO:-0700
TZNAME:PDT
DTSTART:20230312T100000
END:DAYLIGHT
BEGIN:STANDARD
TZOFFSETFROM:-0700
TZOFFSETTO:-0800
TZNAME:PST
DTSTART:20231105T090000
END:STANDARD
BEGIN:DAYLIGHT
TZOFFSETFROM:-0800
TZOFFSETTO:-0700
TZNAME:PDT
DTSTART:20240310T100000
END:DAYLIGHT
BEGIN:STANDARD
TZOFFSETFROM:-0700
TZOFFSETTO:-0800
TZNAME:PST
DTSTART:20241103T090000
END:STANDARD
BEGIN:DAYLIGHT
TZOFFSETFROM:-0800
TZOFFSETTO:-0700
TZNAME:PDT
DTSTART:20250309T100000
END:DAYLIGHT
BEGIN:STANDARD
TZOFFSETFROM:-0700
TZOFFSETTO:-0800
TZNAME:PST
DTSTART:20251102T090000
END:STANDARD
END:VTIMEZONE
BEGIN:VEVENT
DTSTART;TZID=America/Los_Angeles:20231202T100000
DTEND;TZID=America/Los_Angeles:20231202T120000
DTSTAMP:20260425T074310
CREATED:20231129T053915Z
LAST-MODIFIED:20231129T054029Z
UID:11942-1701511200-1701518400@www.district52.org
SUMMARY:District 52 Holiday Celebration
DESCRIPTION:District 52 Holiday Celebration @ 10AM – 12noon \nRegister here for in-person attendance – https://forms.gle/G6cW7YtQsVj4xXwV9 \nRegister here for virtual participation – https://us06web.zoom.us/meeting/register/tZ0kdOmrrTwqHteCUqp_lG6acHEad9IhXHRG
URL:https://www.district52.org/event/11942/
LOCATION:San Fernando County Library\, 217 N. Maclay Ave\, San Fernando\, California\, United States
ORGANIZER;CN="Serena McCullough":MAILTO:smcculloughdtm@gmail.com
END:VEVENT
BEGIN:VEVENT
DTSTART;TZID=America/Los_Angeles:20231201T080000
DTEND;TZID=America/Los_Angeles:20240210T235900
DTSTAMP:20260425T074310
CREATED:20231221T013750Z
LAST-MODIFIED:20231221T020204Z
UID:12109-1701417600-1707609540@www.district52.org
SUMMARY:2024-2025 District 52 Leadership Nominations
DESCRIPTION:
URL:https://www.district52.org/event/2024-2025-district-52-leadership-nominations/
LOCATION:CA
ORGANIZER;CN="Rose Abbott%2C DTM":MAILTO:divedirector@district52.org
END:VEVENT
BEGIN:VEVENT
DTSTART;TZID=America/Los_Angeles:20231130T100000
DTEND;TZID=America/Los_Angeles:20231130T120000
DTSTAMP:20260425T074310
CREATED:20231106T054509Z
LAST-MODIFIED:20231106T055458Z
UID:11886-1701338400-1701345600@www.district52.org
SUMMARY:Club Officers Training Round 2
DESCRIPTION:
URL:https://www.district52.org/event/11886/
LOCATION:CA
END:VEVENT
BEGIN:VEVENT
DTSTART;TZID=America/Los_Angeles:20231119T180000
DTEND;TZID=America/Los_Angeles:20231119T200000
DTSTAMP:20260425T074310
CREATED:20231106T054226Z
LAST-MODIFIED:20231106T055129Z
UID:11884-1700416800-1700424000@www.district52.org
SUMMARY:Club Officers Training Round 2
DESCRIPTION:
URL:https://www.district52.org/event/11884/
LOCATION:CA
END:VEVENT
BEGIN:VEVENT
DTSTART;TZID=America/Los_Angeles:20231117T180000
DTEND;TZID=America/Los_Angeles:20231117T200000
DTSTAMP:20260425T074310
CREATED:20231106T054100Z
LAST-MODIFIED:20231106T055711Z
UID:11882-1700244000-1700251200@www.district52.org
SUMMARY:Club Officers Training Round 2
DESCRIPTION:
URL:https://www.district52.org/event/11882/
LOCATION:CA
END:VEVENT
BEGIN:VEVENT
DTSTART;TZID=America/Los_Angeles:20231114T183000
DTEND;TZID=America/Los_Angeles:20231114T203000
DTSTAMP:20260425T074310
CREATED:20230914T005924Z
LAST-MODIFIED:20231202T224635Z
UID:11442-1699986600-1699993800@www.district52.org
SUMMARY:D52 Monthly Workshops
DESCRIPTION:NEW DATE! For November and December the workshops will be on the second Tuesday nights.\nNEW TIME! Pathways Mini Workshop now 7:30-8:30 PM! Dawn Jenkins will keep going after 8:30 PM if there are questions you need to have answered.  Register at:  https://bit.ly/46a3nKd
URL:https://www.district52.org/event/d52-monthly-workshops/
LOCATION:ZOOM
CATEGORIES:Pathways,Virtual Training,Workshop
END:VEVENT
BEGIN:VEVENT
DTSTART;TZID=America/Los_Angeles:20231109T190000
DTEND;TZID=America/Los_Angeles:20231109T203000
DTSTAMP:20260425T074310
CREATED:20231106T053208Z
LAST-MODIFIED:20231106T053208Z
UID:11874-1699556400-1699561800@www.district52.org
SUMMARY:Heart Filled Toastmasters' Open House
DESCRIPTION:
URL:https://www.district52.org/event/heart-filled-toastmasters-open-house/
LOCATION:CA
END:VEVENT
BEGIN:VEVENT
DTSTART;TZID=America/Los_Angeles:20231102T180000
DTEND;TZID=America/Los_Angeles:20231102T190000
DTSTAMP:20260425T074310
CREATED:20230827T034847Z
LAST-MODIFIED:20240317T042404Z
UID:11345-1698948000-1698951600@www.district52.org
SUMMARY:D52 VPPR Monthly Roundtable
DESCRIPTION:Sessions will be facilitated by D52 PR Team.  Register at: https://us06web.zoom.us/meeting/register/tZEsdeuhqDspGtHHhwh5S2Sb_g0oQi4xQ2Xw
URL:https://www.district52.org/event/d52-vppr-monthly-roundtable-2023-11-02/
LOCATION:ZOOM
END:VEVENT
BEGIN:VEVENT
DTSTART;TZID=America/Los_Angeles:20231005T180000
DTEND;TZID=America/Los_Angeles:20231005T190000
DTSTAMP:20260425T074310
CREATED:20230827T034847Z
LAST-MODIFIED:20240317T042404Z
UID:11344-1696528800-1696532400@www.district52.org
SUMMARY:D52 VPPR Monthly Roundtable
DESCRIPTION:Sessions will be facilitated by D52 PR Team.  Register at: https://us06web.zoom.us/meeting/register/tZEsdeuhqDspGtHHhwh5S2Sb_g0oQi4xQ2Xw
URL:https://www.district52.org/event/d52-vppr-monthly-roundtable-2023-10-05/
LOCATION:ZOOM
END:VEVENT
BEGIN:VEVENT
DTSTART;TZID=America/Los_Angeles:20231002T183000
DTEND;TZID=America/Los_Angeles:20231002T203000
DTSTAMP:20260425T074310
CREATED:20230903T221304Z
LAST-MODIFIED:20230917T221139Z
UID:11385-1696271400-1696278600@www.district52.org
SUMMARY:
DESCRIPTION:Register Here
URL:https://www.district52.org/event/11385/
LOCATION:ZOOM
ORGANIZER;CN="Marc Richards%2C DTM%2C Club Website Trainer":MAILTO:clubwebsitetrainer@district52.org
END:VEVENT
BEGIN:VEVENT
DTSTART;TZID=America/Los_Angeles:20230922T190000
DTEND;TZID=America/Los_Angeles:20230922T203000
DTSTAMP:20260425T074310
CREATED:20230825T234715Z
LAST-MODIFIED:20230909T033609Z
UID:11304-1695409200-1695414600@www.district52.org
SUMMARY:DISTRICT 52 VIRTUAL BI-ANNUAL BUSINESS MEETING
DESCRIPTION:Calling all District Council Members. Registration is open now for the D52 Annual Business Meeting. You must register for the District Council Meeting in advance. Your registration and attendance are important to constitute the required quorum for the successful transaction of business at this meeting. REGISTER HERE \nFind the business meeting packet here: D52 Virtual Business Council Meeting Package 09.22.23.docx \nWho is the District Council?
URL:https://www.district52.org/event/test/
LOCATION:CA
END:VEVENT
BEGIN:VEVENT
DTSTART;TZID=America/Los_Angeles:20230907T180000
DTEND;TZID=America/Los_Angeles:20230907T190000
DTSTAMP:20260425T074310
CREATED:20230827T034847Z
LAST-MODIFIED:20240317T042403Z
UID:11340-1694109600-1694113200@www.district52.org
SUMMARY:D52 VPPR Monthly Roundtable
DESCRIPTION:Sessions will be facilitated by D52 PR Team.  Register at: https://us06web.zoom.us/meeting/register/tZEsdeuhqDspGtHHhwh5S2Sb_g0oQi4xQ2Xw
URL:https://www.district52.org/event/d52-vppr-monthly-roundtable/
LOCATION:ZOOM
END:VEVENT
BEGIN:VEVENT
DTSTART;TZID=America/Los_Angeles:20230831T190000
DTEND;TZID=America/Los_Angeles:20230831T210000
DTSTAMP:20260425T074310
CREATED:20230826T160014Z
LAST-MODIFIED:20230826T181226Z
UID:11334-1693508400-1693515600@www.district52.org
SUMMARY:D52 Club Officers Training
DESCRIPTION:8/31:  Lance Webster will lead this training session – 7-9pm (2 hour training) to help prepare you for your club officer year. \nLink: https://us06web.zoom.us/meeting/register/tZIlf-GpqzIiGt3-5KkHeDoFXPr0_v_Ohypr
URL:https://www.district52.org/event/d52-club-officers-training-3/
LOCATION:ZOOM
END:VEVENT
BEGIN:VEVENT
DTSTART;TZID=America/Los_Angeles:20230830T190000
DTEND;TZID=America/Los_Angeles:20230830T210000
DTSTAMP:20260425T074310
CREATED:20230826T155446Z
LAST-MODIFIED:20230826T155618Z
UID:11331-1693422000-1693429200@www.district52.org
SUMMARY:D52 Club Officers Training
DESCRIPTION:8/30: John Murray will lead this training session – 7-9pm (2 hour training) to help prepare you for your club officer year. \nLink: \nhttps://us06web.zoom.us/meeting/register/tZ0ucemtqzsrGNa7UJ47sqg1Dvg5jBUuxpDV
URL:https://www.district52.org/event/d52-club-officers-training-2/
LOCATION:ZOOM
END:VEVENT
BEGIN:VEVENT
DTSTART;TZID=America/Los_Angeles:20230829T190000
DTEND;TZID=America/Los_Angeles:20230829T203000
DTSTAMP:20260425T074310
CREATED:20230826T155255Z
LAST-MODIFIED:20230826T155255Z
UID:11329-1693335600-1693341000@www.district52.org
SUMMARY:D52 Club Officers Training
DESCRIPTION:Tue\, August 29th from 7-8:30 pm with Lawrence Quesada \nLink: \nhttps://us06web.zoom.us/meeting/register/tZcucemhqjsrGtLr-UdUK1PW5xjWlsBD1ms6
URL:https://www.district52.org/event/d52-club-officers-training/
LOCATION:ZOOM
END:VEVENT
BEGIN:VEVENT
DTSTART;TZID=America/Los_Angeles:20230828T100000
DTEND;TZID=America/Los_Angeles:20230828T120000
DTSTAMP:20260425T074310
CREATED:20230805T231127Z
LAST-MODIFIED:20230805T231253Z
UID:11277-1693216800-1693224000@www.district52.org
SUMMARY:D52 Club Officer Training
DESCRIPTION:Rose Abbott will lead this session. \nLink \nhttps://us06web.zoom.us/meeting/register/tZYqcuCqrj4uGNfxcQCJ4R22v4xnPObeQGdC
URL:https://www.district52.org/event/d52-club-officer-training/
LOCATION:CA
CATEGORIES:Virtual,Virtual Meeting,Virtual Training,Zoom
END:VEVENT
BEGIN:VEVENT
DTSTART;TZID=America/Los_Angeles:20230827T190000
DTEND;TZID=America/Los_Angeles:20230827T210000
DTSTAMP:20260425T074310
CREATED:20230826T154512Z
LAST-MODIFIED:20230826T154759Z
UID:11326-1693162800-1693170000@www.district52.org
SUMMARY:D52 Club Officers Training
DESCRIPTION:8/27:  Lance Webster will lead this training session – 7-9pm (2 hour training) to help prepare you for your club officer year. \nLink: https://us06web.zoom.us/meeting/register/tZIkcOmopjsvEtEC9zgd0dvqF_-YR1z1aFKS
URL:https://www.district52.org/event/cot/
LOCATION:ZOOM
END:VEVENT
BEGIN:VEVENT
DTSTART;TZID=America/Los_Angeles:20230717T190000
DTEND;TZID=America/Los_Angeles:20230717T210000
DTSTAMP:20260425T074310
CREATED:20230710T051932Z
LAST-MODIFIED:20230710T053346Z
UID:11009-1689620400-1689627600@www.district52.org
SUMMARY:District 52 Club Officer Training
DESCRIPTION:Jackie Sanders\, DTM\, will lead this session.\nClick here to register for July 12\, 2023\, 2:00 to 4:00 pm session.\nOr use the following URL\nhttps://us06web.zoom.us/meeting/register/tZAkdumqrz0uGdE1lfb2LiVQTkvJ2_6BochK \nClick here to register for July 17\, 2023\, 7:00 to 9:00 pm session. Or use the following URL\nhttps://us06web.zoom.us/meeting/register/tZcqdOGoqT0tEtKDkjy6o4M4-TfBoNxNsBRb
URL:https://www.district52.org/event/district-52-club-officer-training-2023-07-17/
LOCATION:ZOOM
CATEGORIES:Club Officer Training,District Event,Officer Training,Training,Virtual,Virtual Meeting,Virtual Training,Zoom
ATTACH;FMTTYPE=image/jpeg:https://www.district52.org/wp-content/uploads/2023/07/clubofficertraining.jpg
ORGANIZER;CN="Serena McCullough":MAILTO:smcculloughdtm@gmail.com
END:VEVENT
BEGIN:VEVENT
DTSTART;TZID=America/Los_Angeles:20230712T140000
DTEND;TZID=America/Los_Angeles:20230712T160000
DTSTAMP:20260425T074310
CREATED:20230710T051932Z
LAST-MODIFIED:20230710T053345Z
UID:11006-1689170400-1689177600@www.district52.org
SUMMARY:District 52 Club Officer Training
DESCRIPTION:Jackie Sanders\, DTM\, will lead this session.\nClick here to register for July 12\, 2023\, 2:00 to 4:00 pm session.\nOr use the following URL\nhttps://us06web.zoom.us/meeting/register/tZAkdumqrz0uGdE1lfb2LiVQTkvJ2_6BochK \nClick here to register for July 17\, 2023\, 7:00 to 9:00 pm session. Or use the following URL\nhttps://us06web.zoom.us/meeting/register/tZcqdOGoqT0tEtKDkjy6o4M4-TfBoNxNsBRb
URL:https://www.district52.org/event/district-52-club-officer-training/
LOCATION:ZOOM
CATEGORIES:Club Officer Training,District Event,Officer Training,Training,Virtual,Virtual Meeting,Virtual Training,Zoom
ATTACH;FMTTYPE=image/jpeg:https://www.district52.org/wp-content/uploads/2023/07/clubofficertraining.jpg
ORGANIZER;CN="Serena McCullough":MAILTO:smcculloughdtm@gmail.com
END:VEVENT
BEGIN:VEVENT
DTSTART;TZID=America/Los_Angeles:20230708T100000
DTEND;TZID=America/Los_Angeles:20230708T130000
DTSTAMP:20260425T074310
CREATED:20230618T081133Z
LAST-MODIFIED:20230618T081133Z
UID:10958-1688810400-1688821200@www.district52.org
SUMMARY:District 52 Hybrid Awards & Installation
DESCRIPTION:Please register here.\n 
URL:https://www.district52.org/event/district-52-hybrid-awards-installation/
LOCATION:ZOOM
CATEGORIES:District Event,Virtual
ATTACH;FMTTYPE=image/png:https://www.district52.org/wp-content/uploads/2023/06/A-and-I.png
ORGANIZER;CN="Rose Abbott%2C DTM":MAILTO:divedirector@district52.org
END:VEVENT
BEGIN:VEVENT
DTSTART;TZID=America/Los_Angeles:20230624T100000
DTEND;TZID=America/Los_Angeles:20230624T140000
DTSTAMP:20260425T074310
CREATED:20230604T162729Z
LAST-MODIFIED:20230623T144808Z
UID:10941-1687600800-1687615200@www.district52.org
SUMMARY:2023 Toastmasters Leadership Institute (TLI)
DESCRIPTION:Please register at bit.ly/3MBz08t
URL:https://www.district52.org/event/2023-toastmasters-leadership-institute-tli/
LOCATION:ZOOM
CATEGORIES:Club Officer Training,District Event,Officer Training,Training,Virtual,Virtual Meeting,Virtual Training,Zoom
ATTACH;FMTTYPE=image/png:https://www.district52.org/wp-content/uploads/2023/06/Matt-TLI-1.png
ORGANIZER;CN="Serena McCullough":MAILTO:smcculloughdtm@gmail.com
END:VEVENT
BEGIN:VEVENT
DTSTART;TZID=America/Los_Angeles:20230620T180000
DTEND;TZID=America/Los_Angeles:20230620T200000
DTSTAMP:20260425T074310
CREATED:20230606T045319Z
LAST-MODIFIED:20230606T045320Z
UID:10948-1687284000-1687291200@www.district52.org
SUMMARY:District 52 Monthly Workshop
DESCRIPTION:Register for the workshop at https://bit.ly/3QjaZ5s
URL:https://www.district52.org/event/district-52-monthly-workshop/
LOCATION:ZOOM
CATEGORIES:District Event,Training,Virtual,Virtual Meeting,Virtual Training,Zoom
ATTACH;FMTTYPE=image/png:https://www.district52.org/wp-content/uploads/2023/06/June-Monthly-Workshop.png
ORGANIZER;CN="Serena McCullough":MAILTO:smcculloughdtm@gmail.com
END:VEVENT
BEGIN:VEVENT
DTSTART;TZID=America/Los_Angeles:20230606T180000
DTEND;TZID=America/Los_Angeles:20230606T200000
DTSTAMP:20260425T074310
CREATED:20230528T051107Z
LAST-MODIFIED:20230528T051608Z
UID:10926-1686074400-1686081600@www.district52.org
SUMMARY:Open House: Rising Star
DESCRIPTION:Rising Star Hybrid Open House \nZoom Registration Info: harsky@aol.com \nIn-person: 300 N. Buena Vista\, Burbank\, CA
URL:https://www.district52.org/event/open-house-rising-star/
LOCATION:Burbank Public Library\, 300 N. Buena Vista\, Burbank\, CA\, 91505\, United States
CATEGORIES:Club,Virtual,Zoom
ATTACH;FMTTYPE=image/jpeg:https://www.district52.org/wp-content/uploads/2023/05/58a77f5c-303e-4c97-b1ec-2fcfae222084.jpeg
ORGANIZER;CN="Carla Gray":MAILTO:carla@drcarlagray.com
END:VEVENT
BEGIN:VEVENT
DTSTART;TZID=America/Los_Angeles:20230605T183000
DTEND;TZID=America/Los_Angeles:20230605T200000
DTSTAMP:20260425T074310
CREATED:20211101T215128Z
LAST-MODIFIED:20220727T063931Z
UID:8279-1685989800-1685995200@www.district52.org
SUMMARY:WORKSHOP Free ToastHost Web Training
DESCRIPTION:Did you know that your Club can get a free Toastmasters website? \nMarc Richards will show you how to get one\, and how to manage it. \nAnd for those that already have it\, he will show you how to manage it properly. \nRegistration link:\nhttps://D52.me/FreeWebTraining \nNOTE: Limited seats\, first come first served \nEmail: clubwebsitetrainer@gmail.com for any questions you may have regarding the FTH training.
URL:https://www.district52.org/event/toasthost-web-training-2023-06-05/
LOCATION:Online Via Zoom
ATTACH;FMTTYPE=image/png:https://www.district52.org/wp-content/uploads/2021/11/WORKSHOP-Free-Toastmasters-Website.png
END:VEVENT
BEGIN:VEVENT
DTSTART;TZID=America/Los_Angeles:20230603T124500
DTEND;TZID=America/Los_Angeles:20230603T150000
DTSTAMP:20260425T074310
CREATED:20230528T045249Z
LAST-MODIFIED:20230528T045249Z
UID:10920-1685796300-1685804400@www.district52.org
SUMMARY:Open House: Mindful Communicators Toastmasters Club
DESCRIPTION:Contact Holly Fleschler info@mindfu lcommunicators.org
URL:https://www.district52.org/event/open-house-mindful-communicators-toastmasters-club/
LOCATION:ZOOM
CATEGORIES:Club,Virtual,Zoom
ATTACH;FMTTYPE=image/png:https://www.district52.org/wp-content/uploads/2023/05/Special-guest-and-keynote-speaker-1.png
END:VEVENT
BEGIN:VEVENT
DTSTART;TZID=America/Los_Angeles:20230516T180000
DTEND;TZID=America/Los_Angeles:20230516T200000
DTSTAMP:20260425T074310
CREATED:20220907T053741Z
LAST-MODIFIED:20230426T040847Z
UID:9281-1684260000-1684267200@www.district52.org
SUMMARY:District 52 Monthly Workshops
DESCRIPTION:Third Tuesdays of the Month Workshops \n\nPathways\nGrowth Membership\nOpen House\nYouth Leadership/Speech Craft\n\nRegister at https://bit.ly/3QjaZ5s
URL:https://www.district52.org/event/district-52-monthly-workshops-2023-05-16/
LOCATION:ZOOM
CATEGORIES:Pathways,Training,Virtual,Virtual Training,Workshop,Zoom
ATTACH;FMTTYPE=image/png:https://www.district52.org/wp-content/uploads/2022/09/May-Monthly-Workshop.png
ORGANIZER;CN="Serena McCullough":MAILTO:smcculloughdtm@gmail.com
END:VEVENT
BEGIN:VEVENT
DTSTART;TZID=America/Los_Angeles:20230513T100000
DTEND;TZID=America/Los_Angeles:20230513T190000
DTSTAMP:20260425T074310
CREATED:20230322T075017Z
LAST-MODIFIED:20230513T091153Z
UID:10467-1683972000-1684004400@www.district52.org
SUMMARY:District 52's Annual Conference
DESCRIPTION:You can register for the annual District 52 Conference HERE.\n\nDistrict Conference 10 am – 1 pm PST\nDistrict Speech Contests 3 pm – 7 pm PST\nMeeting Agenda\n10 am – Gavel\n10:15 am – Keynote Speaker – Sima Dahl\, CSP\, AS 11:10 am – Club Growth Awards\n11:30 am – Educational Workshop with Lance Miller\, WCPS\, DTM & Roberta Perry\, PID\, DTM\n12:25 pm – Educational Awards\n12:35 pm – Raffle!\n1 pm – Adjourn for Lunch \nContest Agenda \n3 pm – Contest Begins!\n3:05 – Special Guest Speaker – Alexandre Matte\n2022 World Champion Public Speaker Finalist\n3:20 pm – Humorous & International Contest\n6:30 pm – District Announcements\n6:55 pm – Announce Winners\n7pm – Meeting Adjourned!
URL:https://www.district52.org/event/district-52s-annual-conference/
LOCATION:ZOOM
CATEGORIES:District Event,Virtual,Zoom
ATTACH;FMTTYPE=image/jpeg:https://www.district52.org/wp-content/uploads/2023/03/UPDATED-D52-Conference-Carousel-830-×-312-px-1.jpg
ORGANIZER;CN="Serena McCullough":MAILTO:smcculloughdtm@gmail.com
END:VEVENT
BEGIN:VEVENT
DTSTART;TZID=America/Los_Angeles:20230512T183000
DTEND;TZID=America/Los_Angeles:20230512T203000
DTSTAMP:20260425T074310
CREATED:20230407T052839Z
LAST-MODIFIED:20230510T070006Z
UID:10592-1683916200-1683923400@www.district52.org
SUMMARY:District 52 VIRTUAL ANNUAL BUSINESS MEETING
DESCRIPTION:Calling all District Council Members. Registration is open now for the D52 Annual Business Meeting. You must register for the District Council Meeting in advance. Your registration and attendance are important to constitute the required quorum for the successful transaction of business at this meeting. Click here to register.
URL:https://www.district52.org/event/district-52-virtual-annual-business-meeting/
LOCATION:ZOOM
CATEGORIES:District Event,Virtual,Virtual Meeting
ATTACH;FMTTYPE=image/jpeg:https://www.district52.org/wp-content/uploads/2023/04/1.jpg
ORGANIZER;CN="Rose Abbott%2C DTM":MAILTO:divedirector@district52.org
END:VEVENT
BEGIN:VEVENT
DTSTART;TZID=America/Los_Angeles:20230506T070000
DTEND;TZID=America/Los_Angeles:20230506T203000
DTSTAMP:20260425T074310
CREATED:20230502T033531Z
LAST-MODIFIED:20230503T001835Z
UID:10713-1683356400-1683405000@www.district52.org
SUMMARY:Wine & Dine Open House
DESCRIPTION:Come to hear the keynote speech by\nMaurice DiMino\, DTM\, AS\nRSVP with Marianne Toghia mariannetoghia@yahoo.com\n 
URL:https://www.district52.org/event/wine-dine-open-house/
LOCATION:CA
CATEGORIES:Club
ORGANIZER;CN="Marianne Toghia%2C DTM":MAILTO:mariannetoghia@yahoo.com
END:VEVENT
BEGIN:VEVENT
DTSTART;TZID=America/Los_Angeles:20230505T190000
DTEND;TZID=America/Los_Angeles:20230505T203000
DTSTAMP:20260425T074310
CREATED:20230418T212500Z
LAST-MODIFIED:20230501T071650Z
UID:10678-1683313200-1683318600@www.district52.org
SUMMARY:2023-2024 District 52 Leadership Candidates Showcase
DESCRIPTION:Come to see the candidates for the 2023-2024 District 52 leadership positions \nPlease Register Here
URL:https://www.district52.org/event/2023-2024-district-52-leadership-candidates-showcase/
LOCATION:ZOOM
ATTACH;FMTTYPE=image/png:https://www.district52.org/wp-content/uploads/2023/04/showcase-D52.png
ORGANIZER;CN="Lawrence Quesada%2C DTM%2C Immediate Past District Director":MAILTO:pqd@district52.org
END:VEVENT
END:VCALENDAR