BEGIN:VCALENDAR
VERSION:2.0
PRODID:-//Toastmasters District 52 - ECPv6.15.20//NONSGML v1.0//EN
CALSCALE:GREGORIAN
METHOD:PUBLISH
X-WR-CALNAME:Toastmasters District 52
X-ORIGINAL-URL:https://www.district52.org
X-WR-CALDESC:Events for Toastmasters District 52
REFRESH-INTERVAL;VALUE=DURATION:PT1H
X-Robots-Tag:noindex
X-PUBLISHED-TTL:PT1H
BEGIN:VTIMEZONE
TZID:America/Los_Angeles
BEGIN:DAYLIGHT
TZOFFSETFROM:-0800
TZOFFSETTO:-0700
TZNAME:PDT
DTSTART:20210314T100000
END:DAYLIGHT
BEGIN:STANDARD
TZOFFSETFROM:-0700
TZOFFSETTO:-0800
TZNAME:PST
DTSTART:20211107T090000
END:STANDARD
BEGIN:DAYLIGHT
TZOFFSETFROM:-0800
TZOFFSETTO:-0700
TZNAME:PDT
DTSTART:20220313T100000
END:DAYLIGHT
BEGIN:STANDARD
TZOFFSETFROM:-0700
TZOFFSETTO:-0800
TZNAME:PST
DTSTART:20221106T090000
END:STANDARD
BEGIN:DAYLIGHT
TZOFFSETFROM:-0800
TZOFFSETTO:-0700
TZNAME:PDT
DTSTART:20230312T100000
END:DAYLIGHT
BEGIN:STANDARD
TZOFFSETFROM:-0700
TZOFFSETTO:-0800
TZNAME:PST
DTSTART:20231105T090000
END:STANDARD
BEGIN:DAYLIGHT
TZOFFSETFROM:-0800
TZOFFSETTO:-0700
TZNAME:PDT
DTSTART:20240310T100000
END:DAYLIGHT
BEGIN:STANDARD
TZOFFSETFROM:-0700
TZOFFSETTO:-0800
TZNAME:PST
DTSTART:20241103T090000
END:STANDARD
END:VTIMEZONE
BEGIN:VEVENT
DTSTART;TZID=America/Los_Angeles:20230418T180000
DTEND;TZID=America/Los_Angeles:20230418T200000
DTSTAMP:20260424T014247
CREATED:20220907T053741Z
LAST-MODIFIED:20230426T040846Z
UID:9280-1681840800-1681848000@www.district52.org
SUMMARY:District 52 Monthly Workshops
DESCRIPTION:Third Tuesdays of the Month Workshops \n\nPathways\nGrowth Membership\nOpen House\nYouth Leadership/Speech Craft\n\nRegister at https://bit.ly/3QjaZ5s
URL:https://www.district52.org/event/district-52-monthly-workshops-2023-04-18/
LOCATION:ZOOM
CATEGORIES:Pathways,Training,Virtual,Virtual Training,Workshop,Zoom
ATTACH;FMTTYPE=image/png:https://www.district52.org/wp-content/uploads/2022/09/May-Monthly-Workshop.png
ORGANIZER;CN="Serena McCullough":MAILTO:smcculloughdtm@gmail.com
END:VEVENT
BEGIN:VEVENT
DTSTART;TZID=America/Los_Angeles:20230321T180000
DTEND;TZID=America/Los_Angeles:20230321T200000
DTSTAMP:20260424T014247
CREATED:20220907T053741Z
LAST-MODIFIED:20230426T040845Z
UID:9279-1679421600-1679428800@www.district52.org
SUMMARY:District 52 Monthly Workshops
DESCRIPTION:Third Tuesdays of the Month Workshops \n\nPathways\nGrowth Membership\nOpen House\nYouth Leadership/Speech Craft\n\nRegister at https://bit.ly/3QjaZ5s
URL:https://www.district52.org/event/district-52-monthly-workshops-2023-03-21/
LOCATION:ZOOM
CATEGORIES:Pathways,Training,Virtual,Virtual Training,Workshop,Zoom
ATTACH;FMTTYPE=image/png:https://www.district52.org/wp-content/uploads/2022/09/May-Monthly-Workshop.png
ORGANIZER;CN="Serena McCullough":MAILTO:smcculloughdtm@gmail.com
END:VEVENT
BEGIN:VEVENT
DTSTART;TZID=America/Los_Angeles:20230228T190000
DTEND;TZID=America/Los_Angeles:20230228T210000
DTSTAMP:20260424T014247
CREATED:20230202T053712Z
LAST-MODIFIED:20230219T193902Z
UID:10156-1677610800-1677618000@www.district52.org
SUMMARY:Club Officer Training
DESCRIPTION:Serena McCullough\, DTM\, PQD\,  will be leading the Feb 24\, 2023 Session Starting at 10:00 am\nRegistration Link: Click Here\n\nRose Abbott\, DTM\, District 52 Director\, will lead the Feb 27\, 2023 Session Starting at 10:00 am\nRegistration Link: Click Here\n  \nLance Webster\, DTM\, Past District 52 Director\, will lead the Feb 28\, 2023 Session Starting at 7:00 pm\nRegistration Link: Click Here\n 
URL:https://www.district52.org/event/club-officer-training-8-2023-02-28/
LOCATION:ZOOM
CATEGORIES:Club Officer Training,District Event,Training,Virtual,Virtual Training,Zoom
ORGANIZER;CN="Serena McCullough":MAILTO:smcculloughdtm@gmail.com
END:VEVENT
BEGIN:VEVENT
DTSTART;TZID=America/Los_Angeles:20230227T100000
DTEND;TZID=America/Los_Angeles:20230227T120000
DTSTAMP:20260424T014247
CREATED:20230202T053712Z
LAST-MODIFIED:20230202T053712Z
UID:10286-1677492000-1677499200@www.district52.org
SUMMARY:Club Officer Training
DESCRIPTION:Serena McCullough\, DTM\, PQD\,  will be leading the Feb 24\, 2023 Session Starting at 10:00 am\nRegistration Link: Click Here\n\nRose Abbott\, DTM\, District 52 Director\, will lead the Feb 27\, 2023 Session Starting at 10:00 am\nRegistration Link: Click Here\n  \nLance Webster\, DTM\, Past District 52 Director\, will lead the Feb 28\, 2023 Session Starting at 7:00 pm\nRegistration Link: Click Here\n 
URL:https://www.district52.org/event/club-officer-training-8-2023-02-27/
LOCATION:ZOOM
CATEGORIES:Club Officer Training,District Event,Training,Virtual,Virtual Training,Zoom
ORGANIZER;CN="Serena McCullough":MAILTO:smcculloughdtm@gmail.com
END:VEVENT
BEGIN:VEVENT
DTSTART;TZID=America/Los_Angeles:20230224T100000
DTEND;TZID=America/Los_Angeles:20230224T120000
DTSTAMP:20260424T014247
CREATED:20230202T053712Z
LAST-MODIFIED:20230219T193902Z
UID:10272-1677232800-1677240000@www.district52.org
SUMMARY:Club Officer Training
DESCRIPTION:Serena McCullough\, DTM\, PQD\,  will be leading the Feb 24\, 2023 Session Starting at 10:00 am\nRegistration Link: Click Here\n\nRose Abbott\, DTM\, District 52 Director\, will lead the Feb 27\, 2023 Session Starting at 10:00 am\nRegistration Link: Click Here\n  \nLance Webster\, DTM\, Past District 52 Director\, will lead the Feb 28\, 2023 Session Starting at 7:00 pm\nRegistration Link: Click Here\n 
URL:https://www.district52.org/event/club-officer-training-8-2023-02-24/
LOCATION:ZOOM
CATEGORIES:Club Officer Training,District Event,Training,Virtual,Virtual Training,Zoom
ORGANIZER;CN="Serena McCullough":MAILTO:smcculloughdtm@gmail.com
END:VEVENT
BEGIN:VEVENT
DTSTART;TZID=America/Los_Angeles:20230206T190000
DTEND;TZID=America/Los_Angeles:20230206T210000
DTSTAMP:20260424T014247
CREATED:20230202T053712Z
LAST-MODIFIED:20230219T193859Z
UID:10151-1675710000-1675717200@www.district52.org
SUMMARY:Club Officer Training
DESCRIPTION:Serena McCullough\, DTM\, PQD\,  will be leading the Feb 24\, 2023 Session Starting at 10:00 am\nRegistration Link: Click Here\n\nRose Abbott\, DTM\, District 52 Director\, will lead the Feb 27\, 2023 Session Starting at 10:00 am\nRegistration Link: Click Here\n  \nLance Webster\, DTM\, Past District 52 Director\, will lead the Feb 28\, 2023 Session Starting at 7:00 pm\nRegistration Link: Click Here\n 
URL:https://www.district52.org/event/club-officer-training-8/
LOCATION:ZOOM
CATEGORIES:Club Officer Training,District Event,Training,Virtual,Virtual Training,Zoom
ORGANIZER;CN="Serena McCullough":MAILTO:smcculloughdtm@gmail.com
END:VEVENT
BEGIN:VEVENT
DTSTART;TZID=America/Los_Angeles:20230117T180000
DTEND;TZID=America/Los_Angeles:20230117T200000
DTSTAMP:20260424T014247
CREATED:20220907T053741Z
LAST-MODIFIED:20230426T040845Z
UID:9277-1673978400-1673985600@www.district52.org
SUMMARY:District 52 Monthly Workshops
DESCRIPTION:Third Tuesdays of the Month Workshops \n\nPathways\nGrowth Membership\nOpen House\nYouth Leadership/Speech Craft\n\nRegister at https://bit.ly/3QjaZ5s
URL:https://www.district52.org/event/district-52-monthly-workshops-2023-01-17/
LOCATION:ZOOM
CATEGORIES:Pathways,Training,Virtual,Virtual Training,Workshop,Zoom
ATTACH;FMTTYPE=image/png:https://www.district52.org/wp-content/uploads/2022/09/May-Monthly-Workshop.png
ORGANIZER;CN="Serena McCullough":MAILTO:smcculloughdtm@gmail.com
END:VEVENT
BEGIN:VEVENT
DTSTART;TZID=America/Los_Angeles:20221220T180000
DTEND;TZID=America/Los_Angeles:20221220T200000
DTSTAMP:20260424T014247
CREATED:20220907T053741Z
LAST-MODIFIED:20230426T040844Z
UID:10306-1671559200-1671566400@www.district52.org
SUMMARY:District 52 Monthly Workshops
DESCRIPTION:Third Tuesdays of the Month Workshops \n\nPathways\nGrowth Membership\nOpen House\nYouth Leadership/Speech Craft\n\nRegister at https://bit.ly/3QjaZ5s
URL:https://www.district52.org/event/district-52-monthly-workshops-2022-12-20/
LOCATION:ZOOM
CATEGORIES:Pathways,Training,Virtual,Virtual Training,Workshop,Zoom
ATTACH;FMTTYPE=image/png:https://www.district52.org/wp-content/uploads/2022/09/May-Monthly-Workshop.png
ORGANIZER;CN="Serena McCullough":MAILTO:smcculloughdtm@gmail.com
END:VEVENT
BEGIN:VEVENT
DTSTART;TZID=America/Los_Angeles:20221115T180000
DTEND;TZID=America/Los_Angeles:20221115T200000
DTSTAMP:20260424T014247
CREATED:20220907T053741Z
LAST-MODIFIED:20230426T040843Z
UID:9275-1668535200-1668542400@www.district52.org
SUMMARY:District 52 Monthly Workshops
DESCRIPTION:Third Tuesdays of the Month Workshops \n\nPathways\nGrowth Membership\nOpen House\nYouth Leadership/Speech Craft\n\nRegister at https://bit.ly/3QjaZ5s
URL:https://www.district52.org/event/district-52-monthly-workshops-2022-11-15/
LOCATION:ZOOM
CATEGORIES:Pathways,Training,Virtual,Virtual Training,Workshop,Zoom
ATTACH;FMTTYPE=image/png:https://www.district52.org/wp-content/uploads/2022/09/May-Monthly-Workshop.png
ORGANIZER;CN="Serena McCullough":MAILTO:smcculloughdtm@gmail.com
END:VEVENT
BEGIN:VEVENT
DTSTART;TZID=America/Los_Angeles:20221018T180000
DTEND;TZID=America/Los_Angeles:20221018T200000
DTSTAMP:20260424T014247
CREATED:20220907T053741Z
LAST-MODIFIED:20230426T040842Z
UID:9274-1666116000-1666123200@www.district52.org
SUMMARY:District 52 Monthly Workshops
DESCRIPTION:Third Tuesdays of the Month Workshops \n\nPathways\nGrowth Membership\nOpen House\nYouth Leadership/Speech Craft\n\nRegister at https://bit.ly/3QjaZ5s
URL:https://www.district52.org/event/district-52-monthly-workshops-2022-10-18/
LOCATION:ZOOM
CATEGORIES:Pathways,Training,Virtual,Virtual Training,Workshop,Zoom
ATTACH;FMTTYPE=image/png:https://www.district52.org/wp-content/uploads/2022/09/May-Monthly-Workshop.png
ORGANIZER;CN="Serena McCullough":MAILTO:smcculloughdtm@gmail.com
END:VEVENT
BEGIN:VEVENT
DTSTART;TZID=America/Los_Angeles:20220920T180000
DTEND;TZID=America/Los_Angeles:20220920T200000
DTSTAMP:20260424T014247
CREATED:20220907T053741Z
LAST-MODIFIED:20230426T040841Z
UID:9270-1663696800-1663704000@www.district52.org
SUMMARY:District 52 Monthly Workshops
DESCRIPTION:Third Tuesdays of the Month Workshops \n\nPathways\nGrowth Membership\nOpen House\nYouth Leadership/Speech Craft\n\nRegister at https://bit.ly/3QjaZ5s
URL:https://www.district52.org/event/district-52-monthly-workshops/
LOCATION:ZOOM
CATEGORIES:Pathways,Training,Virtual,Virtual Training,Workshop,Zoom
ATTACH;FMTTYPE=image/png:https://www.district52.org/wp-content/uploads/2022/09/May-Monthly-Workshop.png
ORGANIZER;CN="Serena McCullough":MAILTO:smcculloughdtm@gmail.com
END:VEVENT
END:VCALENDAR