BEGIN:VCALENDAR
VERSION:2.0
PRODID:-//Toastmasters District 52 - ECPv6.15.20//NONSGML v1.0//EN
CALSCALE:GREGORIAN
METHOD:PUBLISH
X-ORIGINAL-URL:https://www.district52.org
X-WR-CALDESC:Events for Toastmasters District 52
REFRESH-INTERVAL;VALUE=DURATION:PT1H
X-Robots-Tag:noindex
X-PUBLISHED-TTL:PT1H
BEGIN:VTIMEZONE
TZID:America/Los_Angeles
BEGIN:DAYLIGHT
TZOFFSETFROM:-0800
TZOFFSETTO:-0700
TZNAME:PDT
DTSTART:20240310T100000
END:DAYLIGHT
BEGIN:STANDARD
TZOFFSETFROM:-0700
TZOFFSETTO:-0800
TZNAME:PST
DTSTART:20241103T090000
END:STANDARD
BEGIN:DAYLIGHT
TZOFFSETFROM:-0800
TZOFFSETTO:-0700
TZNAME:PDT
DTSTART:20250309T100000
END:DAYLIGHT
BEGIN:STANDARD
TZOFFSETFROM:-0700
TZOFFSETTO:-0800
TZNAME:PST
DTSTART:20251102T090000
END:STANDARD
BEGIN:DAYLIGHT
TZOFFSETFROM:-0800
TZOFFSETTO:-0700
TZNAME:PDT
DTSTART:20260308T100000
END:DAYLIGHT
BEGIN:STANDARD
TZOFFSETFROM:-0700
TZOFFSETTO:-0800
TZNAME:PST
DTSTART:20261101T090000
END:STANDARD
END:VTIMEZONE
BEGIN:VEVENT
DTSTART;TZID=America/Los_Angeles:20250909T183000
DTEND;TZID=America/Los_Angeles:20250909T203000
DTSTAMP:20260423T211007
CREATED:20250829T191402Z
LAST-MODIFIED:20250829T204817Z
UID:15111-1757442600-1757449800@www.district52.org
SUMMARY:D52 Workshop | The Club Success Plan and Pathways
DESCRIPTION:Register HERE
URL:https://www.district52.org/event/d52-workshop-the-club-success-plan-and-pathways/
CATEGORIES:Workshop
ATTACH;FMTTYPE=image/png:https://www.district52.org/wp-content/uploads/2025/08/District-52-workshop-Sept-9_2025.png
END:VEVENT
END:VCALENDAR