BEGIN:VCALENDAR
VERSION:2.0
PRODID:-//Toastmasters District 52 - ECPv6.15.20//NONSGML v1.0//EN
CALSCALE:GREGORIAN
METHOD:PUBLISH
X-WR-CALNAME:Toastmasters District 52
X-ORIGINAL-URL:https://www.district52.org
X-WR-CALDESC:Events for Toastmasters District 52
REFRESH-INTERVAL;VALUE=DURATION:PT1H
X-Robots-Tag:noindex
X-PUBLISHED-TTL:PT1H
BEGIN:VTIMEZONE
TZID:America/Los_Angeles
BEGIN:DAYLIGHT
TZOFFSETFROM:-0800
TZOFFSETTO:-0700
TZNAME:PDT
DTSTART:20240310T100000
END:DAYLIGHT
BEGIN:STANDARD
TZOFFSETFROM:-0700
TZOFFSETTO:-0800
TZNAME:PST
DTSTART:20241103T090000
END:STANDARD
BEGIN:DAYLIGHT
TZOFFSETFROM:-0800
TZOFFSETTO:-0700
TZNAME:PDT
DTSTART:20250309T100000
END:DAYLIGHT
BEGIN:STANDARD
TZOFFSETFROM:-0700
TZOFFSETTO:-0800
TZNAME:PST
DTSTART:20251102T090000
END:STANDARD
BEGIN:DAYLIGHT
TZOFFSETFROM:-0800
TZOFFSETTO:-0700
TZNAME:PDT
DTSTART:20260308T100000
END:DAYLIGHT
BEGIN:STANDARD
TZOFFSETFROM:-0700
TZOFFSETTO:-0800
TZNAME:PST
DTSTART:20261101T090000
END:STANDARD
END:VTIMEZONE
BEGIN:VEVENT
DTSTART;TZID=America/Los_Angeles:20250121T183000
DTEND;TZID=America/Los_Angeles:20250121T203000
DTSTAMP:20260424T070350
CREATED:20240711T044447Z
LAST-MODIFIED:20250102T093206Z
UID:13601-1737484200-1737491400@www.district52.org
SUMMARY:District 52 Monthly Workshop
DESCRIPTION:Pathways Training conducted by Pathways Team Leader Dawn Jenkins\nCalling all new Presidents\, VP Education and Club Secretaries! \nYou are Pathways Base Camp Managers now! \nIt’s time to lead your club in Pathways!\n\nRegistration at this link \nOr open Zoom and use Meeting Number 871 6223 8722
URL:https://www.district52.org/event/district-52-monthly-workshop-2-2025-01-21/
LOCATION:ZOOM
CATEGORIES:District Event,Pathways,Training,Virtual,Virtual Meeting,Virtual Training,Workshop,Zoom
ATTACH;FMTTYPE=image/png:https://www.district52.org/wp-content/uploads/2020/08/Dawn-pathways.png
END:VEVENT
BEGIN:VEVENT
DTSTART;TZID=America/Los_Angeles:20250127T190000
DTEND;TZID=America/Los_Angeles:20250127T203000
DTSTAMP:20260424T070350
CREATED:20240704T231730Z
LAST-MODIFIED:20250112T041106Z
UID:13562-1738004400-1738009800@www.district52.org
SUMMARY:Club Officer Training (All Officer Roles)
DESCRIPTION:Elia Evans\, DTM\, will lead this training session to help prepare you for your club officer year.\n\n1/27/2025 Monday 7 pm to 8:30 pm PDT\nRegistration Link: Click Here.\n 
URL:https://www.district52.org/event/club-officer-make-up-training-all-officer-roles-5/
LOCATION:ZOOM
CATEGORIES:Club Officer Training,Officer Training,Training,Virtual,Virtual Meeting,Virtual Training,Zoom
ATTACH;FMTTYPE=image/png:https://www.district52.org/wp-content/uploads/2022/08/Copy-of-NEW-BANNER-SIZE-1.png
END:VEVENT
BEGIN:VEVENT
DTSTART;TZID=America/Los_Angeles:20250129T190000
DTEND;TZID=America/Los_Angeles:20250129T203000
DTSTAMP:20260424T070350
CREATED:20250112T042828Z
LAST-MODIFIED:20250112T042829Z
UID:14383-1738177200-1738182600@www.district52.org
SUMMARY:Club officer training - Winter Session
DESCRIPTION:Combined training for ALL club officer positions \nAlbert Lin\, DTM\, will lead this training session\n\nDate and Time: Jan 29\, 2025\, 07:00 PM  in Pacific Time (US and Canada)\nClick here to register for the session.
URL:https://www.district52.org/event/club-officer-training-winter-session/
LOCATION:ZOOM
CATEGORIES:Officer Training,Training,Virtual,Virtual Meeting,Virtual Training,Zoom
ATTACH;FMTTYPE=image/png:https://www.district52.org/wp-content/uploads/2022/08/Copy-of-NEW-BANNER-SIZE-1.png
END:VEVENT
BEGIN:VEVENT
DTSTART;TZID=America/Los_Angeles:20250130T190000
DTEND;TZID=America/Los_Angeles:20250130T210000
DTSTAMP:20260424T070350
CREATED:20241015T052109Z
LAST-MODIFIED:20250112T022218Z
UID:14160-1738263600-1738270800@www.district52.org
SUMMARY:Semi Annual Club Officer Training - All Positions
DESCRIPTION:Rose Abbott\, DTM\, past District 52 Director will lead this training session.  This session will count as the 2nd annual officer training.\nPlease register with this link.
URL:https://www.district52.org/event/semi-annual-club-officer-training-all-positions/
LOCATION:ZOOM
CATEGORIES:Club Officer Training,District Event,Officer Training,Training,Virtual,Virtual Meeting,Virtual Training,Zoom
ATTACH;FMTTYPE=image/png:https://www.district52.org/wp-content/uploads/2024/10/D52-Training.png
END:VEVENT
END:VCALENDAR