BEGIN:VCALENDAR
VERSION:2.0
PRODID:-//Toastmasters District 52 - ECPv6.15.20//NONSGML v1.0//EN
CALSCALE:GREGORIAN
METHOD:PUBLISH
X-ORIGINAL-URL:https://www.district52.org
X-WR-CALDESC:Events for Toastmasters District 52
REFRESH-INTERVAL;VALUE=DURATION:PT1H
X-Robots-Tag:noindex
X-PUBLISHED-TTL:PT1H
BEGIN:VTIMEZONE
TZID:America/Los_Angeles
BEGIN:DAYLIGHT
TZOFFSETFROM:-0800
TZOFFSETTO:-0700
TZNAME:PDT
DTSTART:20230312T100000
END:DAYLIGHT
BEGIN:STANDARD
TZOFFSETFROM:-0700
TZOFFSETTO:-0800
TZNAME:PST
DTSTART:20231105T090000
END:STANDARD
BEGIN:DAYLIGHT
TZOFFSETFROM:-0800
TZOFFSETTO:-0700
TZNAME:PDT
DTSTART:20240310T100000
END:DAYLIGHT
BEGIN:STANDARD
TZOFFSETFROM:-0700
TZOFFSETTO:-0800
TZNAME:PST
DTSTART:20241103T090000
END:STANDARD
BEGIN:DAYLIGHT
TZOFFSETFROM:-0800
TZOFFSETTO:-0700
TZNAME:PDT
DTSTART:20250309T100000
END:DAYLIGHT
BEGIN:STANDARD
TZOFFSETFROM:-0700
TZOFFSETTO:-0800
TZNAME:PST
DTSTART:20251102T090000
END:STANDARD
END:VTIMEZONE
BEGIN:VEVENT
DTSTART;TZID=America/Los_Angeles:20241204T183000
DTEND;TZID=America/Los_Angeles:20241204T203000
DTSTAMP:20260425T035606
CREATED:20241009T023821Z
LAST-MODIFIED:20241025T174323Z
UID:14124-1733337000-1733344200@www.district52.org
SUMMARY:Semi Annual Club Officer Training - All positions
DESCRIPTION:Elia Evans will lead this training session.\nClub officer training ( 2nd annual mandatory training) will be offered from mid-November to mid-December and from mid-January to mid-February. \nJanuary TLI will also offer club officer training – watch for the announcement of the date soon. \nPlease [click] to register for the training session with Elia!
URL:https://www.district52.org/event/second-annual-club-officer-training-all-positions/
LOCATION:ZOOM
CATEGORIES:Club Officer Training,District Event,Officer Training,Training,Virtual,Virtual Meeting,Virtual Training,Zoom
ATTACH;FMTTYPE=image/png:https://www.district52.org/wp-content/uploads/2024/10/D52-Training.png
END:VEVENT
BEGIN:VEVENT
DTSTART;TZID=America/Los_Angeles:20241211T190000
DTEND;TZID=America/Los_Angeles:20241211T203000
DTSTAMP:20260425T035606
CREATED:20240711T044447Z
LAST-MODIFIED:20241127T001749Z
UID:13600-1733943600-1733949000@www.district52.org
SUMMARY:District 52 Monthly Workshop
DESCRIPTION:Pathways Training conducted by Pathways Team Leader Dawn Jenkins from 7:00 pm – 8:30 pm\n\nExplore the New Base CampBase Camp is the online system where Toastmasters access their Pathways learning\, and it has gotten some exciting updates! Get ready for the New Base Camp with this workshop covering the new features and enhancements.\n\n\nRegistration at this link \nOr open Zoom and use Meeting Number 871 6223 8722
URL:https://www.district52.org/event/district-52-monthly-workshop-2-2024-12-17/
LOCATION:ZOOM
CATEGORIES:District Event,Pathways,Training,Virtual,Virtual Meeting,Virtual Training,Workshop,Zoom
ATTACH;FMTTYPE=image/png:https://www.district52.org/wp-content/uploads/2020/08/Dawn-pathways.png
END:VEVENT
END:VCALENDAR