BEGIN:VCALENDAR
VERSION:2.0
PRODID:-//Toastmasters District 52 - ECPv6.15.20//NONSGML v1.0//EN
CALSCALE:GREGORIAN
METHOD:PUBLISH
X-ORIGINAL-URL:https://www.district52.org
X-WR-CALDESC:Events for Toastmasters District 52
REFRESH-INTERVAL;VALUE=DURATION:PT1H
X-Robots-Tag:noindex
X-PUBLISHED-TTL:PT1H
BEGIN:VTIMEZONE
TZID:America/Los_Angeles
BEGIN:DAYLIGHT
TZOFFSETFROM:-0800
TZOFFSETTO:-0700
TZNAME:PDT
DTSTART:20240310T100000
END:DAYLIGHT
BEGIN:STANDARD
TZOFFSETFROM:-0700
TZOFFSETTO:-0800
TZNAME:PST
DTSTART:20241103T090000
END:STANDARD
BEGIN:DAYLIGHT
TZOFFSETFROM:-0800
TZOFFSETTO:-0700
TZNAME:PDT
DTSTART:20250309T100000
END:DAYLIGHT
BEGIN:STANDARD
TZOFFSETFROM:-0700
TZOFFSETTO:-0800
TZNAME:PST
DTSTART:20251102T090000
END:STANDARD
BEGIN:DAYLIGHT
TZOFFSETFROM:-0800
TZOFFSETTO:-0700
TZNAME:PDT
DTSTART:20260308T100000
END:DAYLIGHT
BEGIN:STANDARD
TZOFFSETFROM:-0700
TZOFFSETTO:-0800
TZNAME:PST
DTSTART:20261101T090000
END:STANDARD
BEGIN:DAYLIGHT
TZOFFSETFROM:-0800
TZOFFSETTO:-0700
TZNAME:PDT
DTSTART:20270314T100000
END:DAYLIGHT
BEGIN:STANDARD
TZOFFSETFROM:-0700
TZOFFSETTO:-0800
TZNAME:PST
DTSTART:20271107T090000
END:STANDARD
END:VTIMEZONE
BEGIN:VEVENT
DTSTART;TZID=America/Los_Angeles:20260211T190000
DTEND;TZID=America/Los_Angeles:20260211T203000
DTSTAMP:20260424T010742
CREATED:20260202T043651Z
LAST-MODIFIED:20260204T023514Z
UID:15528-1770836400-1770841800@www.district52.org
SUMMARY:Club Officer Training - All Positions
DESCRIPTION:Elia Evens\, DTM\, will lead the training sessions scheduled for Feb 11\, 2026\, 7 pm PST.  Please click here to register.
URL:https://www.district52.org/event/club-officer-training-all-positions-6/
CATEGORIES:Club Officer Training,Officer Training,Training,Virtual,Virtual Meeting,Virtual Training,Zoom
ATTACH;FMTTYPE=image/png:https://www.district52.org/wp-content/uploads/2022/08/Copy-of-NEW-BANNER-SIZE-1.png
END:VEVENT
BEGIN:VEVENT
DTSTART;TZID=America/Los_Angeles:20260210T130000
DTEND;TZID=America/Los_Angeles:20260210T143000
DTSTAMP:20260424T010742
CREATED:20260208T235031Z
LAST-MODIFIED:20260209T045124Z
UID:15578-1770728400-1770733800@www.district52.org
SUMMARY:D52 Club Officer Training - All Positions
DESCRIPTION:Victoria Maltsev will lead this training session to help to prepare you to execute the responsibilities of your club officer position.\nPlease click this link to register for the training.
URL:https://www.district52.org/event/d52-club-officer-training-all-positions-13/
LOCATION:ZOOM
CATEGORIES:Club Officer Training,District Event,Officer Training,Training,Virtual Meeting,Virtual Training
ATTACH;FMTTYPE=image/png:https://www.district52.org/wp-content/uploads/2022/08/Copy-of-NEW-BANNER-SIZE-1.png
END:VEVENT
BEGIN:VEVENT
DTSTART;TZID=America/Los_Angeles:20260207T100000
DTEND;TZID=America/Los_Angeles:20260207T113000
DTSTAMP:20260424T010742
CREATED:20260202T044507Z
LAST-MODIFIED:20260202T045211Z
UID:15533-1770458400-1770463800@www.district52.org
SUMMARY:Club Officer Training - All Positions
DESCRIPTION:Red Runyon\, DTM\, will lead the training sessions scheduled for Feb 7\, 2026\, 10 am PST.  Please click here to register.
URL:https://www.district52.org/event/club-officer-training-all-positions-8/
LOCATION:ZOOM
CATEGORIES:Club Officer Training,Officer Training,Training,Virtual,Virtual Meeting,Virtual Training,Zoom
ATTACH;FMTTYPE=image/png:https://www.district52.org/wp-content/uploads/2022/08/Copy-of-NEW-BANNER-SIZE-1.png
END:VEVENT
BEGIN:VEVENT
DTSTART;TZID=America/Los_Angeles:20260204T190000
DTEND;TZID=America/Los_Angeles:20260204T203000
DTSTAMP:20260424T010742
CREATED:20260202T044043Z
LAST-MODIFIED:20260202T045644Z
UID:15530-1770231600-1770237000@www.district52.org
SUMMARY:Club Officer Training - All Positions
DESCRIPTION:Red Runyon\, DTM\, will lead the training sessions scheduled for Feb 4\, 2026\, 7 pm PST.  Please click here to register.
URL:https://www.district52.org/event/club-officer-training-all-positions-7/
LOCATION:ZOOM
CATEGORIES:Club Officer Training,Officer Training,Training,Virtual,Virtual Meeting
ATTACH;FMTTYPE=image/png:https://www.district52.org/wp-content/uploads/2022/08/Copy-of-NEW-BANNER-SIZE-1.png
END:VEVENT
BEGIN:VEVENT
DTSTART;TZID=America/Los_Angeles:20260201T170000
DTEND;TZID=America/Los_Angeles:20260201T183000
DTSTAMP:20260424T010742
CREATED:20260126T044601Z
LAST-MODIFIED:20260126T044601Z
UID:15525-1769965200-1769970600@www.district52.org
SUMMARY:Club Officer Training - All Positions
DESCRIPTION:Red Runyon\, DTM\, will lead the training sessions scheduled for Feb 1\, 2026\, 5 pm PST.  Please click here to register.
URL:https://www.district52.org/event/club-officer-training-all-positions-5/
LOCATION:ZOOM
CATEGORIES:Club Officer Training,Officer Training,Training,Virtual,Virtual Meeting,Virtual Training,Zoom
ATTACH;FMTTYPE=image/png:https://www.district52.org/wp-content/uploads/2022/08/Copy-of-NEW-BANNER-SIZE-1.png
END:VEVENT
BEGIN:VEVENT
DTSTART;TZID=America/Los_Angeles:20260129T120000
DTEND;TZID=America/Los_Angeles:20260129T133000
DTSTAMP:20260424T010742
CREATED:20260126T044122Z
LAST-MODIFIED:20260126T044123Z
UID:15523-1769688000-1769693400@www.district52.org
SUMMARY:Club Officer Training - All Positions
DESCRIPTION:Victoria Maltsev will lead this training session to help to prepare you to execute the responsibilities of your club officer position.\nPlease click this link to register for the training.
URL:https://www.district52.org/event/club-officer-training-all-positions-4/
LOCATION:ZOOM
CATEGORIES:Club Officer Training,Officer Training,Training,Virtual,Virtual Meeting,Virtual Training,Zoom
ATTACH;FMTTYPE=image/png:https://www.district52.org/wp-content/uploads/2022/08/Copy-of-NEW-BANNER-SIZE-1.png
END:VEVENT
BEGIN:VEVENT
DTSTART;TZID=America/Los_Angeles:20260124T090000
DTEND;TZID=America/Los_Angeles:20260124T130000
DTSTAMP:20260424T010742
CREATED:20260105T085244Z
LAST-MODIFIED:20260105T085637Z
UID:15411-1769245200-1769259600@www.district52.org
SUMMARY:District 52 Toastmasters Leadership Institute
DESCRIPTION:Click here or on the announcement below to register for the TLI.
URL:https://www.district52.org/event/district-52-toastmasters-leadership-institute/
LOCATION:ZOOM
CATEGORIES:Club Officer Training,Conference,Membership Building,Officer Training,Training,Virtual,Virtual Meeting,Virtual Training,Workshop,Zoom
ATTACH;FMTTYPE=image/png:https://www.district52.org/wp-content/uploads/2026/01/TLI-Banner.png
ORGANIZER;CN="Gene Graves":MAILTO:geneg@wctoastmasters.com
END:VEVENT
BEGIN:VEVENT
DTSTART;TZID=America/Los_Angeles:20251214T170000
DTEND;TZID=America/Los_Angeles:20251214T183000
DTSTAMP:20260424T010742
CREATED:20251017T055800Z
LAST-MODIFIED:20251017T055801Z
UID:15270-1765731600-1765737000@www.district52.org
SUMMARY:D52 Club Officer Training - All Positions
DESCRIPTION:Red Runyon\, DTM\, will lead the following training sessions.\nSession 1: Nov 18\, 2025\, 7 pm PST.  Please click here to register.\nSession 2: Nov 23\, 2025\, 5 pm PST.  Please click here to register.\nSession 3: Dec 11\, 2025\, 7 pm PST.  Please click here to register.\nSession 4: Dec 14\, 2025\, 5 pm PST.  Please click here to register.
URL:https://www.district52.org/event/d52-club-officer-training-all-positions-18/
LOCATION:ZOOM
CATEGORIES:Club Officer Training,District Event,Officer Training,Training,Virtual,Virtual Meeting,Virtual Training,Zoom
ATTACH;FMTTYPE=image/png:https://www.district52.org/wp-content/uploads/2022/08/Copy-of-NEW-BANNER-SIZE-1.png
END:VEVENT
BEGIN:VEVENT
DTSTART;TZID=America/Los_Angeles:20251210T190000
DTEND;TZID=America/Los_Angeles:20251210T203000
DTSTAMP:20260424T010742
CREATED:20251016T043000Z
LAST-MODIFIED:20251017T060052Z
UID:15243-1765393200-1765398600@www.district52.org
SUMMARY:D52 Club Officer Training - All Positions
DESCRIPTION:Lance Webster\, DTM\, Past District 52 Director\, will lead the following club officer training sessions:\n\nSession 1:  November 17\, 2025\, starting at 7:00 pm.\nPlease click here to register for the November session. \nSession 2:  November 22\, 2025\, starting at 10:00 am.\nPlease click here to register for the November session. \nSession 3: December 10\, 2025\, starting at 7:00 pm.\nPlease click here to register for the December session. \nSession 4: December 13\, 2025\, starting at 10:00 am.\nPlease click here to register for the December session.
URL:https://www.district52.org/event/d52-club-officer-training-all-positions-10/
LOCATION:ZOOM
CATEGORIES:Club Officer Training,Officer Training,Virtual,Virtual Meeting,Virtual Training,Zoom
ATTACH;FMTTYPE=image/png:https://www.district52.org/wp-content/uploads/2023/07/COT-Lance-Webster.png
END:VEVENT
BEGIN:VEVENT
DTSTART;TZID=America/Los_Angeles:20251208T190000
DTEND;TZID=America/Los_Angeles:20251208T203000
DTSTAMP:20260424T010742
CREATED:20251018T052947Z
LAST-MODIFIED:20251018T052947Z
UID:15277-1765220400-1765225800@www.district52.org
SUMMARY:D52 Club Officer Training - All Positions
DESCRIPTION:Rose Abbott\, DTM\,  will lead the session at 7:00 pm\, December 8\, 2025.\nPlease click here to register.
URL:https://www.district52.org/event/d52-club-officer-training-all-positions-20/
LOCATION:ZOOM
CATEGORIES:Club Officer Training,District Event,Officer Training,Training,Virtual,Virtual Meeting,Virtual Training,Zoom
ATTACH;FMTTYPE=image/png:https://www.district52.org/wp-content/uploads/2022/08/Copy-of-NEW-BANNER-SIZE-1.png
END:VEVENT
BEGIN:VEVENT
DTSTART;TZID=America/Los_Angeles:20251123T170000
DTEND;TZID=America/Los_Angeles:20251123T183000
DTSTAMP:20260424T010742
CREATED:20251017T055119Z
LAST-MODIFIED:20251017T055459Z
UID:15265-1763917200-1763922600@www.district52.org
SUMMARY:D52 Club Officer Training - All Positions
DESCRIPTION:Red-Runyon-200×200\nRed Runyon\, DTM\, will lead the following training sessions.\nSession 1: Nov 18\, 2025\, 7 pm PST.  Please click here to register.\nSession 2: Nov 23\, 2025\, 5 pm PST.  Please click here to register.\nSession 3: Dec 11\, 2025\, 7 pm PST.  Please click here to register.\nSession 4: Dec 14\, 2025\, 7 pm PST.  Please click here to register.
URL:https://www.district52.org/event/d52-club-officer-training-all-positions-17/
LOCATION:ZOOM
CATEGORIES:Club Officer Training,District Event,Officer Training,Training,Virtual,Virtual Meeting,Virtual Training,Zoom
ATTACH;FMTTYPE=image/png:https://www.district52.org/wp-content/uploads/2022/08/Copy-of-NEW-BANNER-SIZE-1.png
END:VEVENT
BEGIN:VEVENT
DTSTART;TZID=America/Los_Angeles:20251122T100000
DTEND;TZID=America/Los_Angeles:20251122T113000
DTSTAMP:20260424T010742
CREATED:20251017T054200Z
LAST-MODIFIED:20251017T054200Z
UID:15261-1763805600-1763811000@www.district52.org
SUMMARY:D52 Club Officer Training - All Positions
DESCRIPTION:Lance Webster\, DTM\, Past District 52 Director\, will lead the following club officer training sessions:\n\nSession 1:  November 17\, 2025\, starting at 7:00 pm.\nPlease click here to register for the November session. \nSession 2:  November 22\, 2025\, starting at 10:00 am.\nPlease click here to register for the November session. \nSession 3: December 10\, 2025\, starting at 7:00 pm.\nPlease click here to register for the December session.
URL:https://www.district52.org/event/d52-club-officer-training-all-positions-16/
LOCATION:ZOOM
CATEGORIES:Club Officer Training,District Event,Officer Training,Training,Virtual,Virtual Meeting,Virtual Training,Zoom
ATTACH;FMTTYPE=image/png:https://www.district52.org/wp-content/uploads/2023/07/COT-Lance-Webster.png
END:VEVENT
BEGIN:VEVENT
DTSTART;TZID=America/Los_Angeles:20251119T190000
DTEND;TZID=America/Los_Angeles:20251119T203000
DTSTAMP:20260424T010742
CREATED:20251021T052302Z
LAST-MODIFIED:20251021T052324Z
UID:15291-1763578800-1763584200@www.district52.org
SUMMARY:Club Officer Training - All Positions
DESCRIPTION:Elia Evans\, DTM\, will lead this training session to help prepare you to execute the responsibilities of your club officer position. \nPlease click this link to register for the training.
URL:https://www.district52.org/event/15291/
LOCATION:ZOOM
CATEGORIES:Club Officer Training,District Event,Officer Training,Training,Virtual,Virtual Meeting,Virtual Training,Zoom
ATTACH;FMTTYPE=image/png:https://www.district52.org/wp-content/uploads/2022/08/Copy-of-NEW-BANNER-SIZE-1.png
END:VEVENT
BEGIN:VEVENT
DTSTART;TZID=America/Los_Angeles:20251119T120000
DTEND;TZID=America/Los_Angeles:20251119T133000
DTSTAMP:20260424T010742
CREATED:20251016T071217Z
LAST-MODIFIED:20251016T071218Z
UID:15258-1763553600-1763559000@www.district52.org
SUMMARY:D52 Club Officer Training - All Positions
DESCRIPTION:Albert Lin\, DTM\, will lead the Nov 19\, 2025\, training session\, starting at 12:00 pm PST.\nPlease click here to register.
URL:https://www.district52.org/event/d52-club-officer-training-all-positions-15/
LOCATION:ZOOM
CATEGORIES:Club Officer Training,District Event,Officer Training,Training,Virtual,Virtual Meeting,Virtual Training,Zoom
ATTACH;FMTTYPE=image/png:https://www.district52.org/wp-content/uploads/2022/08/Copy-of-NEW-BANNER-SIZE-1.png
END:VEVENT
BEGIN:VEVENT
DTSTART;TZID=America/Los_Angeles:20251118T190000
DTEND;TZID=America/Los_Angeles:20251118T203000
DTSTAMP:20260424T010742
CREATED:20251016T044539Z
LAST-MODIFIED:20251016T044559Z
UID:15245-1763492400-1763497800@www.district52.org
SUMMARY:D52 Club Officer Training - All Positions
DESCRIPTION:Red-Runyon-200×200\nRed Runyon\, DTM\, will lead the following training sessions.\nSession 1: Nov 18\, 2025\, 7 pm PST.  Please click here to register.\n 
URL:https://www.district52.org/event/d52-club-officer-training-all-positions-11/
LOCATION:ZOOM
CATEGORIES:Club Officer Training,Officer Training,Training,Virtual,Virtual Meeting,Virtual Training,Zoom
ATTACH;FMTTYPE=image/png:https://www.district52.org/wp-content/uploads/2022/08/Copy-of-NEW-BANNER-SIZE-1.png
END:VEVENT
BEGIN:VEVENT
DTSTART;TZID=America/Los_Angeles:20251117T190000
DTEND;TZID=America/Los_Angeles:20251117T203000
DTSTAMP:20260424T010742
CREATED:20251016T040841Z
LAST-MODIFIED:20251016T041549Z
UID:15239-1763406000-1763411400@www.district52.org
SUMMARY:D52 Club Officer Training - All Positions
DESCRIPTION:Lance Webster\, DTM\, Past District 52 Director\, will lead the following club officer training sessions:\n\nSession 1:  November 17\, 2025\, starting at 7:00 pm.\nPlease click here to register for the November session. \nSession 2: December 10\, 2025\, starting at 7:00 pm.\nPlease click here to register for the December session.
URL:https://www.district52.org/event/d52-club-officer-training-all-positions-9/
LOCATION:ZOOM
CATEGORIES:Club Officer Training,District Event,Officer Training,Training,Virtual,Virtual Meeting,Virtual Training,Zoom
ATTACH;FMTTYPE=image/png:https://www.district52.org/wp-content/uploads/2023/07/COT-Lance-Webster.png
END:VEVENT
BEGIN:VEVENT
DTSTART;TZID=America/Los_Angeles:20250804T190000
DTEND;TZID=America/Los_Angeles:20250804T203000
DTSTAMP:20260424T010742
CREATED:20250721T003038Z
LAST-MODIFIED:20250721T044743Z
UID:15085-1754334000-1754339400@www.district52.org
SUMMARY:D52 Club Officer Training - All Positions with Albert Lin\, DTM
DESCRIPTION:Combined training for ALL club officer positions \nAlbert Lin\, DTM\, will lead this training session\n\nDate and Time: August 4\, 2025\, 07:00 PM  in Pacific Time (US and Canada)\nClick here to register for the session.
URL:https://www.district52.org/event/d52-club-officer-training-all-positions-8/
LOCATION:ZOOM
CATEGORIES:Club Officer Training,District Event,Officer Training,Training,Virtual Meeting,Virtual Training,Zoom
ATTACH;FMTTYPE=image/png:https://www.district52.org/wp-content/uploads/2021/09/Club-Officers-Training.png
END:VEVENT
BEGIN:VEVENT
DTSTART;TZID=America/Los_Angeles:20250802T100000
DTEND;TZID=America/Los_Angeles:20250802T113000
DTSTAMP:20260424T010742
CREATED:20250721T002826Z
LAST-MODIFIED:20250721T044657Z
UID:15083-1754128800-1754134200@www.district52.org
SUMMARY:D52 Club Officer Training – All Positions with Lance Webster\, DTM
DESCRIPTION:Combined training for ALL club officer positions \nLance Webster\, DTM\, will lead this training session\n\nDate and Time: August 2\, 2025\, 10:00 AM  in Pacific Time (US and Canada)\nClick here to register for the session.
URL:https://www.district52.org/event/d52-club-officer-training-all-positions-with-lance-webster-dtm/
CATEGORIES:Club Officer Training,Officer Training,Virtual Training
ATTACH;FMTTYPE=image/png:https://www.district52.org/wp-content/uploads/2025/07/Club-Officers-Training.png
END:VEVENT
BEGIN:VEVENT
DTSTART;TZID=America/Los_Angeles:20250729T190000
DTEND;TZID=America/Los_Angeles:20250729T203000
DTSTAMP:20260424T010742
CREATED:20250721T002508Z
LAST-MODIFIED:20250721T044606Z
UID:15081-1753815600-1753821000@www.district52.org
SUMMARY:D52 Club Officer Training – All Positions with Marianne Toghia\, DTM
DESCRIPTION:Combined training for ALL club officer positions \nMarianne Toghia\, DTM\, will lead this training session\n\nDate and Time: July 29\, 2025\, 7:00 PM  in Pacific Time (US and Canada)\nClick here to register for the session.
URL:https://www.district52.org/event/d52-club-officer-training-all-positions-with-marianne-toghia-dtm/
CATEGORIES:Club Officer Training,Officer Training,Virtual Training
ATTACH;FMTTYPE=image/png:https://www.district52.org/wp-content/uploads/2025/07/Club-Officers-Training.png
END:VEVENT
BEGIN:VEVENT
DTSTART;TZID=America/Los_Angeles:20250727T180000
DTEND;TZID=America/Los_Angeles:20250727T193000
DTSTAMP:20260424T010742
CREATED:20250721T002004Z
LAST-MODIFIED:20250721T044529Z
UID:15079-1753639200-1753644600@www.district52.org
SUMMARY:D52 Club Officer Training – All Positions with Lawrence Quesada
DESCRIPTION:Combined training for ALL club officer positions\nLawrence Quesada\, DTM\, will lead this training session\n\nDate and Time: July 27\, 2025\, 6:00 PM  in Pacific Time (US and Canada)\nClick here to register for the session.
URL:https://www.district52.org/event/d52-club-officer-training-all-positions-with-lawrence-quesada-2/
CATEGORIES:Club Officer Training,Officer Training,Virtual Training
ATTACH;FMTTYPE=image/png:https://www.district52.org/wp-content/uploads/2025/07/Copy-of-NEW-BANNER-SIZE-1.png
END:VEVENT
BEGIN:VEVENT
DTSTART;TZID=America/Los_Angeles:20250726T100000
DTEND;TZID=America/Los_Angeles:20250726T113000
DTSTAMP:20260424T010742
CREATED:20250705T234853Z
LAST-MODIFIED:20250721T030541Z
UID:14959-1753524000-1753529400@www.district52.org
SUMMARY:D52 Club Officer Training – All Positions with Lance Webster
DESCRIPTION:Combined training for ALL club officer positions \nLance Webster\, DTM\, will lead this training session\n\nDate and Time: July 26\, 2025\, 10:00 AM  in Pacific Time (US and Canada)\nClick here to register for the session.
URL:https://www.district52.org/event/d52-club-officer-training-all-positions-with-lance-webster-2/
CATEGORIES:Club Officer Training,Officer Training,Virtual Training
ATTACH;FMTTYPE=image/png:https://www.district52.org/wp-content/uploads/2025/07/Club-Officers-Training.png
END:VEVENT
BEGIN:VEVENT
DTSTART;TZID=America/Los_Angeles:20250720T180000
DTEND;TZID=America/Los_Angeles:20250720T190000
DTSTAMP:20260424T010742
CREATED:20250716T200752Z
LAST-MODIFIED:20250721T010602Z
UID:15009-1753034400-1753038000@www.district52.org
SUMMARY:D52 Club Officer Training – All Positions with Lawrence Quesada
DESCRIPTION:Combined training for ALL club officer positions\nLawrence Quesada\, DTM\, will lead this training session\n\nDate and Time: July 20\, 2025\, 6:00 PM  in Pacific Time (US and Canada)\nClick here to register for the session.
URL:https://www.district52.org/event/d52-club-officer-training-all-positions-with-lawrence-quesada/
CATEGORIES:Club Officer Training,Officer Training,Virtual Training
ATTACH;FMTTYPE=image/png:https://www.district52.org/wp-content/uploads/2025/07/Copy-of-NEW-BANNER-SIZE-1.png
END:VEVENT
BEGIN:VEVENT
DTSTART;TZID=America/Los_Angeles:20250717T180000
DTEND;TZID=America/Los_Angeles:20250717T193000
DTSTAMP:20260424T010742
CREATED:20250705T234542Z
LAST-MODIFIED:20250716T195853Z
UID:14956-1752775200-1752780600@www.district52.org
SUMMARY:D52 Club Officer Training – All Positions with Shawna Swanberg
DESCRIPTION:Combined training for ALL club officer positions \nShawna Swanberg\, DTM\, will lead this training session\n\nDate and Time: July 17\, 2025\, 6:00 PM  in Pacific Time (US and Canada)\nClick here to register for the session.
URL:https://www.district52.org/event/d52-club-officer-training-all-positions-with-shawna-swanberg/
CATEGORIES:Club Officer Training,Officer Training
ATTACH;FMTTYPE=image/png:https://www.district52.org/wp-content/uploads/2025/07/Club-Officers-Training.png
END:VEVENT
BEGIN:VEVENT
DTSTART;TZID=America/Los_Angeles:20250715T190000
DTEND;TZID=America/Los_Angeles:20250715T203000
DTSTAMP:20260424T010742
CREATED:20250630T072104Z
LAST-MODIFIED:20250630T072105Z
UID:14941-1752606000-1752611400@www.district52.org
SUMMARY:D52 Club Officer Training - All Positions
DESCRIPTION:Combined training for ALL club officer positions \nJohn Alexenko\, will lead this training session\n\nDate and Time: July 15\, 2025\, 07:00 PM  in Pacific Time (US and Canada)\nClick here to register for the session.
URL:https://www.district52.org/event/d52-club-officer-training-all-positions-7/
LOCATION:ZOOM
CATEGORIES:Club Officer Training,Officer Training,Training,Virtual,Virtual Meeting,Virtual Training,Zoom
ATTACH;FMTTYPE=image/png:https://www.district52.org/wp-content/uploads/2022/08/Copy-of-NEW-BANNER-SIZE-1.png
END:VEVENT
BEGIN:VEVENT
DTSTART;TZID=America/Los_Angeles:20250714T193000
DTEND;TZID=America/Los_Angeles:20250714T210000
DTSTAMP:20260424T010742
CREATED:20250630T071304Z
LAST-MODIFIED:20250630T071305Z
UID:14939-1752521400-1752526800@www.district52.org
SUMMARY:D52 Club Officer Training - All Positions
DESCRIPTION:Combined training for ALL club officer positions \nAlbert Lin\, DTM\, will lead this training session\n\nDate and Time: July 14\, 2025\, 07:30 PM  in Pacific Time (US and Canada)\nClick here to register for the session.
URL:https://www.district52.org/event/d52-club-officer-training-all-positions-6/
LOCATION:ZOOM
CATEGORIES:Club Officer Training,District Event,Officer Training,Training,Virtual Meeting,Virtual Training,Zoom
ATTACH;FMTTYPE=image/png:https://www.district52.org/wp-content/uploads/2021/09/Club-Officers-Training.png
END:VEVENT
BEGIN:VEVENT
DTSTART;TZID=America/Los_Angeles:20250712T113000
DTEND;TZID=America/Los_Angeles:20250712T130000
DTSTAMP:20260424T010742
CREATED:20250618T180748Z
LAST-MODIFIED:20250629T043108Z
UID:14927-1752319800-1752325200@www.district52.org
SUMMARY:D52 Club Officer Training - All Positions
DESCRIPTION:Catherine Ghaffen\, DTM\, will lead the club officer training session on July 12\, 2025\, starting at 11:30 am.\nPlease register for this session using this link.
URL:https://www.district52.org/event/d52-club-officer-training-all-positions-5/
CATEGORIES:Club,Club Officer Training,District Event,Officer Training,Training,Virtual,Virtual Meeting,Virtual Training,Zoom
ATTACH;FMTTYPE=image/png:https://www.district52.org/wp-content/uploads/2022/08/Copy-of-NEW-BANNER-SIZE-1.png
END:VEVENT
BEGIN:VEVENT
DTSTART;TZID=America/Los_Angeles:20250711T180000
DTEND;TZID=America/Los_Angeles:20250711T193000
DTSTAMP:20260424T010742
CREATED:20250615T233607Z
LAST-MODIFIED:20250615T233652Z
UID:14913-1752256800-1752262200@www.district52.org
SUMMARY:D52 Club Officer Training - All Positions
DESCRIPTION:Elia Evans\, DTM\, will lead this training session to help prepare you to execute the responsibilities of your club officer position. \nPlease click this link to register for the training.
URL:https://www.district52.org/event/14913/
LOCATION:ZOOM
CATEGORIES:Club Officer Training,Officer Training,Training,Virtual,Virtual Meeting,Virtual Training,Zoom
ATTACH;FMTTYPE=image/png:https://www.district52.org/wp-content/uploads/2021/09/Club-Officers-Training.png
END:VEVENT
BEGIN:VEVENT
DTSTART;TZID=America/Los_Angeles:20250710T190000
DTEND;TZID=America/Los_Angeles:20250710T203000
DTSTAMP:20260424T010742
CREATED:20250615T233121Z
LAST-MODIFIED:20250615T233122Z
UID:14908-1752174000-1752179400@www.district52.org
SUMMARY:D52 Club Officer Training - All Positions
DESCRIPTION:Lance Webster\, DTM\, Past District 52 Director\, will lead the club officer training session on July 10\, 2025\, starting at 7:00 pm.  Lance will share his many years of experience.\nPlease click here to register.
URL:https://www.district52.org/event/d52-club-officer-training-all-positions-3/
LOCATION:ZOOM
CATEGORIES:Club Officer Training,Officer Training,Training,Virtual,Virtual Meeting,Virtual Training,Zoom
ATTACH;FMTTYPE=image/png:https://www.district52.org/wp-content/uploads/2022/08/Copy-of-NEW-BANNER-SIZE-1.png
END:VEVENT
BEGIN:VEVENT
DTSTART;TZID=America/Los_Angeles:20250707T180000
DTEND;TZID=America/Los_Angeles:20250707T193000
DTSTAMP:20260424T010742
CREATED:20250618T180028Z
LAST-MODIFIED:20250618T180028Z
UID:14904-1751911200-1751916600@www.district52.org
SUMMARY:D52 Club Officer Training - All Positions
DESCRIPTION:Elia Evans\, DTM\, will lead this training session to help prepare you to execute the responsibilities of your club officer position. \nPlease click this link to register for the training.
URL:https://www.district52.org/event/d52-club-officer-training-all-positions-4/
LOCATION:ZOOM
CATEGORIES:Club Officer Training,District Event,Officer Training,Training,Virtual,Virtual Meeting,Virtual Training,Zoom
ATTACH;FMTTYPE=image/jpeg:https://www.district52.org/wp-content/uploads/2021/01/COT-1.jpg
END:VEVENT
BEGIN:VEVENT
DTSTART;TZID=America/Los_Angeles:20250201T133000
DTEND;TZID=America/Los_Angeles:20250201T150000
DTSTAMP:20260424T010742
CREATED:20240702T023937Z
LAST-MODIFIED:20250201T031546Z
UID:13518-1738416600-1738422000@www.district52.org
SUMMARY:Club Officer Make-up Training (All Officer Roles)
DESCRIPTION:Red Runyon\, DTM\, will lead this club officer training session.\nRegistration link for 1:30 pm Saturday\, Feburary 1\, 2025\, session\, click here.
URL:https://www.district52.org/event/club-officer-make-up-training-all-officer-roles/
LOCATION:ZOOM
CATEGORIES:Club Officer Training,District Event,Officer Training,Training,Zoom
ATTACH;FMTTYPE=image/png:https://www.district52.org/wp-content/uploads/2024/10/D52-Training.png
ORGANIZER;CN="John Murray%2C DTM%2C PQD":MAILTO:murray_re@yahoo.com
END:VEVENT
END:VCALENDAR