BEGIN:VCALENDAR
VERSION:2.0
PRODID:-//Toastmasters District 52 - ECPv6.15.20//NONSGML v1.0//EN
CALSCALE:GREGORIAN
METHOD:PUBLISH
X-WR-CALNAME:Toastmasters District 52
X-ORIGINAL-URL:https://www.district52.org
X-WR-CALDESC:Events for Toastmasters District 52
REFRESH-INTERVAL;VALUE=DURATION:PT1H
X-Robots-Tag:noindex
X-PUBLISHED-TTL:PT1H
BEGIN:VTIMEZONE
TZID:America/Los_Angeles
BEGIN:DAYLIGHT
TZOFFSETFROM:-0800
TZOFFSETTO:-0700
TZNAME:PDT
DTSTART:20220313T100000
END:DAYLIGHT
BEGIN:STANDARD
TZOFFSETFROM:-0700
TZOFFSETTO:-0800
TZNAME:PST
DTSTART:20221106T090000
END:STANDARD
BEGIN:DAYLIGHT
TZOFFSETFROM:-0800
TZOFFSETTO:-0700
TZNAME:PDT
DTSTART:20230312T100000
END:DAYLIGHT
BEGIN:STANDARD
TZOFFSETFROM:-0700
TZOFFSETTO:-0800
TZNAME:PST
DTSTART:20231105T090000
END:STANDARD
BEGIN:DAYLIGHT
TZOFFSETFROM:-0800
TZOFFSETTO:-0700
TZNAME:PDT
DTSTART:20240310T100000
END:DAYLIGHT
BEGIN:STANDARD
TZOFFSETFROM:-0700
TZOFFSETTO:-0800
TZNAME:PST
DTSTART:20241103T090000
END:STANDARD
BEGIN:DAYLIGHT
TZOFFSETFROM:-0800
TZOFFSETTO:-0700
TZNAME:PDT
DTSTART:20250309T100000
END:DAYLIGHT
BEGIN:STANDARD
TZOFFSETFROM:-0700
TZOFFSETTO:-0800
TZNAME:PST
DTSTART:20251102T090000
END:STANDARD
BEGIN:DAYLIGHT
TZOFFSETFROM:-0800
TZOFFSETTO:-0700
TZNAME:PDT
DTSTART:20260308T100000
END:DAYLIGHT
BEGIN:STANDARD
TZOFFSETFROM:-0700
TZOFFSETTO:-0800
TZNAME:PST
DTSTART:20261101T090000
END:STANDARD
BEGIN:DAYLIGHT
TZOFFSETFROM:-0800
TZOFFSETTO:-0700
TZNAME:PDT
DTSTART:20270314T100000
END:DAYLIGHT
BEGIN:STANDARD
TZOFFSETFROM:-0700
TZOFFSETTO:-0800
TZNAME:PST
DTSTART:20271107T090000
END:STANDARD
END:VTIMEZONE
BEGIN:VEVENT
DTSTART;TZID=America/Los_Angeles:20260418T093000
DTEND;TZID=America/Los_Angeles:20260418T093000
DTSTAMP:20260423T125626
CREATED:20260313T231854Z
LAST-MODIFIED:20260411T060410Z
UID:15680-1776504600-1776504600@www.district52.org
SUMMARY:D52 Division B Speech Contests
DESCRIPTION:
URL:https://www.district52.org/event/d52-division-b-speech-contests/
LOCATION:Church of Scientology of the Valley\, 11455 Burbank Blvd\, North Hollywood\, CA\, United States
CATEGORIES:Contest,Speaking,Speech Contest
ORGANIZER;CN="John Murray%2C DTM%2C PQD":MAILTO:murray_re@yahoo.com
END:VEVENT
BEGIN:VEVENT
DTSTART;TZID=America/Los_Angeles:20260328T100000
DTEND;TZID=America/Los_Angeles:20260328T170000
DTSTAMP:20260423T125626
CREATED:20250919T162416Z
LAST-MODIFIED:20260302T211113Z
UID:15190-1774692000-1774717200@www.district52.org
SUMMARY:Division A Area Speech Contests
DESCRIPTION:
URL:https://www.district52.org/event/area-a-contests-from-division-a/
LOCATION:St Mel Catholic Church\, 20870 Ventura Blvd\, Woodland Hills\, CA\, United States
CATEGORIES:Contest,District Event,Speech Contest
ORGANIZER;CN="Nicole Sproule":MAILTO:nicolethetoastmaster@gmail.com
END:VEVENT
BEGIN:VEVENT
DTSTART;TZID=America/Los_Angeles:20260321T093000
DTEND;TZID=America/Los_Angeles:20260321T150000
DTSTAMP:20260423T125626
CREATED:20260306T215640Z
LAST-MODIFIED:20260311T041442Z
UID:15658-1774085400-1774105200@www.district52.org
SUMMARY:Div B Area Speech Contests
DESCRIPTION:
URL:https://www.district52.org/event/div-b-area-speech-contests/
LOCATION:Church of Scientology of the Valley\, 11455 Burbank Blvd\, North Hollywood\, CA\, United States
CATEGORIES:Contest,Speech Contest
ORGANIZER;CN="Victoria Maltsev":MAILTO:victoria.maltsev@medtronic.com
END:VEVENT
BEGIN:VEVENT
DTSTART;TZID=America/Los_Angeles:20260314T100000
DTEND;TZID=America/Los_Angeles:20260314T170000
DTSTAMP:20260423T125626
CREATED:20260221T081741Z
LAST-MODIFIED:20260221T082302Z
UID:15601-1773482400-1773507600@www.district52.org
SUMMARY:D52 Div C Area Speech Contests
DESCRIPTION: Contact: Jackie Sanders – jackiegsanders@gmail.com
URL:https://www.district52.org/event/d52-div-c-area-speech-contests/
LOCATION:Way To Happiness Foundation\, 201 E Broadway\, Glendale\, CA\, 91205\, United States
CATEGORIES:Contest,Speech Contest
ATTACH;FMTTYPE=image/png:https://www.district52.org/wp-content/uploads/2026/02/Div-C-Area-Contests.png
ORGANIZER;CN="Jackie Sanders":MAILTO:jackiegsanders@gmail.com
END:VEVENT
BEGIN:VEVENT
DTSTART;TZID=America/Los_Angeles:20250426T100000
DTEND;TZID=America/Los_Angeles:20250426T140000
DTSTAMP:20260423T125626
CREATED:20250401T000720Z
LAST-MODIFIED:20250401T000721Z
UID:14731-1745661600-1745676000@www.district52.org
SUMMARY:District 52 Division D and E Evaluation and International Speech Contests
DESCRIPTION:
URL:https://www.district52.org/event/district-52-division-d-and-e-evaluation-and-international-speech-contests/
LOCATION:CA
CATEGORIES:Contest,District Event,Speech Contest
ATTACH;FMTTYPE=image/png:https://www.district52.org/wp-content/uploads/2025/03/Divd-and-e.png
END:VEVENT
BEGIN:VEVENT
DTSTART;TZID=America/Los_Angeles:20250412T140000
DTEND;TZID=America/Los_Angeles:20250412T180000
DTSTAMP:20260423T125626
CREATED:20250129T082801Z
LAST-MODIFIED:20250313T174905Z
UID:14450-1744466400-1744480800@www.district52.org
SUMMARY:District 52 Division F International and Evaluation Area Speech Contests
DESCRIPTION:Division F Area Speech Contest
URL:https://www.district52.org/event/district-52-division-f-international-and-evaluation-area-speech-contests-2/
LOCATION:St Mel Catholic Church\, 20870 Ventura Blvd\, Woodland Hills\, CA\, United States
CATEGORIES:Contest,Speech Contest
ATTACH;FMTTYPE=image/png:https://www.district52.org/wp-content/uploads/2025/01/DivF.png
END:VEVENT
BEGIN:VEVENT
DTSTART;TZID=America/Los_Angeles:20250405T140000
DTEND;TZID=America/Los_Angeles:20250405T170000
DTSTAMP:20260423T125626
CREATED:20241227T193653Z
LAST-MODIFIED:20250128T095131Z
UID:14303-1743861600-1743872400@www.district52.org
SUMMARY:District 52 Division C Speech Contests
DESCRIPTION:                           In Person Only!
URL:https://www.district52.org/event/district-52-division-c-speech-contests/
LOCATION:St Mel Catholic Church\, 20870 Ventura Blvd\, Woodland Hills\, CA\, United States
CATEGORIES:Contest,District Event,Speech Contest
ATTACH;FMTTYPE=image/jpeg:https://www.district52.org/wp-content/uploads/2024/12/div-c-div-a.jpg
END:VEVENT
BEGIN:VEVENT
DTSTART;TZID=America/Los_Angeles:20250330T130000
DTEND;TZID=America/Los_Angeles:20250330T190000
DTSTAMP:20260423T125626
CREATED:20250129T073246Z
LAST-MODIFIED:20250323T051222Z
UID:14437-1743339600-1743361200@www.district52.org
SUMMARY:District 52 Division B International and Evaluation Area Speech Contests
DESCRIPTION:Division B Area Speech Contest
URL:https://www.district52.org/event/district-52-division-b-international-and-evaluation-area-speech-contests/
LOCATION:St Mel Catholic Church\, 20870 Ventura Blvd\, Woodland Hills\, CA\, United States
CATEGORIES:Contest,Speech Contest
ATTACH;FMTTYPE=image/png:https://www.district52.org/wp-content/uploads/2025/01/DivB-Area-2.png
END:VEVENT
BEGIN:VEVENT
DTSTART;TZID=America/Los_Angeles:20250329T080000
DTEND;TZID=America/Los_Angeles:20250329T123000
DTSTAMP:20260423T125626
CREATED:20241227T192807Z
LAST-MODIFIED:20250307T085100Z
UID:14298-1743235200-1743251400@www.district52.org
SUMMARY:Division C Area Speech Contests
DESCRIPTION:                         In person only
URL:https://www.district52.org/event/division-c-area-speech-contests/
LOCATION:St Mel Catholic Church\, 20870 Ventura Blvd\, Woodland Hills\, CA\, United States
CATEGORIES:Contest,District Event,Speech Contest
ATTACH;FMTTYPE=image/jpeg:https://www.district52.org/wp-content/uploads/2024/12/dic-area-a.jpg
END:VEVENT
BEGIN:VEVENT
DTSTART;TZID=America/Los_Angeles:20250316T140000
DTEND;TZID=America/Los_Angeles:20250316T180000
DTSTAMP:20260423T125626
CREATED:20250129T081122Z
LAST-MODIFIED:20250129T081123Z
UID:14444-1742133600-1742148000@www.district52.org
SUMMARY:District 52 Division F International and Evaluation Area Speech Contests
DESCRIPTION:Division F Area Speech Contest
URL:https://www.district52.org/event/district-52-division-f-international-and-evaluation-area-speech-contests/
LOCATION:St Mel Catholic Church\, 20870 Ventura Blvd\, Woodland Hills\, CA\, United States
CATEGORIES:Contest,Speech Contest
ATTACH;FMTTYPE=image/png:https://www.district52.org/wp-content/uploads/2025/01/DivF-Area.png
END:VEVENT
BEGIN:VEVENT
DTSTART;TZID=America/Los_Angeles:20240429T183000
DTEND;TZID=America/Los_Angeles:20240429T203000
DTSTAMP:20260423T125626
CREATED:20240405T163003Z
LAST-MODIFIED:20240405T164439Z
UID:12931-1714415400-1714422600@www.district52.org
SUMMARY:Division F Speech Contests (International & Table Topics)
DESCRIPTION:Division F (International & Table Topics Speech Contest) \nApril 29th starting at 6:30 PM PDT \nLocation: Buena Vista Library (300 N Buena Vista St\, Burbank\, CA 91505) \nZoom Link: https://tinyurl.com/3exwwvkd
URL:https://www.district52.org/event/contest-division-f/
LOCATION:Buena Vista Library\, 300 N Buena Vista St\, Burbank\, CA\, 91505\, United States
CATEGORIES:Contest,Hybrid Event,Speech Contest
ATTACH;FMTTYPE=image/png:https://www.district52.org/wp-content/uploads/2024/04/Blue-Simple-Creative-Travel-Trifold-Brochure-2.png
END:VEVENT
BEGIN:VEVENT
DTSTART;TZID=America/Los_Angeles:20240427T100000
DTEND;TZID=America/Los_Angeles:20240427T120000
DTSTAMP:20260423T125626
CREATED:20240413T153758Z
LAST-MODIFIED:20240424T234027Z
UID:13055-1714212000-1714219200@www.district52.org
SUMMARY:Division E | International and Table Topics Speech Contest
DESCRIPTION:
URL:https://www.district52.org/event/division-e-international-and-table-topics-speech-contest/
LOCATION:CA
CATEGORIES:Speech Contest
END:VEVENT
BEGIN:VEVENT
DTSTART;TZID=America/Los_Angeles:20240420T100000
DTEND;TZID=America/Los_Angeles:20240420T120000
DTSTAMP:20260423T125626
CREATED:20240415T001026Z
LAST-MODIFIED:20240415T001301Z
UID:13083-1713607200-1713614400@www.district52.org
SUMMARY:Division D | International and Table Topics Speech Contest
DESCRIPTION:Toastmasters International District 52 | Division D | International and Table Topics Speech Contest \nHybrid Details: \nLocation: 418 Bamboo Lane Suite A Los Angeles CA 90012 \nRegister Here for Online attendance: https://tinyurl.com/yry3ks2y
URL:https://www.district52.org/event/division-d-international-and-table-topics-speech-contest/
LOCATION:CA
CATEGORIES:Speech Contest
ATTACH;FMTTYPE=image/png:https://www.district52.org/wp-content/uploads/2024/04/DivD_Contest_Flyer.png
END:VEVENT
BEGIN:VEVENT
DTSTART;TZID=America/Los_Angeles:20240407T100000
DTEND;TZID=America/Los_Angeles:20240407T130000
DTSTAMP:20260423T125626
CREATED:20240403T212109Z
LAST-MODIFIED:20240403T212109Z
UID:12917-1712484000-1712494800@www.district52.org
SUMMARY:Division C International and Table Topics Speech Contests
DESCRIPTION:Please attend in person or register for Div C speech contests on the following link.
URL:https://www.district52.org/event/division-c-international-and-table-topics-speech-contests/
LOCATION:23822 Valencia Blvd\, Valencia\, CA 91355\, 23822 Valencia Blvd\, Valencia\, CA\, 91355\, United States
CATEGORIES:Speech Contest,Virtual,Zoom
ATTACH;FMTTYPE=image/png:https://www.district52.org/wp-content/uploads/2024/04/image0.png
END:VEVENT
BEGIN:VEVENT
DTSTART;TZID=America/Los_Angeles:20240130T190000
DTEND;TZID=America/Los_Angeles:20240130T210000
DTSTAMP:20260423T125626
CREATED:20231219T053140Z
LAST-MODIFIED:20240130T235938Z
UID:12098-1706641200-1706648400@www.district52.org
SUMMARY:CONTEST TRAINING: JUDGES & FUNCTIONARIES
DESCRIPTION:Please join D52 Chief Judge Albert Lin for a training session on all contest roles.\nYou can register with this link.
URL:https://www.district52.org/event/contest-training-judges-functionaries-3/
LOCATION:ZOOM
CATEGORIES:District Event,Speech Contest,Training,Virtual,Virtual Meeting,Virtual Training,Zoom
END:VEVENT
BEGIN:VEVENT
DTSTART;TZID=America/Los_Angeles:20240109T190000
DTEND;TZID=America/Los_Angeles:20240109T210000
DTSTAMP:20260423T125626
CREATED:20231204T035257Z
LAST-MODIFIED:20231219T054200Z
UID:12002-1704826800-1704834000@www.district52.org
SUMMARY:Contest Training: Judges & Functionaries
DESCRIPTION:  \nPlease join D52 Chief Judge Albert Lin for a training session on all contest roles.\nYou can register with this link.
URL:https://www.district52.org/event/contest-training-judges-functionaries-2/
LOCATION:ZOOM
CATEGORIES:District Event,Speech Contest,Virtual,Virtual Meeting,Virtual Training,Zoom
END:VEVENT
BEGIN:VEVENT
DTSTART;TZID=America/Los_Angeles:20230422T140000
DTEND;TZID=America/Los_Angeles:20230422T170000
DTSTAMP:20260423T125626
CREATED:20230306T163234Z
LAST-MODIFIED:20230418T033813Z
UID:10381-1682172000-1682182800@www.district52.org
SUMMARY:Division A International and Humorous Contests
DESCRIPTION:Please register to attend Division A contests with this link.
URL:https://www.district52.org/event/division-a-international-and-humorous-contests/
LOCATION:ZOOM
CATEGORIES:Speech Contest,Virtual Meeting,Zoom
ORGANIZER;CN="Serena McCullough":MAILTO:smcculloughdtm@gmail.com
END:VEVENT
END:VCALENDAR