BEGIN:VCALENDAR
VERSION:2.0
PRODID:-//Toastmasters District 52 - ECPv6.15.20//NONSGML v1.0//EN
CALSCALE:GREGORIAN
METHOD:PUBLISH
X-WR-CALNAME:Toastmasters District 52
X-ORIGINAL-URL:https://www.district52.org
X-WR-CALDESC:Events for Toastmasters District 52
REFRESH-INTERVAL;VALUE=DURATION:PT1H
X-Robots-Tag:noindex
X-PUBLISHED-TTL:PT1H
BEGIN:VTIMEZONE
TZID:America/Los_Angeles
BEGIN:DAYLIGHT
TZOFFSETFROM:-0800
TZOFFSETTO:-0700
TZNAME:PDT
DTSTART:20240310T100000
END:DAYLIGHT
BEGIN:STANDARD
TZOFFSETFROM:-0700
TZOFFSETTO:-0800
TZNAME:PST
DTSTART:20241103T090000
END:STANDARD
BEGIN:DAYLIGHT
TZOFFSETFROM:-0800
TZOFFSETTO:-0700
TZNAME:PDT
DTSTART:20250309T100000
END:DAYLIGHT
BEGIN:STANDARD
TZOFFSETFROM:-0700
TZOFFSETTO:-0800
TZNAME:PST
DTSTART:20251102T090000
END:STANDARD
BEGIN:DAYLIGHT
TZOFFSETFROM:-0800
TZOFFSETTO:-0700
TZNAME:PDT
DTSTART:20260308T100000
END:DAYLIGHT
BEGIN:STANDARD
TZOFFSETFROM:-0700
TZOFFSETTO:-0800
TZNAME:PST
DTSTART:20261101T090000
END:STANDARD
END:VTIMEZONE
BEGIN:VEVENT
DTSTART;TZID=America/Los_Angeles:20251012T100000
DTEND;TZID=America/Los_Angeles:20251012T130000
DTSTAMP:20260423T152814
CREATED:20251007T180545Z
LAST-MODIFIED:20251007T180948Z
UID:15226-1760263200-1760274000@www.district52.org
SUMMARY:Open House | Entrepinayship Toastmasters
DESCRIPTION:Entrepinayship Toastmasters | Open House\nSunday\, October 12 | 10am – 1pm in Northridge.\nCafe Aficionado | 8904 Reseda Blvd Los Angeles\, CA\nEvent link HERE
URL:https://www.district52.org/event/open-house-entrepinayship-toastmasters/
LOCATION:CA
CATEGORIES:Membership Building,Open House,Speaking
END:VEVENT
BEGIN:VEVENT
DTSTART;TZID=America/Los_Angeles:20251007T183000
DTEND;TZID=America/Los_Angeles:20251007T200000
DTSTAMP:20260423T152814
CREATED:20250929T222756Z
LAST-MODIFIED:20251004T002142Z
UID:15209-1759861800-1759867200@www.district52.org
SUMMARY:Open House | Rising Stars Toastmasters
DESCRIPTION:Zoom Link: https://us02web.zoom.us/meeting/register/g93mD1u-R863BxSyPTwhMg
URL:https://www.district52.org/event/open-house-rising-stars-toastmasters/
LOCATION:CA
CATEGORIES:Community Club,Hybrid Event,Open House,Speaking,Virtual,Virtual Meeting
ATTACH;FMTTYPE=image/png:https://www.district52.org/wp-content/uploads/2025/09/Rising-Star-Open-House_Draft2.png
END:VEVENT
BEGIN:VEVENT
DTSTART;TZID=America/Los_Angeles:20250816T090000
DTEND;TZID=America/Los_Angeles:20250816T103000
DTSTAMP:20260423T152814
CREATED:20250712T013748Z
LAST-MODIFIED:20250712T013749Z
UID:14968-1755334800-1755340200@www.district52.org
SUMMARY:PDT Toastmasters | OPEN HOUSE "Speak with Ease: End-of-Summer Edition"
DESCRIPTION:OPEN HOUSE “Speak with Ease: End-of-Summer Edition”\nOnline Only: ZOOM link below\nDate: Saturday August 16\, 2025 at 9am-10:30am\nClub website: pds2018.toastmastersclubs.org\nClub email: Storytellerstm18@gmail.com\n\nZOOM Meeting Link HERE
URL:https://www.district52.org/event/pdt-toastmasters-open-house-speak-with-ease-end-of-summer-edition/
LOCATION:CA
CATEGORIES:Open House
ATTACH;FMTTYPE=image/png:https://www.district52.org/wp-content/uploads/2025/07/8-16-OPEN-HOUSE.png
END:VEVENT
BEGIN:VEVENT
DTSTART;TZID=America/Los_Angeles:20250220T190000
DTEND;TZID=America/Los_Angeles:20250220T203000
DTSTAMP:20260423T152814
CREATED:20250216T095005Z
LAST-MODIFIED:20250216T095006Z
UID:14547-1740078000-1740083400@www.district52.org
SUMMARY:Lofty Speakers Open House
DESCRIPTION:
URL:https://www.district52.org/event/lofty-speakers-open-house/
LOCATION:Studios Coworking Space\, 418 Bamboo Ln A\, Los Angeles\, CA\, 90012\, United States
CATEGORIES:Club,Community Club,Open House
ORGANIZER;CN="Judy Thang":MAILTO:prm@district52.org
END:VEVENT
BEGIN:VEVENT
DTSTART;TZID=America/Los_Angeles:20250203T190000
DTEND;TZID=America/Los_Angeles:20250203T210000
DTSTAMP:20260423T152814
CREATED:20250202T034948Z
LAST-MODIFIED:20250202T040903Z
UID:14484-1738609200-1738616400@www.district52.org
SUMMARY:Gettin' Toasty 🎉 OPEN HOUSE 🏠 🎊
DESCRIPTION:Our open house will be in the Sherman Oaks Community Room. Once you park in the parking structure\, come up to the ground floor and find the movie theater.  The community room is right by the escalators going up to the movie theater.\nOur meeting will start at 7 pm. \nJohn Murray\, our district’s Program Quality Director (multiple DTM holder) is our only speaker.\nWe will then have the panel with 3 of our members.\nServing snacks and drinks at the open house.  Love to see everybody there.\nFor Zoom Link\, click here!
URL:https://www.district52.org/event/gettin-toasty-147-open-house/
LOCATION:CA
CATEGORIES:Club,Community Club,Open House
ATTACH;FMTTYPE=image/png:https://www.district52.org/wp-content/uploads/2025/02/open-house-getting-toasty.png
END:VEVENT
END:VCALENDAR