BEGIN:VCALENDAR
VERSION:2.0
PRODID:-//Toastmasters District 52 - ECPv6.15.20//NONSGML v1.0//EN
CALSCALE:GREGORIAN
METHOD:PUBLISH
X-WR-CALNAME:Toastmasters District 52
X-ORIGINAL-URL:https://www.district52.org
X-WR-CALDESC:Events for Toastmasters District 52
REFRESH-INTERVAL;VALUE=DURATION:PT1H
X-Robots-Tag:noindex
X-PUBLISHED-TTL:PT1H
BEGIN:VTIMEZONE
TZID:America/Los_Angeles
BEGIN:DAYLIGHT
TZOFFSETFROM:-0800
TZOFFSETTO:-0700
TZNAME:PDT
DTSTART:20230312T100000
END:DAYLIGHT
BEGIN:STANDARD
TZOFFSETFROM:-0700
TZOFFSETTO:-0800
TZNAME:PST
DTSTART:20231105T090000
END:STANDARD
BEGIN:DAYLIGHT
TZOFFSETFROM:-0800
TZOFFSETTO:-0700
TZNAME:PDT
DTSTART:20240310T100000
END:DAYLIGHT
BEGIN:STANDARD
TZOFFSETFROM:-0700
TZOFFSETTO:-0800
TZNAME:PST
DTSTART:20241103T090000
END:STANDARD
BEGIN:DAYLIGHT
TZOFFSETFROM:-0800
TZOFFSETTO:-0700
TZNAME:PDT
DTSTART:20250309T100000
END:DAYLIGHT
BEGIN:STANDARD
TZOFFSETFROM:-0700
TZOFFSETTO:-0800
TZNAME:PST
DTSTART:20251102T090000
END:STANDARD
END:VTIMEZONE
BEGIN:VEVENT
DTSTART;TZID=America/Los_Angeles:20240429T183000
DTEND;TZID=America/Los_Angeles:20240429T203000
DTSTAMP:20260425T035833
CREATED:20240405T163003Z
LAST-MODIFIED:20240405T164439Z
UID:12931-1714415400-1714422600@www.district52.org
SUMMARY:Division F Speech Contests (International & Table Topics)
DESCRIPTION:Division F (International & Table Topics Speech Contest) \nApril 29th starting at 6:30 PM PDT \nLocation: Buena Vista Library (300 N Buena Vista St\, Burbank\, CA 91505) \nZoom Link: https://tinyurl.com/3exwwvkd
URL:https://www.district52.org/event/contest-division-f/
LOCATION:Buena Vista Library\, 300 N Buena Vista St\, Burbank\, CA\, 91505\, United States
CATEGORIES:Contest,Hybrid Event,Speech Contest
ATTACH;FMTTYPE=image/png:https://www.district52.org/wp-content/uploads/2024/04/Blue-Simple-Creative-Travel-Trifold-Brochure-2.png
END:VEVENT
END:VCALENDAR