BEGIN:VCALENDAR
VERSION:2.0
PRODID:-//Toastmasters District 52 - ECPv6.15.20//NONSGML v1.0//EN
CALSCALE:GREGORIAN
METHOD:PUBLISH
X-ORIGINAL-URL:https://www.district52.org
X-WR-CALDESC:Events for Toastmasters District 52
REFRESH-INTERVAL;VALUE=DURATION:PT1H
X-Robots-Tag:noindex
X-PUBLISHED-TTL:PT1H
BEGIN:VTIMEZONE
TZID:America/Los_Angeles
BEGIN:DAYLIGHT
TZOFFSETFROM:-0800
TZOFFSETTO:-0700
TZNAME:PDT
DTSTART:20230312T100000
END:DAYLIGHT
BEGIN:STANDARD
TZOFFSETFROM:-0700
TZOFFSETTO:-0800
TZNAME:PST
DTSTART:20231105T090000
END:STANDARD
BEGIN:DAYLIGHT
TZOFFSETFROM:-0800
TZOFFSETTO:-0700
TZNAME:PDT
DTSTART:20240310T100000
END:DAYLIGHT
BEGIN:STANDARD
TZOFFSETFROM:-0700
TZOFFSETTO:-0800
TZNAME:PST
DTSTART:20241103T090000
END:STANDARD
BEGIN:DAYLIGHT
TZOFFSETFROM:-0800
TZOFFSETTO:-0700
TZNAME:PDT
DTSTART:20250309T100000
END:DAYLIGHT
BEGIN:STANDARD
TZOFFSETFROM:-0700
TZOFFSETTO:-0800
TZNAME:PST
DTSTART:20251102T090000
END:STANDARD
BEGIN:DAYLIGHT
TZOFFSETFROM:-0800
TZOFFSETTO:-0700
TZNAME:PDT
DTSTART:20260308T100000
END:DAYLIGHT
BEGIN:STANDARD
TZOFFSETFROM:-0700
TZOFFSETTO:-0800
TZNAME:PST
DTSTART:20261101T090000
END:STANDARD
END:VTIMEZONE
BEGIN:VEVENT
DTSTART;TZID=America/Los_Angeles:20250220T190000
DTEND;TZID=America/Los_Angeles:20250220T203000
DTSTAMP:20260423T141359
CREATED:20250216T095005Z
LAST-MODIFIED:20250216T095006Z
UID:14547-1740078000-1740083400@www.district52.org
SUMMARY:Lofty Speakers Open House
DESCRIPTION:
URL:https://www.district52.org/event/lofty-speakers-open-house/
LOCATION:Studios Coworking Space\, 418 Bamboo Ln A\, Los Angeles\, CA\, 90012\, United States
CATEGORIES:Club,Community Club,Open House
ORGANIZER;CN="Judy Thang":MAILTO:prm@district52.org
END:VEVENT
BEGIN:VEVENT
DTSTART;TZID=America/Los_Angeles:20250203T190000
DTEND;TZID=America/Los_Angeles:20250203T210000
DTSTAMP:20260423T141359
CREATED:20250202T034948Z
LAST-MODIFIED:20250202T040903Z
UID:14484-1738609200-1738616400@www.district52.org
SUMMARY:Gettin' Toasty 🎉 OPEN HOUSE 🏠 🎊
DESCRIPTION:Our open house will be in the Sherman Oaks Community Room. Once you park in the parking structure\, come up to the ground floor and find the movie theater.  The community room is right by the escalators going up to the movie theater.\nOur meeting will start at 7 pm. \nJohn Murray\, our district’s Program Quality Director (multiple DTM holder) is our only speaker.\nWe will then have the panel with 3 of our members.\nServing snacks and drinks at the open house.  Love to see everybody there.\nFor Zoom Link\, click here!
URL:https://www.district52.org/event/gettin-toasty-147-open-house/
CATEGORIES:Club,Community Club,Open House
ATTACH;FMTTYPE=image/png:https://www.district52.org/wp-content/uploads/2025/02/open-house-getting-toasty.png
END:VEVENT
BEGIN:VEVENT
DTSTART;TZID=America/Los_Angeles:20240615T124500
DTEND;TZID=America/Los_Angeles:20240615T150000
DTSTAMP:20260423T141359
CREATED:20240606T062416Z
LAST-MODIFIED:20240606T062416Z
UID:13504-1718455500-1718463600@www.district52.org
SUMMARY:Mindful Communicators 6/15/2024 Keynote Speaker
DESCRIPTION:District D52 International Speech Contest Champion\,  Steve Pinto\, to speak at Mindful Communicators 6/15/2024 hybrid meeting. Starting time is 12:45 pm. \nIf you missed Steve’s winning speech at the district’s May speech contest\, you are invited to attend Mindful Communicators’ 6/15/2024 meeting in person or join us on Zoom. \nClick our webpage for In-person location\, or send a request to info@mindfulcommunicators.org for Zoom info.  See you then!
URL:https://www.district52.org/event/mindful-communicators-6-15-2024-keynote-speaker/
LOCATION:21338 Dumetz Rd\, Woodland Hills\, CA 91364\, 21338 Dumetz Rd\, Woodland Hills\, CA\, 91364
CATEGORIES:Club,Community Club,Hybrid Event,Speaking,Virtual,Zoom
ATTACH;FMTTYPE=image/png:https://www.district52.org/wp-content/uploads/2024/06/Steve-Pinto.png
END:VEVENT
END:VCALENDAR