BEGIN:VCALENDAR
VERSION:2.0
PRODID:-//Toastmasters District 52 - ECPv6.15.20//NONSGML v1.0//EN
CALSCALE:GREGORIAN
METHOD:PUBLISH
X-ORIGINAL-URL:https://www.district52.org
X-WR-CALDESC:Events for Toastmasters District 52
REFRESH-INTERVAL;VALUE=DURATION:PT1H
X-Robots-Tag:noindex
X-PUBLISHED-TTL:PT1H
BEGIN:VTIMEZONE
TZID:America/Los_Angeles
BEGIN:DAYLIGHT
TZOFFSETFROM:-0800
TZOFFSETTO:-0700
TZNAME:PDT
DTSTART:20240310T100000
END:DAYLIGHT
BEGIN:STANDARD
TZOFFSETFROM:-0700
TZOFFSETTO:-0800
TZNAME:PST
DTSTART:20241103T090000
END:STANDARD
BEGIN:DAYLIGHT
TZOFFSETFROM:-0800
TZOFFSETTO:-0700
TZNAME:PDT
DTSTART:20250309T100000
END:DAYLIGHT
BEGIN:STANDARD
TZOFFSETFROM:-0700
TZOFFSETTO:-0800
TZNAME:PST
DTSTART:20251102T090000
END:STANDARD
BEGIN:DAYLIGHT
TZOFFSETFROM:-0800
TZOFFSETTO:-0700
TZNAME:PDT
DTSTART:20260308T100000
END:DAYLIGHT
BEGIN:STANDARD
TZOFFSETFROM:-0700
TZOFFSETTO:-0800
TZNAME:PST
DTSTART:20261101T090000
END:STANDARD
END:VTIMEZONE
BEGIN:VEVENT
DTSTART;TZID=America/Los_Angeles:20250221T080000
DTEND;TZID=America/Los_Angeles:20250221T170000
DTSTAMP:20260424T042658
CREATED:20250220T083313Z
LAST-MODIFIED:20250220T083314Z
UID:14567-1740124800-1740157200@www.district52.org
SUMMARY:Phone-For-Friends
DESCRIPTION:Attention Clubs of District 52! \nIs your club looking to reconnect with past members or reach out to potential new ones? Is your club this close to becoming Distinguished? \n \nJoin our Phone for Friends initiative! We’ll provide you with a list of former members\, or you can send us one\, so your club can personally invite them back. We will even provide a script for you! A friendly call can make all the difference in helping someone rediscover the power of Toastmasters. Date: Friday\, February 21st \n Time: 7:00 PM – 8:00 PM \n Zoom Link: https://bit.ly/3CBH1s6 \n\n\nIf your club is currently facing membership challenges\, this is a great opportunity to turn things around! Let’s exercise our communication chops! Register on ZOOM here!
URL:https://www.district52.org/event/phone-for-friends-2/
LOCATION:CA
CATEGORIES:District Event
ATTACH;FMTTYPE=image/png:https://www.district52.org/wp-content/uploads/2025/02/phone-for-friends.png
ORGANIZER;CN="Ruchin Gupta":MAILTO:ruchingupta23@gmail.com
END:VEVENT
END:VCALENDAR