BEGIN:VCALENDAR
VERSION:2.0
PRODID:-//Toastmasters District 52 - ECPv6.15.20//NONSGML v1.0//EN
CALSCALE:GREGORIAN
METHOD:PUBLISH
X-ORIGINAL-URL:https://www.district52.org
X-WR-CALDESC:Events for Toastmasters District 52
REFRESH-INTERVAL;VALUE=DURATION:PT1H
X-Robots-Tag:noindex
X-PUBLISHED-TTL:PT1H
BEGIN:VTIMEZONE
TZID:America/Los_Angeles
BEGIN:DAYLIGHT
TZOFFSETFROM:-0800
TZOFFSETTO:-0700
TZNAME:PDT
DTSTART:20230312T100000
END:DAYLIGHT
BEGIN:STANDARD
TZOFFSETFROM:-0700
TZOFFSETTO:-0800
TZNAME:PST
DTSTART:20231105T090000
END:STANDARD
BEGIN:DAYLIGHT
TZOFFSETFROM:-0800
TZOFFSETTO:-0700
TZNAME:PDT
DTSTART:20240310T100000
END:DAYLIGHT
BEGIN:STANDARD
TZOFFSETFROM:-0700
TZOFFSETTO:-0800
TZNAME:PST
DTSTART:20241103T090000
END:STANDARD
BEGIN:DAYLIGHT
TZOFFSETFROM:-0800
TZOFFSETTO:-0700
TZNAME:PDT
DTSTART:20250309T100000
END:DAYLIGHT
BEGIN:STANDARD
TZOFFSETFROM:-0700
TZOFFSETTO:-0800
TZNAME:PST
DTSTART:20251102T090000
END:STANDARD
END:VTIMEZONE
BEGIN:VEVENT
DTSTART;TZID=America/Los_Angeles:20241117T180000
DTEND;TZID=America/Los_Angeles:20241117T200000
DTSTAMP:20260424T084018
CREATED:20241025T173440Z
LAST-MODIFIED:20241025T174135Z
UID:14169-1731866400-1731873600@www.district52.org
SUMMARY:Semi Annual Club Officer Training - All Positions
DESCRIPTION:Shawna Swanberg\, DTM\, will lead this training session. \nShe is a dynamic and excellent trainer.  You will thoroughly enjoy her session. \nPlease [click] to register for this training session with Shawna!
URL:https://www.district52.org/event/semi-annual-club-officer-training-all-positions-2/
LOCATION:ZOOM
ATTACH;FMTTYPE=image/png:https://www.district52.org/wp-content/uploads/2024/10/D52-Training.png
END:VEVENT
END:VCALENDAR