BEGIN:VCALENDAR
VERSION:2.0
PRODID:-//Toastmasters District 52 - ECPv6.15.20//NONSGML v1.0//EN
CALSCALE:GREGORIAN
METHOD:PUBLISH
X-WR-CALNAME:Toastmasters District 52
X-ORIGINAL-URL:https://www.district52.org
X-WR-CALDESC:Events for Toastmasters District 52
REFRESH-INTERVAL;VALUE=DURATION:PT1H
X-Robots-Tag:noindex
X-PUBLISHED-TTL:PT1H
BEGIN:VTIMEZONE
TZID:America/Los_Angeles
BEGIN:DAYLIGHT
TZOFFSETFROM:-0800
TZOFFSETTO:-0700
TZNAME:PDT
DTSTART:20230312T100000
END:DAYLIGHT
BEGIN:STANDARD
TZOFFSETFROM:-0700
TZOFFSETTO:-0800
TZNAME:PST
DTSTART:20231105T090000
END:STANDARD
BEGIN:DAYLIGHT
TZOFFSETFROM:-0800
TZOFFSETTO:-0700
TZNAME:PDT
DTSTART:20240310T100000
END:DAYLIGHT
BEGIN:STANDARD
TZOFFSETFROM:-0700
TZOFFSETTO:-0800
TZNAME:PST
DTSTART:20241103T090000
END:STANDARD
BEGIN:DAYLIGHT
TZOFFSETFROM:-0800
TZOFFSETTO:-0700
TZNAME:PDT
DTSTART:20250309T100000
END:DAYLIGHT
BEGIN:STANDARD
TZOFFSETFROM:-0700
TZOFFSETTO:-0800
TZNAME:PST
DTSTART:20251102T090000
END:STANDARD
END:VTIMEZONE
BEGIN:VEVENT
DTSTART;TZID=America/Los_Angeles:20240920T183000
DTEND;TZID=America/Los_Angeles:20240920T200000
DTSTAMP:20260424T113350
CREATED:20240823T181350Z
LAST-MODIFIED:20240907T041912Z
UID:13935-1726857000-1726862400@www.district52.org
SUMMARY:D52 Business Meeting
DESCRIPTION:Per Toastmasters International bylaws\, policies\, and protocols District 52 will be conducting this year’s District Council Fall Business Meeting\, held online via Zoom\, Friday\, September 20\, 2024\, 6:30 PM.  \nThe purpose of the meeting is to approve the district budget\, approve appointments made by the District Director\, approve District alignment amendments\, and present required reports.  \n\nProxies for District Council meetings are not permitted. The Club President and/or Vice President Education of any member club may vote on behalf of the club as its representative. Either club officer may carry the club’s two (2) votes or each of these club officers may carry one (1) vote\, as determined by the club membership. The representative from any Member Club in good standing is entitled to a maximum of two (2) votes. District Executive Committee members are entitled to one (1) vote and may cast up to two (2) additional votes as a Club President and/or Vice President Education. \nView the Business Meeting Packet HERE\n\nYou must sign up for the District Council Meeting by registering in advance. Your registration and attendance is important to constitute the required quorum for the successful transaction of business at this meeting. Please register for this meeting: https://bit.ly/d52dcm
URL:https://www.district52.org/event/d52-business-meeting/
LOCATION:CA
ATTACH;FMTTYPE=image/png:https://www.district52.org/wp-content/uploads/2022/04/Business-Meeting-Packet.png
ORGANIZER;CN="Ruchin Gupta":MAILTO:ruchingupta23@gmail.com
END:VEVENT
END:VCALENDAR