BEGIN:VCALENDAR
VERSION:2.0
PRODID:-//Toastmasters District 52 - ECPv6.15.20//NONSGML v1.0//EN
CALSCALE:GREGORIAN
METHOD:PUBLISH
X-WR-CALNAME:Toastmasters District 52
X-ORIGINAL-URL:https://www.district52.org
X-WR-CALDESC:Events for Toastmasters District 52
REFRESH-INTERVAL;VALUE=DURATION:PT1H
X-Robots-Tag:noindex
X-PUBLISHED-TTL:PT1H
BEGIN:VTIMEZONE
TZID:America/Los_Angeles
BEGIN:DAYLIGHT
TZOFFSETFROM:-0800
TZOFFSETTO:-0700
TZNAME:PDT
DTSTART:20230312T100000
END:DAYLIGHT
BEGIN:STANDARD
TZOFFSETFROM:-0700
TZOFFSETTO:-0800
TZNAME:PST
DTSTART:20231105T090000
END:STANDARD
BEGIN:DAYLIGHT
TZOFFSETFROM:-0800
TZOFFSETTO:-0700
TZNAME:PDT
DTSTART:20240310T100000
END:DAYLIGHT
BEGIN:STANDARD
TZOFFSETFROM:-0700
TZOFFSETTO:-0800
TZNAME:PST
DTSTART:20241103T090000
END:STANDARD
BEGIN:DAYLIGHT
TZOFFSETFROM:-0800
TZOFFSETTO:-0700
TZNAME:PDT
DTSTART:20250309T100000
END:DAYLIGHT
BEGIN:STANDARD
TZOFFSETFROM:-0700
TZOFFSETTO:-0800
TZNAME:PST
DTSTART:20251102T090000
END:STANDARD
END:VTIMEZONE
BEGIN:VEVENT
DTSTART;TZID=America/Los_Angeles:20240629T160000
DTEND;TZID=America/Los_Angeles:20240629T170000
DTSTAMP:20260424T165142
CREATED:20240605T080026Z
LAST-MODIFIED:20240605T080026Z
UID:13492-1719676800-1719680400@www.district52.org
SUMMARY:Division C Mastery Series
DESCRIPTION: Exciting News\, Toastmasters!  We’re thrilled to launch the Weekly Mastery Series in Division C! Every week\, join us to enhance your speaking and leadership skills with expert keynote speakers\, innovative table topics\, and more! \n This Saturday June 8th! Mark your calendars and stay tuned for more details. Let’s master the art of communication together \nREGISTER HERE
URL:https://www.district52.org/event/division-c-mastery-series-2024-06-29/
LOCATION:CA
END:VEVENT
END:VCALENDAR