BEGIN:VCALENDAR
VERSION:2.0
PRODID:-//Toastmasters District 52 - ECPv6.15.20//NONSGML v1.0//EN
CALSCALE:GREGORIAN
METHOD:PUBLISH
X-ORIGINAL-URL:https://www.district52.org
X-WR-CALDESC:Events for Toastmasters District 52
REFRESH-INTERVAL;VALUE=DURATION:PT1H
X-Robots-Tag:noindex
X-PUBLISHED-TTL:PT1H
BEGIN:VTIMEZONE
TZID:America/Los_Angeles
BEGIN:DAYLIGHT
TZOFFSETFROM:-0800
TZOFFSETTO:-0700
TZNAME:PDT
DTSTART:20230312T100000
END:DAYLIGHT
BEGIN:STANDARD
TZOFFSETFROM:-0700
TZOFFSETTO:-0800
TZNAME:PST
DTSTART:20231105T090000
END:STANDARD
BEGIN:DAYLIGHT
TZOFFSETFROM:-0800
TZOFFSETTO:-0700
TZNAME:PDT
DTSTART:20240310T100000
END:DAYLIGHT
BEGIN:STANDARD
TZOFFSETFROM:-0700
TZOFFSETTO:-0800
TZNAME:PST
DTSTART:20241103T090000
END:STANDARD
BEGIN:DAYLIGHT
TZOFFSETFROM:-0800
TZOFFSETTO:-0700
TZNAME:PDT
DTSTART:20250309T100000
END:DAYLIGHT
BEGIN:STANDARD
TZOFFSETFROM:-0700
TZOFFSETTO:-0800
TZNAME:PST
DTSTART:20251102T090000
END:STANDARD
END:VTIMEZONE
BEGIN:VEVENT
DTSTART;TZID=America/Los_Angeles:20240627T190000
DTEND;TZID=America/Los_Angeles:20240627T200000
DTSTAMP:20260424T165306
CREATED:20240605T080439Z
LAST-MODIFIED:20240605T080439Z
UID:13499-1719514800-1719518400@www.district52.org
SUMMARY:Professional Women Toastmasters Of LA
DESCRIPTION:District 52 is introducing a new club dedicated to empowering women entrepreneurs. The club aims to offer support\, resources\, and a community for women navigating the entrepreneurial world. By providing a space where women can connect\, share experiences\, exchange ideas\, and support each other\, we foster an environment of growth and empowerment. Let’s continue championing the advancement of women in business and the overall entrepreneurial ecosystem! 🌟🚀 \nREGISTER HERE
URL:https://www.district52.org/event/professional-women-toastmasters-of-la-2024-06-27/
LOCATION:CA
END:VEVENT
END:VCALENDAR