BEGIN:VCALENDAR
VERSION:2.0
PRODID:-//Toastmasters District 52 - ECPv6.15.20//NONSGML v1.0//EN
CALSCALE:GREGORIAN
METHOD:PUBLISH
X-WR-CALNAME:Toastmasters District 52
X-ORIGINAL-URL:https://www.district52.org
X-WR-CALDESC:Events for Toastmasters District 52
REFRESH-INTERVAL;VALUE=DURATION:PT1H
X-Robots-Tag:noindex
X-PUBLISHED-TTL:PT1H
BEGIN:VTIMEZONE
TZID:America/Los_Angeles
BEGIN:DAYLIGHT
TZOFFSETFROM:-0800
TZOFFSETTO:-0700
TZNAME:PDT
DTSTART:20230312T100000
END:DAYLIGHT
BEGIN:STANDARD
TZOFFSETFROM:-0700
TZOFFSETTO:-0800
TZNAME:PST
DTSTART:20231105T090000
END:STANDARD
BEGIN:DAYLIGHT
TZOFFSETFROM:-0800
TZOFFSETTO:-0700
TZNAME:PDT
DTSTART:20240310T100000
END:DAYLIGHT
BEGIN:STANDARD
TZOFFSETFROM:-0700
TZOFFSETTO:-0800
TZNAME:PST
DTSTART:20241103T090000
END:STANDARD
BEGIN:DAYLIGHT
TZOFFSETFROM:-0800
TZOFFSETTO:-0700
TZNAME:PDT
DTSTART:20250309T100000
END:DAYLIGHT
BEGIN:STANDARD
TZOFFSETFROM:-0700
TZOFFSETTO:-0800
TZNAME:PST
DTSTART:20251102T090000
END:STANDARD
END:VTIMEZONE
BEGIN:VEVENT
DTSTART;TZID=America/Los_Angeles:20240613T160000
DTEND;TZID=America/Los_Angeles:20240613T170000
DTSTAMP:20260424T165139
CREATED:20240605T074752Z
LAST-MODIFIED:20240605T074825Z
UID:13476-1718294400-1718298000@www.district52.org
SUMMARY:Team 18+ Club Launch
DESCRIPTION:  \n\n18+ \nDate/Time: June 6th @ 3:00pm (Thursday)\nDate/Time: June 13th @ 4:00pm (Thursday\nLink: https://us02web.zoom.us/meeting/register/tZErf-ivpzssGtTy9uXM7_HGdcNX9Tep5BQv\nREGISTER HERE \nAbout Team 18+ Club: \nTeam 18+ is not just another Toastmasters club. It is a targeted initiative focused on empowering young adults with skills that extend far beyond the lectern. Through this club\, members will: \n\nDevelop confidence in public speaking and leadership skills.\nEnhance their academic and professional prospects.\nBuild valuable community friendships and connections.\nLearn from experienced mentors like yourselves who are committed to making a difference in our youth.\n\n \nREGISTER HERE \nA Call to Seasoned Toastmasters: \nWe are reaching out to you\, our seasoned members\, to join this venture not just as participants\, but as mentors. Your experience and wisdom are invaluable assets that can help shape these young adults into the leaders of tomorrow. By joining Team 18+\, you have the opportunity to give back to the community in a meaningful way\, ensuring a legacy of strong communication and leadership continues to flourish. \nJoin Us in Shaping the Future: \nWe invite you to be a part of this transformative project. Whether you are looking to contribute your skills as a mentor\, or simply wish to support the vibran
URL:https://www.district52.org/event/13472-2024-06-13/
LOCATION:CA
END:VEVENT
BEGIN:VEVENT
DTSTART;TZID=America/Los_Angeles:20240613T190000
DTEND;TZID=America/Los_Angeles:20240613T200000
DTSTAMP:20260424T165139
CREATED:20240605T080439Z
LAST-MODIFIED:20240605T080439Z
UID:13497-1718305200-1718308800@www.district52.org
SUMMARY:Professional Women Toastmasters Of LA
DESCRIPTION:District 52 is introducing a new club dedicated to empowering women entrepreneurs. The club aims to offer support\, resources\, and a community for women navigating the entrepreneurial world. By providing a space where women can connect\, share experiences\, exchange ideas\, and support each other\, we foster an environment of growth and empowerment. Let’s continue championing the advancement of women in business and the overall entrepreneurial ecosystem! 🌟🚀 \nREGISTER HERE
URL:https://www.district52.org/event/professional-women-toastmasters-of-la-2024-06-13/
LOCATION:CA
END:VEVENT
END:VCALENDAR