BEGIN:VCALENDAR
VERSION:2.0
PRODID:-//Toastmasters District 52 - ECPv6.15.20//NONSGML v1.0//EN
CALSCALE:GREGORIAN
METHOD:PUBLISH
X-ORIGINAL-URL:https://www.district52.org
X-WR-CALDESC:Events for Toastmasters District 52
REFRESH-INTERVAL;VALUE=DURATION:PT1H
X-Robots-Tag:noindex
X-PUBLISHED-TTL:PT1H
BEGIN:VTIMEZONE
TZID:America/Los_Angeles
BEGIN:DAYLIGHT
TZOFFSETFROM:-0800
TZOFFSETTO:-0700
TZNAME:PDT
DTSTART:20230312T100000
END:DAYLIGHT
BEGIN:STANDARD
TZOFFSETFROM:-0700
TZOFFSETTO:-0800
TZNAME:PST
DTSTART:20231105T090000
END:STANDARD
BEGIN:DAYLIGHT
TZOFFSETFROM:-0800
TZOFFSETTO:-0700
TZNAME:PDT
DTSTART:20240310T100000
END:DAYLIGHT
BEGIN:STANDARD
TZOFFSETFROM:-0700
TZOFFSETTO:-0800
TZNAME:PST
DTSTART:20241103T090000
END:STANDARD
BEGIN:DAYLIGHT
TZOFFSETFROM:-0800
TZOFFSETTO:-0700
TZNAME:PDT
DTSTART:20250309T100000
END:DAYLIGHT
BEGIN:STANDARD
TZOFFSETFROM:-0700
TZOFFSETTO:-0800
TZNAME:PST
DTSTART:20251102T090000
END:STANDARD
END:VTIMEZONE
BEGIN:VEVENT
DTSTART;TZID=America/Los_Angeles:20240330T090000
DTEND;TZID=America/Los_Angeles:20240330T120000
DTSTAMP:20260425T052158
CREATED:20240309T155624Z
LAST-MODIFIED:20240309T155624Z
UID:12515-1711789200-1711800000@www.district52.org
SUMMARY:Division D Area Speech Contest
DESCRIPTION:Topic: Division D Area Contests (Area D40\, D41\, & D42)\nTime: Mar 30\, 2024 09:00 AM – 12PM Pacific Time (US and Canada)\n\nJoin Zoom Meeting\nhttps://us05web.zoom.us/j/86045002377?pwd=OPq8FYtpvwxG82gGuel9ji1bT7no6n.1\n\nMeeting ID: 860 4500 2377\nPasscode: 0YmnmX
URL:https://www.district52.org/event/division-d-area-speech-contest/
LOCATION:ZOOM
END:VEVENT
END:VCALENDAR