BEGIN:VCALENDAR
VERSION:2.0
PRODID:-//Toastmasters District 52 - ECPv6.15.20//NONSGML v1.0//EN
CALSCALE:GREGORIAN
METHOD:PUBLISH
X-WR-CALNAME:Toastmasters District 52
X-ORIGINAL-URL:https://www.district52.org
X-WR-CALDESC:Events for Toastmasters District 52
REFRESH-INTERVAL;VALUE=DURATION:PT1H
X-Robots-Tag:noindex
X-PUBLISHED-TTL:PT1H
BEGIN:VTIMEZONE
TZID:America/Los_Angeles
BEGIN:DAYLIGHT
TZOFFSETFROM:-0800
TZOFFSETTO:-0700
TZNAME:PDT
DTSTART:20220313T100000
END:DAYLIGHT
BEGIN:STANDARD
TZOFFSETFROM:-0700
TZOFFSETTO:-0800
TZNAME:PST
DTSTART:20221106T090000
END:STANDARD
BEGIN:DAYLIGHT
TZOFFSETFROM:-0800
TZOFFSETTO:-0700
TZNAME:PDT
DTSTART:20230312T100000
END:DAYLIGHT
BEGIN:STANDARD
TZOFFSETFROM:-0700
TZOFFSETTO:-0800
TZNAME:PST
DTSTART:20231105T090000
END:STANDARD
BEGIN:DAYLIGHT
TZOFFSETFROM:-0800
TZOFFSETTO:-0700
TZNAME:PDT
DTSTART:20240310T100000
END:DAYLIGHT
BEGIN:STANDARD
TZOFFSETFROM:-0700
TZOFFSETTO:-0800
TZNAME:PST
DTSTART:20241103T090000
END:STANDARD
END:VTIMEZONE
BEGIN:VEVENT
DTSTART;TZID=America/Los_Angeles:20231114T183000
DTEND;TZID=America/Los_Angeles:20231114T203000
DTSTAMP:20260425T150920
CREATED:20230914T005924Z
LAST-MODIFIED:20231202T224635Z
UID:11442-1699986600-1699993800@www.district52.org
SUMMARY:D52 Monthly Workshops
DESCRIPTION:NEW DATE! For November and December the workshops will be on the second Tuesday nights.\nNEW TIME! Pathways Mini Workshop now 7:30-8:30 PM! Dawn Jenkins will keep going after 8:30 PM if there are questions you need to have answered.  Register at:  https://bit.ly/46a3nKd
URL:https://www.district52.org/event/d52-monthly-workshops/
LOCATION:ZOOM
CATEGORIES:Pathways,Virtual Training,Workshop
END:VEVENT
END:VCALENDAR